Workbook

Sheet Araçlar
A1: Plaka | B1: Araç türü | C1: Mülkiyet | D1: Marka / model | E1: Sorumlu sürücü | F1: Muayene bitiş | G1: Trafik sigortası bitiş | H1: Kasko bitiş | I1: Takograf muayenesi bitiş | J1: Diğer belge | K1: Diğer belge bitiş | L1: Not | M1: En yakın bitiş | N1: Hangi belge | O1: Kalan gün | P1: Durum
M2: =IF(A2="","",IF(COUNT(F2:I2,K2)=0,"",MIN(F2:I2,K2))) | N2: =IF(M2="","",IF(F2=M2,"Muayene",IF(G2=M2,"Trafik sigortası",IF(H2=M2,"Kasko",IF(I2=M2,"Takograf muayenesi",IF(J2<>"",J2,"Diğer belge")))))) | O2: =IF(M2="","",M2-TODAY()) | P2: =IF(A2="","",IF(M2="","Tarih girilmedi",IF(O2<0,"Süresi doldu",IF(O2<='Özet'!$B$4,"Yaklaşıyor","Geçerli"))))
M3: =IF(A3="","",IF(COUNT(F3:I3,K3)=0,"",MIN(F3:I3,K3))) | N3: =IF(M3="","",IF(F3=M3,"Muayene",IF(G3=M3,"Trafik sigortası",IF(H3=M3,"Kasko",IF(I3=M3,"Takograf muayenesi",IF(J3<>"",J3,"Diğer belge")))))) | O3: =IF(M3="","",M3-TODAY()) | P3: =IF(A3="","",IF(M3="","Tarih girilmedi",IF(O3<0,"Süresi doldu",IF(O3<='Özet'!$B$4,"Yaklaşıyor","Geçerli"))))
M4: =IF(A4="","",IF(COUNT(F4:I4,K4)=0,"",MIN(F4:I4,K4))) | N4: =IF(M4="","",IF(F4=M4,"Muayene",IF(G4=M4,"Trafik sigortası",IF(H4=M4,"Kasko",IF(I4=M4,"Takograf muayenesi",IF(J4<>"",J4,"Diğer belge")))))) | O4: =IF(M4="","",M4-TODAY()) | P4: =IF(A4="","",IF(M4="","Tarih girilmedi",IF(O4<0,"Süresi doldu",IF(O4<='Özet'!$B$4,"Yaklaşıyor","Geçerli"))))
M5: =IF(A5="","",IF(COUNT(F5:I5,K5)=0,"",MIN(F5:I5,K5))) | N5: =IF(M5="","",IF(F5=M5,"Muayene",IF(G5=M5,"Trafik sigortası",IF(H5=M5,"Kasko",IF(I5=M5,"Takograf muayenesi",IF(J5<>"",J5,"Diğer belge")))))) | O5: =IF(M5="","",M5-TODAY()) | P5: =IF(A5="","",IF(M5="","Tarih girilmedi",IF(O5<0,"Süresi doldu",IF(O5<='Özet'!$B$4,"Yaklaşıyor","Geçerli"))))
M6: =IF(A6="","",IF(COUNT(F6:I6,K6)=0,"",MIN(F6:I6,K6))) | N6: =IF(M6="","",IF(F6=M6,"Muayene",IF(G6=M6,"Trafik sigortası",IF(H6=M6,"Kasko",IF(I6=M6,"Takograf muayenesi",IF(J6<>"",J6,"Diğer belge")))))) | O6: =IF(M6="","",M6-TODAY()) | P6: =IF(A6="","",IF(M6="","Tarih girilmedi",IF(O6<0,"Süresi doldu",IF(O6<='Özet'!$B$4,"Yaklaşıyor","Geçerli"))))
M7: =IF(A7="","",IF(COUNT(F7:I7,K7)=0,"",MIN(F7:I7,K7))) | N7: =IF(M7="","",IF(F7=M7,"Muayene",IF(G7=M7,"Trafik sigortası",IF(H7=M7,"Kasko",IF(I7=M7,"Takograf muayenesi",IF(J7<>"",J7,"Diğer belge")))))) | O7: =IF(M7="","",M7-TODAY()) | P7: =IF(A7="","",IF(M7="","Tarih girilmedi",IF(O7<0,"Süresi doldu",IF(O7<='Özet'!$B$4,"Yaklaşıyor","Geçerli"))))
M8: =IF(A8="","",IF(COUNT(F8:I8,K8)=0,"",MIN(F8:I8,K8))) | N8: =IF(M8="","",IF(F8=M8,"Muayene",IF(G8=M8,"Trafik sigortası",IF(H8=M8,"Kasko",IF(I8=M8,"Takograf muayenesi",IF(J8<>"",J8,"Diğer belge")))))) | O8: =IF(M8="","",M8-TODAY()) | P8: =IF(A8="","",IF(M8="","Tarih girilmedi",IF(O8<0,"Süresi doldu",IF(O8<='Özet'!$B$4,"Yaklaşıyor","Geçerli"))))
M9: =IF(A9="","",IF(COUNT(F9:I9,K9)=0,"",MIN(F9:I9,K9))) | N9: =IF(M9="","",IF(F9=M9,"Muayene",IF(G9=M9,"Trafik sigortası",IF(H9=M9,"Kasko",IF(I9=M9,"Takograf muayenesi",IF(J9<>"",J9,"Diğer belge")))))) | O9: =IF(M9="","",M9-TODAY()) | P9: =IF(A9="","",IF(M9="","Tarih girilmedi",IF(O9<0,"Süresi doldu",IF(O9<='Özet'!$B$4,"Yaklaşıyor","Geçerli"))))
M10: =IF(A10="","",IF(COUNT(F10:I10,K10)=0,"",MIN(F10:I10,K10))) | N10: =IF(M10="","",IF(F10=M10,"Muayene",IF(G10=M10,"Trafik sigortası",IF(H10=M10,"Kasko",IF(I10=M10,"Takograf muayenesi",IF(J10<>"",J10,"Diğer belge")))))) | O10: =IF(M10="","",M10-TODAY()) | P10: =IF(A10="","",IF(M10="","Tarih girilmedi",IF(O10<0,"Süresi doldu",IF(O10<='Özet'!$B$4,"Yaklaşıyor","Geçerli"))))
M11: =IF(A11="","",IF(COUNT(F11:I11,K11)=0,"",MIN(F11:I11,K11))) | N11: =IF(M11="","",IF(F11=M11,"Muayene",IF(G11=M11,"Trafik sigortası",IF(H11=M11,"Kasko",IF(I11=M11,"Takograf muayenesi",IF(J11<>"",J11,"Diğer belge")))))) | O11: =IF(M11="","",M11-TODAY()) | P11: =IF(A11="","",IF(M11="","Tarih girilmedi",IF(O11<0,"Süresi doldu",IF(O11<='Özet'!$B$4,"Yaklaşıyor","Geçerli"))))
M12: =IF(A12="","",IF(COUNT(F12:I12,K12)=0,"",MIN(F12:I12,K12))) | N12: =IF(M12="","",IF(F12=M12,"Muayene",IF(G12=M12,"Trafik sigortası",IF(H12=M12,"Kasko",IF(I12=M12,"Takograf muayenesi",IF(J12<>"",J12,"Diğer belge")))))) | O12: =IF(M12="","",M12-TODAY()) | P12: =IF(A12="","",IF(M12="","Tarih girilmedi",IF(O12<0,"Süresi doldu",IF(O12<='Özet'!$B$4,"Yaklaşıyor","Geçerli"))))
M13: =IF(A13="","",IF(COUNT(F13:I13,K13)=0,"",MIN(F13:I13,K13))) | N13: =IF(M13="","",IF(F13=M13,"Muayene",IF(G13=M13,"Trafik sigortası",IF(H13=M13,"Kasko",IF(I13=M13,"Takograf muayenesi",IF(J13<>"",J13,"Diğer belge")))))) | O13: =IF(M13="","",M13-TODAY()) | P13: =IF(A13="","",IF(M13="","Tarih girilmedi",IF(O13<0,"Süresi doldu",IF(O13<='Özet'!$B$4,"Yaklaşıyor","Geçerli"))))
... M101: =IF(A101="","",IF(COUNT(F101:I101,K101)=0,"",MIN(F101:I101,K101))) | N101: =IF(M101="","",IF(F101=M101,"Muayene",IF(G101=M101,"Trafik sigortası",IF(H101=M101,"Kasko",IF(I101=M101,"Takograf muayenesi",IF(J101<>"",J101,"Diğer belge")))))) | O101: =IF(M101="","",M101-TODAY()) | P101: =IF(A101="","",IF(M101="","Tarih girilmedi",IF(O101<0,"Süresi doldu",IF(O101<='Özet'!$B$4,"Yaklaşıyor","Geçerli"))))

Sheet Günlük takip
A1: Tarih | B1: Plaka | C1: Sürücü | D1: Çıkış saati | E1: Çıkış km | F1: Dönüş saati | G1: Dönüş km | H1: Güzergâh / görev | I1: Alınan yakıt (litre) | J1: Yakıt tutarı (TL) | K1: Not | L1: Yapılan km | M1: Süre (saat) | N1: Önceki dönüş km | O1: Kontrol
L2: =IF(OR(E2="",G2=""),"",IF(G2<E2,"",G2-E2)) | M2: =IF(OR(D2="",F2=""),"",IF(F2>=D2,F2-D2,F2-D2+1)*24) | N2: =IF(B2="","",0) | O2: =IF(B2="","",IF(COUNTIF('Araçlar'!$A$2:$A$101,B2)=0,"Plaka araç listesinde yok",IF(A2="","Tarih girilmedi",IF(AND(E2<>"",G2<>"",G2<E2),"Dönüş km çıkıştan küçük",IF(OR(E2="",N2=0),"",IF(E2<N2,"Çıkış km önceki dönüşten küçük",IF(E2>N2,"Önceki dönüşten "&TEXT(E2-N2,"0")&" km fazla","")))))))
L3: =IF(OR(E3="",G3=""),"",IF(G3<E3,"",G3-E3)) | M3: =IF(OR(D3="",F3=""),"",IF(F3>=D3,F3-D3,F3-D3+1)*24) | N3: =IF(B3="","",SUMPRODUCT(MAX(($B$2:$B$2=B3)*($G$2:$G$2)))) | O3: =IF(B3="","",IF(COUNTIF('Araçlar'!$A$2:$A$101,B3)=0,"Plaka araç listesinde yok",IF(A3="","Tarih girilmedi",IF(AND(E3<>"",G3<>"",G3<E3),"Dönüş km çıkıştan küçük",IF(OR(E3="",N3=0),"",IF(E3<N3,"Çıkış km önceki dönüşten küçük",IF(E3>N3,"Önceki dönüşten "&TEXT(E3-N3,"0")&" km fazla","")))))))
L4: =IF(OR(E4="",G4=""),"",IF(G4<E4,"",G4-E4)) | M4: =IF(OR(D4="",F4=""),"",IF(F4>=D4,F4-D4,F4-D4+1)*24) | N4: =IF(B4="","",SUMPRODUCT(MAX(($B$2:$B$3=B4)*($G$2:$G$3)))) | O4: =IF(B4="","",IF(COUNTIF('Araçlar'!$A$2:$A$101,B4)=0,"Plaka araç listesinde yok",IF(A4="","Tarih girilmedi",IF(AND(E4<>"",G4<>"",G4<E4),"Dönüş km çıkıştan küçük",IF(OR(E4="",N4=0),"",IF(E4<N4,"Çıkış km önceki dönüşten küçük",IF(E4>N4,"Önceki dönüşten "&TEXT(E4-N4,"0")&" km fazla","")))))))
L5: =IF(OR(E5="",G5=""),"",IF(G5<E5,"",G5-E5)) | M5: =IF(OR(D5="",F5=""),"",IF(F5>=D5,F5-D5,F5-D5+1)*24) | N5: =IF(B5="","",SUMPRODUCT(MAX(($B$2:$B$4=B5)*($G$2:$G$4)))) | O5: =IF(B5="","",IF(COUNTIF('Araçlar'!$A$2:$A$101,B5)=0,"Plaka araç listesinde yok",IF(A5="","Tarih girilmedi",IF(AND(E5<>"",G5<>"",G5<E5),"Dönüş km çıkıştan küçük",IF(OR(E5="",N5=0),"",IF(E5<N5,"Çıkış km önceki dönüşten küçük",IF(E5>N5,"Önceki dönüşten "&TEXT(E5-N5,"0")&" km fazla","")))))))
L6: =IF(OR(E6="",G6=""),"",IF(G6<E6,"",G6-E6)) | M6: =IF(OR(D6="",F6=""),"",IF(F6>=D6,F6-D6,F6-D6+1)*24) | N6: =IF(B6="","",SUMPRODUCT(MAX(($B$2:$B$5=B6)*($G$2:$G$5)))) | O6: =IF(B6="","",IF(COUNTIF('Araçlar'!$A$2:$A$101,B6)=0,"Plaka araç listesinde yok",IF(A6="","Tarih girilmedi",IF(AND(E6<>"",G6<>"",G6<E6),"Dönüş km çıkıştan küçük",IF(OR(E6="",N6=0),"",IF(E6<N6,"Çıkış km önceki dönüşten küçük",IF(E6>N6,"Önceki dönüşten "&TEXT(E6-N6,"0")&" km fazla","")))))))
L7: =IF(OR(E7="",G7=""),"",IF(G7<E7,"",G7-E7)) | M7: =IF(OR(D7="",F7=""),"",IF(F7>=D7,F7-D7,F7-D7+1)*24) | N7: =IF(B7="","",SUMPRODUCT(MAX(($B$2:$B$6=B7)*($G$2:$G$6)))) | O7: =IF(B7="","",IF(COUNTIF('Araçlar'!$A$2:$A$101,B7)=0,"Plaka araç listesinde yok",IF(A7="","Tarih girilmedi",IF(AND(E7<>"",G7<>"",G7<E7),"Dönüş km çıkıştan küçük",IF(OR(E7="",N7=0),"",IF(E7<N7,"Çıkış km önceki dönüşten küçük",IF(E7>N7,"Önceki dönüşten "&TEXT(E7-N7,"0")&" km fazla","")))))))
L8: =IF(OR(E8="",G8=""),"",IF(G8<E8,"",G8-E8)) | M8: =IF(OR(D8="",F8=""),"",IF(F8>=D8,F8-D8,F8-D8+1)*24) | N8: =IF(B8="","",SUMPRODUCT(MAX(($B$2:$B$7=B8)*($G$2:$G$7)))) | O8: =IF(B8="","",IF(COUNTIF('Araçlar'!$A$2:$A$101,B8)=0,"Plaka araç listesinde yok",IF(A8="","Tarih girilmedi",IF(AND(E8<>"",G8<>"",G8<E8),"Dönüş km çıkıştan küçük",IF(OR(E8="",N8=0),"",IF(E8<N8,"Çıkış km önceki dönüşten küçük",IF(E8>N8,"Önceki dönüşten "&TEXT(E8-N8,"0")&" km fazla","")))))))
L9: =IF(OR(E9="",G9=""),"",IF(G9<E9,"",G9-E9)) | M9: =IF(OR(D9="",F9=""),"",IF(F9>=D9,F9-D9,F9-D9+1)*24) | N9: =IF(B9="","",SUMPRODUCT(MAX(($B$2:$B$8=B9)*($G$2:$G$8)))) | O9: =IF(B9="","",IF(COUNTIF('Araçlar'!$A$2:$A$101,B9)=0,"Plaka araç listesinde yok",IF(A9="","Tarih girilmedi",IF(AND(E9<>"",G9<>"",G9<E9),"Dönüş km çıkıştan küçük",IF(OR(E9="",N9=0),"",IF(E9<N9,"Çıkış km önceki dönüşten küçük",IF(E9>N9,"Önceki dönüşten "&TEXT(E9-N9,"0")&" km fazla","")))))))
L10: =IF(OR(E10="",G10=""),"",IF(G10<E10,"",G10-E10)) | M10: =IF(OR(D10="",F10=""),"",IF(F10>=D10,F10-D10,F10-D10+1)*24) | N10: =IF(B10="","",SUMPRODUCT(MAX(($B$2:$B$9=B10)*($G$2:$G$9)))) | O10: =IF(B10="","",IF(COUNTIF('Araçlar'!$A$2:$A$101,B10)=0,"Plaka araç listesinde yok",IF(A10="","Tarih girilmedi",IF(AND(E10<>"",G10<>"",G10<E10),"Dönüş km çıkıştan küçük",IF(OR(E10="",N10=0),"",IF(E10<N10,"Çıkış km önceki dönüşten küçük",IF(E10>N10,"Önceki dönüşten "&TEXT(E10-N10,"0")&" km fazla","")))))))
L11: =IF(OR(E11="",G11=""),"",IF(G11<E11,"",G11-E11)) | M11: =IF(OR(D11="",F11=""),"",IF(F11>=D11,F11-D11,F11-D11+1)*24) | N11: =IF(B11="","",SUMPRODUCT(MAX(($B$2:$B$10=B11)*($G$2:$G$10)))) | O11: =IF(B11="","",IF(COUNTIF('Araçlar'!$A$2:$A$101,B11)=0,"Plaka araç listesinde yok",IF(A11="","Tarih girilmedi",IF(AND(E11<>"",G11<>"",G11<E11),"Dönüş km çıkıştan küçük",IF(OR(E11="",N11=0),"",IF(E11<N11,"Çıkış km önceki dönüşten küçük",IF(E11>N11,"Önceki dönüşten "&TEXT(E11-N11,"0")&" km fazla","")))))))
L12: =IF(OR(E12="",G12=""),"",IF(G12<E12,"",G12-E12)) | M12: =IF(OR(D12="",F12=""),"",IF(F12>=D12,F12-D12,F12-D12+1)*24) | N12: =IF(B12="","",SUMPRODUCT(MAX(($B$2:$B$11=B12)*($G$2:$G$11)))) | O12: =IF(B12="","",IF(COUNTIF('Araçlar'!$A$2:$A$101,B12)=0,"Plaka araç listesinde yok",IF(A12="","Tarih girilmedi",IF(AND(E12<>"",G12<>"",G12<E12),"Dönüş km çıkıştan küçük",IF(OR(E12="",N12=0),"",IF(E12<N12,"Çıkış km önceki dönüşten küçük",IF(E12>N12,"Önceki dönüşten "&TEXT(E12-N12,"0")&" km fazla","")))))))
L13: =IF(OR(E13="",G13=""),"",IF(G13<E13,"",G13-E13)) | M13: =IF(OR(D13="",F13=""),"",IF(F13>=D13,F13-D13,F13-D13+1)*24) | N13: =IF(B13="","",SUMPRODUCT(MAX(($B$2:$B$12=B13)*($G$2:$G$12)))) | O13: =IF(B13="","",IF(COUNTIF('Araçlar'!$A$2:$A$101,B13)=0,"Plaka araç listesinde yok",IF(A13="","Tarih girilmedi",IF(AND(E13<>"",G13<>"",G13<E13),"Dönüş km çıkıştan küçük",IF(OR(E13="",N13=0),"",IF(E13<N13,"Çıkış km önceki dönüşten küçük",IF(E13>N13,"Önceki dönüşten "&TEXT(E13-N13,"0")&" km fazla","")))))))
L14: =IF(OR(E14="",G14=""),"",IF(G14<E14,"",G14-E14)) | M14: =IF(OR(D14="",F14=""),"",IF(F14>=D14,F14-D14,F14-D14+1)*24) | N14: =IF(B14="","",SUMPRODUCT(MAX(($B$2:$B$13=B14)*($G$2:$G$13)))) | O14: =IF(B14="","",IF(COUNTIF('Araçlar'!$A$2:$A$101,B14)=0,"Plaka araç listesinde yok",IF(A14="","Tarih girilmedi",IF(AND(E14<>"",G14<>"",G14<E14),"Dönüş km çıkıştan küçük",IF(OR(E14="",N14=0),"",IF(E14<N14,"Çıkış km önceki dönüşten küçük",IF(E14>N14,"Önceki dönüşten "&TEXT(E14-N14,"0")&" km fazla","")))))))
L15: =IF(OR(E15="",G15=""),"",IF(G15<E15,"",G15-E15)) | M15: =IF(OR(D15="",F15=""),"",IF(F15>=D15,F15-D15,F15-D15+1)*24) | N15: =IF(B15="","",SUMPRODUCT(MAX(($B$2:$B$14=B15)*($G$2:$G$14)))) | O15: =IF(B15="","",IF(COUNTIF('Araçlar'!$A$2:$A$101,B15)=0,"Plaka araç listesinde yok",IF(A15="","Tarih girilmedi",IF(AND(E15<>"",G15<>"",G15<E15),"Dönüş km çıkıştan küçük",IF(OR(E15="",N15=0),"",IF(E15<N15,"Çıkış km önceki dönüşten küçük",IF(E15>N15,"Önceki dönüşten "&TEXT(E15-N15,"0")&" km fazla","")))))))
L16: =IF(OR(E16="",G16=""),"",IF(G16<E16,"",G16-E16)) | M16: =IF(OR(D16="",F16=""),"",IF(F16>=D16,F16-D16,F16-D16+1)*24) | N16: =IF(B16="","",SUMPRODUCT(MAX(($B$2:$B$15=B16)*($G$2:$G$15)))) | O16: =IF(B16="","",IF(COUNTIF('Araçlar'!$A$2:$A$101,B16)=0,"Plaka araç listesinde yok",IF(A16="","Tarih girilmedi",IF(AND(E16<>"",G16<>"",G16<E16),"Dönüş km çıkıştan küçük",IF(OR(E16="",N16=0),"",IF(E16<N16,"Çıkış km önceki dönüşten küçük",IF(E16>N16,"Önceki dönüşten "&TEXT(E16-N16,"0")&" km fazla","")))))))
L17: =IF(OR(E17="",G17=""),"",IF(G17<E17,"",G17-E17)) | M17: =IF(OR(D17="",F17=""),"",IF(F17>=D17,F17-D17,F17-D17+1)*24) | N17: =IF(B17="","",SUMPRODUCT(MAX(($B$2:$B$16=B17)*($G$2:$G$16)))) | O17: =IF(B17="","",IF(COUNTIF('Araçlar'!$A$2:$A$101,B17)=0,"Plaka araç listesinde yok",IF(A17="","Tarih girilmedi",IF(AND(E17<>"",G17<>"",G17<E17),"Dönüş km çıkıştan küçük",IF(OR(E17="",N17=0),"",IF(E17<N17,"Çıkış km önceki dönüşten küçük",IF(E17>N17,"Önceki dönüşten "&TEXT(E17-N17,"0")&" km fazla","")))))))
L18: =IF(OR(E18="",G18=""),"",IF(G18<E18,"",G18-E18)) | M18: =IF(OR(D18="",F18=""),"",IF(F18>=D18,F18-D18,F18-D18+1)*24) | N18: =IF(B18="","",SUMPRODUCT(MAX(($B$2:$B$17=B18)*($G$2:$G$17)))) | O18: =IF(B18="","",IF(COUNTIF('Araçlar'!$A$2:$A$101,B18)=0,"Plaka araç listesinde yok",IF(A18="","Tarih girilmedi",IF(AND(E18<>"",G18<>"",G18<E18),"Dönüş km çıkıştan küçük",IF(OR(E18="",N18=0),"",IF(E18<N18,"Çıkış km önceki dönüşten küçük",IF(E18>N18,"Önceki dönüşten "&TEXT(E18-N18,"0")&" km fazla","")))))))
L19: =IF(OR(E19="",G19=""),"",IF(G19<E19,"",G19-E19)) | M19: =IF(OR(D19="",F19=""),"",IF(F19>=D19,F19-D19,F19-D19+1)*24) | N19: =IF(B19="","",SUMPRODUCT(MAX(($B$2:$B$18=B19)*($G$2:$G$18)))) | O19: =IF(B19="","",IF(COUNTIF('Araçlar'!$A$2:$A$101,B19)=0,"Plaka araç listesinde yok",IF(A19="","Tarih girilmedi",IF(AND(E19<>"",G19<>"",G19<E19),"Dönüş km çıkıştan küçük",IF(OR(E19="",N19=0),"",IF(E19<N19,"Çıkış km önceki dönüşten küçük",IF(E19>N19,"Önceki dönüşten "&TEXT(E19-N19,"0")&" km fazla","")))))))
L20: =IF(OR(E20="",G20=""),"",IF(G20<E20,"",G20-E20)) | M20: =IF(OR(D20="",F20=""),"",IF(F20>=D20,F20-D20,F20-D20+1)*24) | N20: =IF(B20="","",SUMPRODUCT(MAX(($B$2:$B$19=B20)*($G$2:$G$19)))) | O20: =IF(B20="","",IF(COUNTIF('Araçlar'!$A$2:$A$101,B20)=0,"Plaka araç listesinde yok",IF(A20="","Tarih girilmedi",IF(AND(E20<>"",G20<>"",G20<E20),"Dönüş km çıkıştan küçük",IF(OR(E20="",N20=0),"",IF(E20<N20,"Çıkış km önceki dönüşten küçük",IF(E20>N20,"Önceki dönüşten "&TEXT(E20-N20,"0")&" km fazla","")))))))
L21: =IF(OR(E21="",G21=""),"",IF(G21<E21,"",G21-E21)) | M21: =IF(OR(D21="",F21=""),"",IF(F21>=D21,F21-D21,F21-D21+1)*24) | N21: =IF(B21="","",SUMPRODUCT(MAX(($B$2:$B$20=B21)*($G$2:$G$20)))) | O21: =IF(B21="","",IF(COUNTIF('Araçlar'!$A$2:$A$101,B21)=0,"Plaka araç listesinde yok",IF(A21="","Tarih girilmedi",IF(AND(E21<>"",G21<>"",G21<E21),"Dönüş km çıkıştan küçük",IF(OR(E21="",N21=0),"",IF(E21<N21,"Çıkış km önceki dönüşten küçük",IF(E21>N21,"Önceki dönüşten "&TEXT(E21-N21,"0")&" km fazla","")))))))
L22: =IF(OR(E22="",G22=""),"",IF(G22<E22,"",G22-E22)) | M22: =IF(OR(D22="",F22=""),"",IF(F22>=D22,F22-D22,F22-D22+1)*24) | N22: =IF(B22="","",SUMPRODUCT(MAX(($B$2:$B$21=B22)*($G$2:$G$21)))) | O22: =IF(B22="","",IF(COUNTIF('Araçlar'!$A$2:$A$101,B22)=0,"Plaka araç listesinde yok",IF(A22="","Tarih girilmedi",IF(AND(E22<>"",G22<>"",G22<E22),"Dönüş km çıkıştan küçük",IF(OR(E22="",N22=0),"",IF(E22<N22,"Çıkış km önceki dönüşten küçük",IF(E22>N22,"Önceki dönüşten "&TEXT(E22-N22,"0")&" km fazla","")))))))
L23: =IF(OR(E23="",G23=""),"",IF(G23<E23,"",G23-E23)) | M23: =IF(OR(D23="",F23=""),"",IF(F23>=D23,F23-D23,F23-D23+1)*24) | N23: =IF(B23="","",SUMPRODUCT(MAX(($B$2:$B$22=B23)*($G$2:$G$22)))) | O23: =IF(B23="","",IF(COUNTIF('Araçlar'!$A$2:$A$101,B23)=0,"Plaka araç listesinde yok",IF(A23="","Tarih girilmedi",IF(AND(E23<>"",G23<>"",G23<E23),"Dönüş km çıkıştan küçük",IF(OR(E23="",N23=0),"",IF(E23<N23,"Çıkış km önceki dönüşten küçük",IF(E23>N23,"Önceki dönüşten "&TEXT(E23-N23,"0")&" km fazla","")))))))
L24: =IF(OR(E24="",G24=""),"",IF(G24<E24,"",G24-E24)) | M24: =IF(OR(D24="",F24=""),"",IF(F24>=D24,F24-D24,F24-D24+1)*24) | N24: =IF(B24="","",SUMPRODUCT(MAX(($B$2:$B$23=B24)*($G$2:$G$23)))) | O24: =IF(B24="","",IF(COUNTIF('Araçlar'!$A$2:$A$101,B24)=0,"Plaka araç listesinde yok",IF(A24="","Tarih girilmedi",IF(AND(E24<>"",G24<>"",G24<E24),"Dönüş km çıkıştan küçük",IF(OR(E24="",N24=0),"",IF(E24<N24,"Çıkış km önceki dönüşten küçük",IF(E24>N24,"Önceki dönüşten "&TEXT(E24-N24,"0")&" km fazla","")))))))
L25: =IF(OR(E25="",G25=""),"",IF(G25<E25,"",G25-E25)) | M25: =IF(OR(D25="",F25=""),"",IF(F25>=D25,F25-D25,F25-D25+1)*24) | N25: =IF(B25="","",SUMPRODUCT(MAX(($B$2:$B$24=B25)*($G$2:$G$24)))) | O25: =IF(B25="","",IF(COUNTIF('Araçlar'!$A$2:$A$101,B25)=0,"Plaka araç listesinde yok",IF(A25="","Tarih girilmedi",IF(AND(E25<>"",G25<>"",G25<E25),"Dönüş km çıkıştan küçük",IF(OR(E25="",N25=0),"",IF(E25<N25,"Çıkış km önceki dönüşten küçük",IF(E25>N25,"Önceki dönüşten "&TEXT(E25-N25,"0")&" km fazla","")))))))
L26: =IF(OR(E26="",G26=""),"",IF(G26<E26,"",G26-E26)) | M26: =IF(OR(D26="",F26=""),"",IF(F26>=D26,F26-D26,F26-D26+1)*24) | N26: =IF(B26="","",SUMPRODUCT(MAX(($B$2:$B$25=B26)*($G$2:$G$25)))) | O26: =IF(B26="","",IF(COUNTIF('Araçlar'!$A$2:$A$101,B26)=0,"Plaka araç listesinde yok",IF(A26="","Tarih girilmedi",IF(AND(E26<>"",G26<>"",G26<E26),"Dönüş km çıkıştan küçük",IF(OR(E26="",N26=0),"",IF(E26<N26,"Çıkış km önceki dönüşten küçük",IF(E26>N26,"Önceki dönüşten "&TEXT(E26-N26,"0")&" km fazla","")))))))
L27: =IF(OR(E27="",G27=""),"",IF(G27<E27,"",G27-E27)) | M27: =IF(OR(D27="",F27=""),"",IF(F27>=D27,F27-D27,F27-D27+1)*24) | N27: =IF(B27="","",SUMPRODUCT(MAX(($B$2:$B$26=B27)*($G$2:$G$26)))) | O27: =IF(B27="","",IF(COUNTIF('Araçlar'!$A$2:$A$101,B27)=0,"Plaka araç listesinde yok",IF(A27="","Tarih girilmedi",IF(AND(E27<>"",G27<>"",G27<E27),"Dönüş km çıkıştan küçük",IF(OR(E27="",N27=0),"",IF(E27<N27,"Çıkış km önceki dönüşten küçük",IF(E27>N27,"Önceki dönüşten "&TEXT(E27-N27,"0")&" km fazla","")))))))
L28: =IF(OR(E28="",G28=""),"",IF(G28<E28,"",G28-E28)) | M28: =IF(OR(D28="",F28=""),"",IF(F28>=D28,F28-D28,F28-D28+1)*24) | N28: =IF(B28="","",SUMPRODUCT(MAX(($B$2:$B$27=B28)*($G$2:$G$27)))) | O28: =IF(B28="","",IF(COUNTIF('Araçlar'!$A$2:$A$101,B28)=0,"Plaka araç listesinde yok",IF(A28="","Tarih girilmedi",IF(AND(E28<>"",G28<>"",G28<E28),"Dönüş km çıkıştan küçük",IF(OR(E28="",N28=0),"",IF(E28<N28,"Çıkış km önceki dönüşten küçük",IF(E28>N28,"Önceki dönüşten "&TEXT(E28-N28,"0")&" km fazla","")))))))
L29: =IF(OR(E29="",G29=""),"",IF(G29<E29,"",G29-E29)) | M29: =IF(OR(D29="",F29=""),"",IF(F29>=D29,F29-D29,F29-D29+1)*24) | N29: =IF(B29="","",SUMPRODUCT(MAX(($B$2:$B$28=B29)*($G$2:$G$28)))) | O29: =IF(B29="","",IF(COUNTIF('Araçlar'!$A$2:$A$101,B29)=0,"Plaka araç listesinde yok",IF(A29="","Tarih girilmedi",IF(AND(E29<>"",G29<>"",G29<E29),"Dönüş km çıkıştan küçük",IF(OR(E29="",N29=0),"",IF(E29<N29,"Çıkış km önceki dönüşten küçük",IF(E29>N29,"Önceki dönüşten "&TEXT(E29-N29,"0")&" km fazla","")))))))
L30: =IF(OR(E30="",G30=""),"",IF(G30<E30,"",G30-E30)) | M30: =IF(OR(D30="",F30=""),"",IF(F30>=D30,F30-D30,F30-D30+1)*24) | N30: =IF(B30="","",SUMPRODUCT(MAX(($B$2:$B$29=B30)*($G$2:$G$29)))) | O30: =IF(B30="","",IF(COUNTIF('Araçlar'!$A$2:$A$101,B30)=0,"Plaka araç listesinde yok",IF(A30="","Tarih girilmedi",IF(AND(E30<>"",G30<>"",G30<E30),"Dönüş km çıkıştan küçük",IF(OR(E30="",N30=0),"",IF(E30<N30,"Çıkış km önceki dönüşten küçük",IF(E30>N30,"Önceki dönüşten "&TEXT(E30-N30,"0")&" km fazla","")))))))
L31: =IF(OR(E31="",G31=""),"",IF(G31<E31,"",G31-E31)) | M31: =IF(OR(D31="",F31=""),"",IF(F31>=D31,F31-D31,F31-D31+1)*24) | N31: =IF(B31="","",SUMPRODUCT(MAX(($B$2:$B$30=B31)*($G$2:$G$30)))) | O31: =IF(B31="","",IF(COUNTIF('Araçlar'!$A$2:$A$101,B31)=0,"Plaka araç listesinde yok",IF(A31="","Tarih girilmedi",IF(AND(E31<>"",G31<>"",G31<E31),"Dönüş km çıkıştan küçük",IF(OR(E31="",N31=0),"",IF(E31<N31,"Çıkış km önceki dönüşten küçük",IF(E31>N31,"Önceki dönüşten "&TEXT(E31-N31,"0")&" km fazla","")))))))
L32: =IF(OR(E32="",G32=""),"",IF(G32<E32,"",G32-E32)) | M32: =IF(OR(D32="",F32=""),"",IF(F32>=D32,F32-D32,F32-D32+1)*24) | N32: =IF(B32="","",SUMPRODUCT(MAX(($B$2:$B$31=B32)*($G$2:$G$31)))) | O32: =IF(B32="","",IF(COUNTIF('Araçlar'!$A$2:$A$101,B32)=0,"Plaka araç listesinde yok",IF(A32="","Tarih girilmedi",IF(AND(E32<>"",G32<>"",G32<E32),"Dönüş km çıkıştan küçük",IF(OR(E32="",N32=0),"",IF(E32<N32,"Çıkış km önceki dönüşten küçük",IF(E32>N32,"Önceki dönüşten "&TEXT(E32-N32,"0")&" km fazla","")))))))
L33: =IF(OR(E33="",G33=""),"",IF(G33<E33,"",G33-E33)) | M33: =IF(OR(D33="",F33=""),"",IF(F33>=D33,F33-D33,F33-D33+1)*24) | N33: =IF(B33="","",SUMPRODUCT(MAX(($B$2:$B$32=B33)*($G$2:$G$32)))) | O33: =IF(B33="","",IF(COUNTIF('Araçlar'!$A$2:$A$101,B33)=0,"Plaka araç listesinde yok",IF(A33="","Tarih girilmedi",IF(AND(E33<>"",G33<>"",G33<E33),"Dönüş km çıkıştan küçük",IF(OR(E33="",N33=0),"",IF(E33<N33,"Çıkış km önceki dönüşten küçük",IF(E33>N33,"Önceki dönüşten "&TEXT(E33-N33,"0")&" km fazla","")))))))
L34: =IF(OR(E34="",G34=""),"",IF(G34<E34,"",G34-E34)) | M34: =IF(OR(D34="",F34=""),"",IF(F34>=D34,F34-D34,F34-D34+1)*24) | N34: =IF(B34="","",SUMPRODUCT(MAX(($B$2:$B$33=B34)*($G$2:$G$33)))) | O34: =IF(B34="","",IF(COUNTIF('Araçlar'!$A$2:$A$101,B34)=0,"Plaka araç listesinde yok",IF(A34="","Tarih girilmedi",IF(AND(E34<>"",G34<>"",G34<E34),"Dönüş km çıkıştan küçük",IF(OR(E34="",N34=0),"",IF(E34<N34,"Çıkış km önceki dönüşten küçük",IF(E34>N34,"Önceki dönüşten "&TEXT(E34-N34,"0")&" km fazla","")))))))
L35: =IF(OR(E35="",G35=""),"",IF(G35<E35,"",G35-E35)) | M35: =IF(OR(D35="",F35=""),"",IF(F35>=D35,F35-D35,F35-D35+1)*24) | N35: =IF(B35="","",SUMPRODUCT(MAX(($B$2:$B$34=B35)*($G$2:$G$34)))) | O35: =IF(B35="","",IF(COUNTIF('Araçlar'!$A$2:$A$101,B35)=0,"Plaka araç listesinde yok",IF(A35="","Tarih girilmedi",IF(AND(E35<>"",G35<>"",G35<E35),"Dönüş km çıkıştan küçük",IF(OR(E35="",N35=0),"",IF(E35<N35,"Çıkış km önceki dönüşten küçük",IF(E35>N35,"Önceki dönüşten "&TEXT(E35-N35,"0")&" km fazla","")))))))
L36: =IF(OR(E36="",G36=""),"",IF(G36<E36,"",G36-E36)) | M36: =IF(OR(D36="",F36=""),"",IF(F36>=D36,F36-D36,F36-D36+1)*24) | N36: =IF(B36="","",SUMPRODUCT(MAX(($B$2:$B$35=B36)*($G$2:$G$35)))) | O36: =IF(B36="","",IF(COUNTIF('Araçlar'!$A$2:$A$101,B36)=0,"Plaka araç listesinde yok",IF(A36="","Tarih girilmedi",IF(AND(E36<>"",G36<>"",G36<E36),"Dönüş km çıkıştan küçük",IF(OR(E36="",N36=0),"",IF(E36<N36,"Çıkış km önceki dönüşten küçük",IF(E36>N36,"Önceki dönüşten "&TEXT(E36-N36,"0")&" km fazla","")))))))
L37: =IF(OR(E37="",G37=""),"",IF(G37<E37,"",G37-E37)) | M37: =IF(OR(D37="",F37=""),"",IF(F37>=D37,F37-D37,F37-D37+1)*24) | N37: =IF(B37="","",SUMPRODUCT(MAX(($B$2:$B$36=B37)*($G$2:$G$36)))) | O37: =IF(B37="","",IF(COUNTIF('Araçlar'!$A$2:$A$101,B37)=0,"Plaka araç listesinde yok",IF(A37="","Tarih girilmedi",IF(AND(E37<>"",G37<>"",G37<E37),"Dönüş km çıkıştan küçük",IF(OR(E37="",N37=0),"",IF(E37<N37,"Çıkış km önceki dönüşten küçük",IF(E37>N37,"Önceki dönüşten "&TEXT(E37-N37,"0")&" km fazla","")))))))
L38: =IF(OR(E38="",G38=""),"",IF(G38<E38,"",G38-E38)) | M38: =IF(OR(D38="",F38=""),"",IF(F38>=D38,F38-D38,F38-D38+1)*24) | N38: =IF(B38="","",SUMPRODUCT(MAX(($B$2:$B$37=B38)*($G$2:$G$37)))) | O38: =IF(B38="","",IF(COUNTIF('Araçlar'!$A$2:$A$101,B38)=0,"Plaka araç listesinde yok",IF(A38="","Tarih girilmedi",IF(AND(E38<>"",G38<>"",G38<E38),"Dönüş km çıkıştan küçük",IF(OR(E38="",N38=0),"",IF(E38<N38,"Çıkış km önceki dönüşten küçük",IF(E38>N38,"Önceki dönüşten "&TEXT(E38-N38,"0")&" km fazla","")))))))
L39: =IF(OR(E39="",G39=""),"",IF(G39<E39,"",G39-E39)) | M39: =IF(OR(D39="",F39=""),"",IF(F39>=D39,F39-D39,F39-D39+1)*24) | N39: =IF(B39="","",SUMPRODUCT(MAX(($B$2:$B$38=B39)*($G$2:$G$38)))) | O39: =IF(B39="","",IF(COUNTIF('Araçlar'!$A$2:$A$101,B39)=0,"Plaka araç listesinde yok",IF(A39="","Tarih girilmedi",IF(AND(E39<>"",G39<>"",G39<E39),"Dönüş km çıkıştan küçük",IF(OR(E39="",N39=0),"",IF(E39<N39,"Çıkış km önceki dönüşten küçük",IF(E39>N39,"Önceki dönüşten "&TEXT(E39-N39,"0")&" km fazla","")))))))
L40: =IF(OR(E40="",G40=""),"",IF(G40<E40,"",G40-E40)) | M40: =IF(OR(D40="",F40=""),"",IF(F40>=D40,F40-D40,F40-D40+1)*24) | N40: =IF(B40="","",SUMPRODUCT(MAX(($B$2:$B$39=B40)*($G$2:$G$39)))) | O40: =IF(B40="","",IF(COUNTIF('Araçlar'!$A$2:$A$101,B40)=0,"Plaka araç listesinde yok",IF(A40="","Tarih girilmedi",IF(AND(E40<>"",G40<>"",G40<E40),"Dönüş km çıkıştan küçük",IF(OR(E40="",N40=0),"",IF(E40<N40,"Çıkış km önceki dönüşten küçük",IF(E40>N40,"Önceki dönüşten "&TEXT(E40-N40,"0")&" km fazla","")))))))
L41: =IF(OR(E41="",G41=""),"",IF(G41<E41,"",G41-E41)) | M41: =IF(OR(D41="",F41=""),"",IF(F41>=D41,F41-D41,F41-D41+1)*24) | N41: =IF(B41="","",SUMPRODUCT(MAX(($B$2:$B$40=B41)*($G$2:$G$40)))) | O41: =IF(B41="","",IF(COUNTIF('Araçlar'!$A$2:$A$101,B41)=0,"Plaka araç listesinde yok",IF(A41="","Tarih girilmedi",IF(AND(E41<>"",G41<>"",G41<E41),"Dönüş km çıkıştan küçük",IF(OR(E41="",N41=0),"",IF(E41<N41,"Çıkış km önceki dönüşten küçük",IF(E41>N41,"Önceki dönüşten "&TEXT(E41-N41,"0")&" km fazla","")))))))
L42: =IF(OR(E42="",G42=""),"",IF(G42<E42,"",G42-E42)) | M42: =IF(OR(D42="",F42=""),"",IF(F42>=D42,F42-D42,F42-D42+1)*24) | N42: =IF(B42="","",SUMPRODUCT(MAX(($B$2:$B$41=B42)*($G$2:$G$41)))) | O42: =IF(B42="","",IF(COUNTIF('Araçlar'!$A$2:$A$101,B42)=0,"Plaka araç listesinde yok",IF(A42="","Tarih girilmedi",IF(AND(E42<>"",G42<>"",G42<E42),"Dönüş km çıkıştan küçük",IF(OR(E42="",N42=0),"",IF(E42<N42,"Çıkış km önceki dönüşten küçük",IF(E42>N42,"Önceki dönüşten "&TEXT(E42-N42,"0")&" km fazla","")))))))
L43: =IF(OR(E43="",G43=""),"",IF(G43<E43,"",G43-E43)) | M43: =IF(OR(D43="",F43=""),"",IF(F43>=D43,F43-D43,F43-D43+1)*24) | N43: =IF(B43="","",SUMPRODUCT(MAX(($B$2:$B$42=B43)*($G$2:$G$42)))) | O43: =IF(B43="","",IF(COUNTIF('Araçlar'!$A$2:$A$101,B43)=0,"Plaka araç listesinde yok",IF(A43="","Tarih girilmedi",IF(AND(E43<>"",G43<>"",G43<E43),"Dönüş km çıkıştan küçük",IF(OR(E43="",N43=0),"",IF(E43<N43,"Çıkış km önceki dönüşten küçük",IF(E43>N43,"Önceki dönüşten "&TEXT(E43-N43,"0")&" km fazla","")))))))
L44: =IF(OR(E44="",G44=""),"",IF(G44<E44,"",G44-E44)) | M44: =IF(OR(D44="",F44=""),"",IF(F44>=D44,F44-D44,F44-D44+1)*24) | N44: =IF(B44="","",SUMPRODUCT(MAX(($B$2:$B$43=B44)*($G$2:$G$43)))) | O44: =IF(B44="","",IF(COUNTIF('Araçlar'!$A$2:$A$101,B44)=0,"Plaka araç listesinde yok",IF(A44="","Tarih girilmedi",IF(AND(E44<>"",G44<>"",G44<E44),"Dönüş km çıkıştan küçük",IF(OR(E44="",N44=0),"",IF(E44<N44,"Çıkış km önceki dönüşten küçük",IF(E44>N44,"Önceki dönüşten "&TEXT(E44-N44,"0")&" km fazla","")))))))
L45: =IF(OR(E45="",G45=""),"",IF(G45<E45,"",G45-E45)) | M45: =IF(OR(D45="",F45=""),"",IF(F45>=D45,F45-D45,F45-D45+1)*24) | N45: =IF(B45="","",SUMPRODUCT(MAX(($B$2:$B$44=B45)*($G$2:$G$44)))) | O45: =IF(B45="","",IF(COUNTIF('Araçlar'!$A$2:$A$101,B45)=0,"Plaka araç listesinde yok",IF(A45="","Tarih girilmedi",IF(AND(E45<>"",G45<>"",G45<E45),"Dönüş km çıkıştan küçük",IF(OR(E45="",N45=0),"",IF(E45<N45,"Çıkış km önceki dönüşten küçük",IF(E45>N45,"Önceki dönüşten "&TEXT(E45-N45,"0")&" km fazla","")))))))
L46: =IF(OR(E46="",G46=""),"",IF(G46<E46,"",G46-E46)) | M46: =IF(OR(D46="",F46=""),"",IF(F46>=D46,F46-D46,F46-D46+1)*24) | N46: =IF(B46="","",SUMPRODUCT(MAX(($B$2:$B$45=B46)*($G$2:$G$45)))) | O46: =IF(B46="","",IF(COUNTIF('Araçlar'!$A$2:$A$101,B46)=0,"Plaka araç listesinde yok",IF(A46="","Tarih girilmedi",IF(AND(E46<>"",G46<>"",G46<E46),"Dönüş km çıkıştan küçük",IF(OR(E46="",N46=0),"",IF(E46<N46,"Çıkış km önceki dönüşten küçük",IF(E46>N46,"Önceki dönüşten "&TEXT(E46-N46,"0")&" km fazla","")))))))
L47: =IF(OR(E47="",G47=""),"",IF(G47<E47,"",G47-E47)) | M47: =IF(OR(D47="",F47=""),"",IF(F47>=D47,F47-D47,F47-D47+1)*24) | N47: =IF(B47="","",SUMPRODUCT(MAX(($B$2:$B$46=B47)*($G$2:$G$46)))) | O47: =IF(B47="","",IF(COUNTIF('Araçlar'!$A$2:$A$101,B47)=0,"Plaka araç listesinde yok",IF(A47="","Tarih girilmedi",IF(AND(E47<>"",G47<>"",G47<E47),"Dönüş km çıkıştan küçük",IF(OR(E47="",N47=0),"",IF(E47<N47,"Çıkış km önceki dönüşten küçük",IF(E47>N47,"Önceki dönüşten "&TEXT(E47-N47,"0")&" km fazla","")))))))
L48: =IF(OR(E48="",G48=""),"",IF(G48<E48,"",G48-E48)) | M48: =IF(OR(D48="",F48=""),"",IF(F48>=D48,F48-D48,F48-D48+1)*24) | N48: =IF(B48="","",SUMPRODUCT(MAX(($B$2:$B$47=B48)*($G$2:$G$47)))) | O48: =IF(B48="","",IF(COUNTIF('Araçlar'!$A$2:$A$101,B48)=0,"Plaka araç listesinde yok",IF(A48="","Tarih girilmedi",IF(AND(E48<>"",G48<>"",G48<E48),"Dönüş km çıkıştan küçük",IF(OR(E48="",N48=0),"",IF(E48<N48,"Çıkış km önceki dönüşten küçük",IF(E48>N48,"Önceki dönüşten "&TEXT(E48-N48,"0")&" km fazla","")))))))
L49: =IF(OR(E49="",G49=""),"",IF(G49<E49,"",G49-E49)) | M49: =IF(OR(D49="",F49=""),"",IF(F49>=D49,F49-D49,F49-D49+1)*24) | N49: =IF(B49="","",SUMPRODUCT(MAX(($B$2:$B$48=B49)*($G$2:$G$48)))) | O49: =IF(B49="","",IF(COUNTIF('Araçlar'!$A$2:$A$101,B49)=0,"Plaka araç listesinde yok",IF(A49="","Tarih girilmedi",IF(AND(E49<>"",G49<>"",G49<E49),"Dönüş km çıkıştan küçük",IF(OR(E49="",N49=0),"",IF(E49<N49,"Çıkış km önceki dönüşten küçük",IF(E49>N49,"Önceki dönüşten "&TEXT(E49-N49,"0")&" km fazla","")))))))
L50: =IF(OR(E50="",G50=""),"",IF(G50<E50,"",G50-E50)) | M50: =IF(OR(D50="",F50=""),"",IF(F50>=D50,F50-D50,F50-D50+1)*24) | N50: =IF(B50="","",SUMPRODUCT(MAX(($B$2:$B$49=B50)*($G$2:$G$49)))) | O50: =IF(B50="","",IF(COUNTIF('Araçlar'!$A$2:$A$101,B50)=0,"Plaka araç listesinde yok",IF(A50="","Tarih girilmedi",IF(AND(E50<>"",G50<>"",G50<E50),"Dönüş km çıkıştan küçük",IF(OR(E50="",N50=0),"",IF(E50<N50,"Çıkış km önceki dönüşten küçük",IF(E50>N50,"Önceki dönüşten "&TEXT(E50-N50,"0")&" km fazla","")))))))
L51: =IF(OR(E51="",G51=""),"",IF(G51<E51,"",G51-E51)) | M51: =IF(OR(D51="",F51=""),"",IF(F51>=D51,F51-D51,F51-D51+1)*24) | N51: =IF(B51="","",SUMPRODUCT(MAX(($B$2:$B$50=B51)*($G$2:$G$50)))) | O51: =IF(B51="","",IF(COUNTIF('Araçlar'!$A$2:$A$101,B51)=0,"Plaka araç listesinde yok",IF(A51="","Tarih girilmedi",IF(AND(E51<>"",G51<>"",G51<E51),"Dönüş km çıkıştan küçük",IF(OR(E51="",N51=0),"",IF(E51<N51,"Çıkış km önceki dönüşten küçük",IF(E51>N51,"Önceki dönüşten "&TEXT(E51-N51,"0")&" km fazla","")))))))
L52: =IF(OR(E52="",G52=""),"",IF(G52<E52,"",G52-E52)) | M52: =IF(OR(D52="",F52=""),"",IF(F52>=D52,F52-D52,F52-D52+1)*24) | N52: =IF(B52="","",SUMPRODUCT(MAX(($B$2:$B$51=B52)*($G$2:$G$51)))) | O52: =IF(B52="","",IF(COUNTIF('Araçlar'!$A$2:$A$101,B52)=0,"Plaka araç listesinde yok",IF(A52="","Tarih girilmedi",IF(AND(E52<>"",G52<>"",G52<E52),"Dönüş km çıkıştan küçük",IF(OR(E52="",N52=0),"",IF(E52<N52,"Çıkış km önceki dönüşten küçük",IF(E52>N52,"Önceki dönüşten "&TEXT(E52-N52,"0")&" km fazla","")))))))
L53: =IF(OR(E53="",G53=""),"",IF(G53<E53,"",G53-E53)) | M53: =IF(OR(D53="",F53=""),"",IF(F53>=D53,F53-D53,F53-D53+1)*24) | N53: =IF(B53="","",SUMPRODUCT(MAX(($B$2:$B$52=B53)*($G$2:$G$52)))) | O53: =IF(B53="","",IF(COUNTIF('Araçlar'!$A$2:$A$101,B53)=0,"Plaka araç listesinde yok",IF(A53="","Tarih girilmedi",IF(AND(E53<>"",G53<>"",G53<E53),"Dönüş km çıkıştan küçük",IF(OR(E53="",N53=0),"",IF(E53<N53,"Çıkış km önceki dönüşten küçük",IF(E53>N53,"Önceki dönüşten "&TEXT(E53-N53,"0")&" km fazla","")))))))
L54: =IF(OR(E54="",G54=""),"",IF(G54<E54,"",G54-E54)) | M54: =IF(OR(D54="",F54=""),"",IF(F54>=D54,F54-D54,F54-D54+1)*24) | N54: =IF(B54="","",SUMPRODUCT(MAX(($B$2:$B$53=B54)*($G$2:$G$53)))) | O54: =IF(B54="","",IF(COUNTIF('Araçlar'!$A$2:$A$101,B54)=0,"Plaka araç listesinde yok",IF(A54="","Tarih girilmedi",IF(AND(E54<>"",G54<>"",G54<E54),"Dönüş km çıkıştan küçük",IF(OR(E54="",N54=0),"",IF(E54<N54,"Çıkış km önceki dönüşten küçük",IF(E54>N54,"Önceki dönüşten "&TEXT(E54-N54,"0")&" km fazla","")))))))
L55: =IF(OR(E55="",G55=""),"",IF(G55<E55,"",G55-E55)) | M55: =IF(OR(D55="",F55=""),"",IF(F55>=D55,F55-D55,F55-D55+1)*24) | N55: =IF(B55="","",SUMPRODUCT(MAX(($B$2:$B$54=B55)*($G$2:$G$54)))) | O55: =IF(B55="","",IF(COUNTIF('Araçlar'!$A$2:$A$101,B55)=0,"Plaka araç listesinde yok",IF(A55="","Tarih girilmedi",IF(AND(E55<>"",G55<>"",G55<E55),"Dönüş km çıkıştan küçük",IF(OR(E55="",N55=0),"",IF(E55<N55,"Çıkış km önceki dönüşten küçük",IF(E55>N55,"Önceki dönüşten "&TEXT(E55-N55,"0")&" km fazla","")))))))
L56: =IF(OR(E56="",G56=""),"",IF(G56<E56,"",G56-E56)) | M56: =IF(OR(D56="",F56=""),"",IF(F56>=D56,F56-D56,F56-D56+1)*24) | N56: =IF(B56="","",SUMPRODUCT(MAX(($B$2:$B$55=B56)*($G$2:$G$55)))) | O56: =IF(B56="","",IF(COUNTIF('Araçlar'!$A$2:$A$101,B56)=0,"Plaka araç listesinde yok",IF(A56="","Tarih girilmedi",IF(AND(E56<>"",G56<>"",G56<E56),"Dönüş km çıkıştan küçük",IF(OR(E56="",N56=0),"",IF(E56<N56,"Çıkış km önceki dönüşten küçük",IF(E56>N56,"Önceki dönüşten "&TEXT(E56-N56,"0")&" km fazla","")))))))
L57: =IF(OR(E57="",G57=""),"",IF(G57<E57,"",G57-E57)) | M57: =IF(OR(D57="",F57=""),"",IF(F57>=D57,F57-D57,F57-D57+1)*24) | N57: =IF(B57="","",SUMPRODUCT(MAX(($B$2:$B$56=B57)*($G$2:$G$56)))) | O57: =IF(B57="","",IF(COUNTIF('Araçlar'!$A$2:$A$101,B57)=0,"Plaka araç listesinde yok",IF(A57="","Tarih girilmedi",IF(AND(E57<>"",G57<>"",G57<E57),"Dönüş km çıkıştan küçük",IF(OR(E57="",N57=0),"",IF(E57<N57,"Çıkış km önceki dönüşten küçük",IF(E57>N57,"Önceki dönüşten "&TEXT(E57-N57,"0")&" km fazla","")))))))
L58: =IF(OR(E58="",G58=""),"",IF(G58<E58,"",G58-E58)) | M58: =IF(OR(D58="",F58=""),"",IF(F58>=D58,F58-D58,F58-D58+1)*24) | N58: =IF(B58="","",SUMPRODUCT(MAX(($B$2:$B$57=B58)*($G$2:$G$57)))) | O58: =IF(B58="","",IF(COUNTIF('Araçlar'!$A$2:$A$101,B58)=0,"Plaka araç listesinde yok",IF(A58="","Tarih girilmedi",IF(AND(E58<>"",G58<>"",G58<E58),"Dönüş km çıkıştan küçük",IF(OR(E58="",N58=0),"",IF(E58<N58,"Çıkış km önceki dönüşten küçük",IF(E58>N58,"Önceki dönüşten "&TEXT(E58-N58,"0")&" km fazla","")))))))
L59: =IF(OR(E59="",G59=""),"",IF(G59<E59,"",G59-E59)) | M59: =IF(OR(D59="",F59=""),"",IF(F59>=D59,F59-D59,F59-D59+1)*24) | N59: =IF(B59="","",SUMPRODUCT(MAX(($B$2:$B$58=B59)*($G$2:$G$58)))) | O59: =IF(B59="","",IF(COUNTIF('Araçlar'!$A$2:$A$101,B59)=0,"Plaka araç listesinde yok",IF(A59="","Tarih girilmedi",IF(AND(E59<>"",G59<>"",G59<E59),"Dönüş km çıkıştan küçük",IF(OR(E59="",N59=0),"",IF(E59<N59,"Çıkış km önceki dönüşten küçük",IF(E59>N59,"Önceki dönüşten "&TEXT(E59-N59,"0")&" km fazla","")))))))
L60: =IF(OR(E60="",G60=""),"",IF(G60<E60,"",G60-E60)) | M60: =IF(OR(D60="",F60=""),"",IF(F60>=D60,F60-D60,F60-D60+1)*24) | N60: =IF(B60="","",SUMPRODUCT(MAX(($B$2:$B$59=B60)*($G$2:$G$59)))) | O60: =IF(B60="","",IF(COUNTIF('Araçlar'!$A$2:$A$101,B60)=0,"Plaka araç listesinde yok",IF(A60="","Tarih girilmedi",IF(AND(E60<>"",G60<>"",G60<E60),"Dönüş km çıkıştan küçük",IF(OR(E60="",N60=0),"",IF(E60<N60,"Çıkış km önceki dönüşten küçük",IF(E60>N60,"Önceki dönüşten "&TEXT(E60-N60,"0")&" km fazla","")))))))
L61: =IF(OR(E61="",G61=""),"",IF(G61<E61,"",G61-E61)) | M61: =IF(OR(D61="",F61=""),"",IF(F61>=D61,F61-D61,F61-D61+1)*24) | N61: =IF(B61="","",SUMPRODUCT(MAX(($B$2:$B$60=B61)*($G$2:$G$60)))) | O61: =IF(B61="","",IF(COUNTIF('Araçlar'!$A$2:$A$101,B61)=0,"Plaka araç listesinde yok",IF(A61="","Tarih girilmedi",IF(AND(E61<>"",G61<>"",G61<E61),"Dönüş km çıkıştan küçük",IF(OR(E61="",N61=0),"",IF(E61<N61,"Çıkış km önceki dönüşten küçük",IF(E61>N61,"Önceki dönüşten "&TEXT(E61-N61,"0")&" km fazla","")))))))
L62: =IF(OR(E62="",G62=""),"",IF(G62<E62,"",G62-E62)) | M62: =IF(OR(D62="",F62=""),"",IF(F62>=D62,F62-D62,F62-D62+1)*24) | N62: =IF(B62="","",SUMPRODUCT(MAX(($B$2:$B$61=B62)*($G$2:$G$61)))) | O62: =IF(B62="","",IF(COUNTIF('Araçlar'!$A$2:$A$101,B62)=0,"Plaka araç listesinde yok",IF(A62="","Tarih girilmedi",IF(AND(E62<>"",G62<>"",G62<E62),"Dönüş km çıkıştan küçük",IF(OR(E62="",N62=0),"",IF(E62<N62,"Çıkış km önceki dönüşten küçük",IF(E62>N62,"Önceki dönüşten "&TEXT(E62-N62,"0")&" km fazla","")))))))
L63: =IF(OR(E63="",G63=""),"",IF(G63<E63,"",G63-E63)) | M63: =IF(OR(D63="",F63=""),"",IF(F63>=D63,F63-D63,F63-D63+1)*24) | N63: =IF(B63="","",SUMPRODUCT(MAX(($B$2:$B$62=B63)*($G$2:$G$62)))) | O63: =IF(B63="","",IF(COUNTIF('Araçlar'!$A$2:$A$101,B63)=0,"Plaka araç listesinde yok",IF(A63="","Tarih girilmedi",IF(AND(E63<>"",G63<>"",G63<E63),"Dönüş km çıkıştan küçük",IF(OR(E63="",N63=0),"",IF(E63<N63,"Çıkış km önceki dönüşten küçük",IF(E63>N63,"Önceki dönüşten "&TEXT(E63-N63,"0")&" km fazla","")))))))
L64: =IF(OR(E64="",G64=""),"",IF(G64<E64,"",G64-E64)) | M64: =IF(OR(D64="",F64=""),"",IF(F64>=D64,F64-D64,F64-D64+1)*24) | N64: =IF(B64="","",SUMPRODUCT(MAX(($B$2:$B$63=B64)*($G$2:$G$63)))) | O64: =IF(B64="","",IF(COUNTIF('Araçlar'!$A$2:$A$101,B64)=0,"Plaka araç listesinde yok",IF(A64="","Tarih girilmedi",IF(AND(E64<>"",G64<>"",G64<E64),"Dönüş km çıkıştan küçük",IF(OR(E64="",N64=0),"",IF(E64<N64,"Çıkış km önceki dönüşten küçük",IF(E64>N64,"Önceki dönüşten "&TEXT(E64-N64,"0")&" km fazla","")))))))
L65: =IF(OR(E65="",G65=""),"",IF(G65<E65,"",G65-E65)) | M65: =IF(OR(D65="",F65=""),"",IF(F65>=D65,F65-D65,F65-D65+1)*24) | N65: =IF(B65="","",SUMPRODUCT(MAX(($B$2:$B$64=B65)*($G$2:$G$64)))) | O65: =IF(B65="","",IF(COUNTIF('Araçlar'!$A$2:$A$101,B65)=0,"Plaka araç listesinde yok",IF(A65="","Tarih girilmedi",IF(AND(E65<>"",G65<>"",G65<E65),"Dönüş km çıkıştan küçük",IF(OR(E65="",N65=0),"",IF(E65<N65,"Çıkış km önceki dönüşten küçük",IF(E65>N65,"Önceki dönüşten "&TEXT(E65-N65,"0")&" km fazla","")))))))
L66: =IF(OR(E66="",G66=""),"",IF(G66<E66,"",G66-E66)) | M66: =IF(OR(D66="",F66=""),"",IF(F66>=D66,F66-D66,F66-D66+1)*24) | N66: =IF(B66="","",SUMPRODUCT(MAX(($B$2:$B$65=B66)*($G$2:$G$65)))) | O66: =IF(B66="","",IF(COUNTIF('Araçlar'!$A$2:$A$101,B66)=0,"Plaka araç listesinde yok",IF(A66="","Tarih girilmedi",IF(AND(E66<>"",G66<>"",G66<E66),"Dönüş km çıkıştan küçük",IF(OR(E66="",N66=0),"",IF(E66<N66,"Çıkış km önceki dönüşten küçük",IF(E66>N66,"Önceki dönüşten "&TEXT(E66-N66,"0")&" km fazla","")))))))
L67: =IF(OR(E67="",G67=""),"",IF(G67<E67,"",G67-E67)) | M67: =IF(OR(D67="",F67=""),"",IF(F67>=D67,F67-D67,F67-D67+1)*24) | N67: =IF(B67="","",SUMPRODUCT(MAX(($B$2:$B$66=B67)*($G$2:$G$66)))) | O67: =IF(B67="","",IF(COUNTIF('Araçlar'!$A$2:$A$101,B67)=0,"Plaka araç listesinde yok",IF(A67="","Tarih girilmedi",IF(AND(E67<>"",G67<>"",G67<E67),"Dönüş km çıkıştan küçük",IF(OR(E67="",N67=0),"",IF(E67<N67,"Çıkış km önceki dönüşten küçük",IF(E67>N67,"Önceki dönüşten "&TEXT(E67-N67,"0")&" km fazla","")))))))
L68: =IF(OR(E68="",G68=""),"",IF(G68<E68,"",G68-E68)) | M68: =IF(OR(D68="",F68=""),"",IF(F68>=D68,F68-D68,F68-D68+1)*24) | N68: =IF(B68="","",SUMPRODUCT(MAX(($B$2:$B$67=B68)*($G$2:$G$67)))) | O68: =IF(B68="","",IF(COUNTIF('Araçlar'!$A$2:$A$101,B68)=0,"Plaka araç listesinde yok",IF(A68="","Tarih girilmedi",IF(AND(E68<>"",G68<>"",G68<E68),"Dönüş km çıkıştan küçük",IF(OR(E68="",N68=0),"",IF(E68<N68,"Çıkış km önceki dönüşten küçük",IF(E68>N68,"Önceki dönüşten "&TEXT(E68-N68,"0")&" km fazla","")))))))
L69: =IF(OR(E69="",G69=""),"",IF(G69<E69,"",G69-E69)) | M69: =IF(OR(D69="",F69=""),"",IF(F69>=D69,F69-D69,F69-D69+1)*24) | N69: =IF(B69="","",SUMPRODUCT(MAX(($B$2:$B$68=B69)*($G$2:$G$68)))) | O69: =IF(B69="","",IF(COUNTIF('Araçlar'!$A$2:$A$101,B69)=0,"Plaka araç listesinde yok",IF(A69="","Tarih girilmedi",IF(AND(E69<>"",G69<>"",G69<E69),"Dönüş km çıkıştan küçük",IF(OR(E69="",N69=0),"",IF(E69<N69,"Çıkış km önceki dönüşten küçük",IF(E69>N69,"Önceki dönüşten "&TEXT(E69-N69,"0")&" km fazla","")))))))
L70: =IF(OR(E70="",G70=""),"",IF(G70<E70,"",G70-E70)) | M70: =IF(OR(D70="",F70=""),"",IF(F70>=D70,F70-D70,F70-D70+1)*24) | N70: =IF(B70="","",SUMPRODUCT(MAX(($B$2:$B$69=B70)*($G$2:$G$69)))) | O70: =IF(B70="","",IF(COUNTIF('Araçlar'!$A$2:$A$101,B70)=0,"Plaka araç listesinde yok",IF(A70="","Tarih girilmedi",IF(AND(E70<>"",G70<>"",G70<E70),"Dönüş km çıkıştan küçük",IF(OR(E70="",N70=0),"",IF(E70<N70,"Çıkış km önceki dönüşten küçük",IF(E70>N70,"Önceki dönüşten "&TEXT(E70-N70,"0")&" km fazla","")))))))
L71: =IF(OR(E71="",G71=""),"",IF(G71<E71,"",G71-E71)) | M71: =IF(OR(D71="",F71=""),"",IF(F71>=D71,F71-D71,F71-D71+1)*24) | N71: =IF(B71="","",SUMPRODUCT(MAX(($B$2:$B$70=B71)*($G$2:$G$70)))) | O71: =IF(B71="","",IF(COUNTIF('Araçlar'!$A$2:$A$101,B71)=0,"Plaka araç listesinde yok",IF(A71="","Tarih girilmedi",IF(AND(E71<>"",G71<>"",G71<E71),"Dönüş km çıkıştan küçük",IF(OR(E71="",N71=0),"",IF(E71<N71,"Çıkış km önceki dönüşten küçük",IF(E71>N71,"Önceki dönüşten "&TEXT(E71-N71,"0")&" km fazla","")))))))
L72: =IF(OR(E72="",G72=""),"",IF(G72<E72,"",G72-E72)) | M72: =IF(OR(D72="",F72=""),"",IF(F72>=D72,F72-D72,F72-D72+1)*24) | N72: =IF(B72="","",SUMPRODUCT(MAX(($B$2:$B$71=B72)*($G$2:$G$71)))) | O72: =IF(B72="","",IF(COUNTIF('Araçlar'!$A$2:$A$101,B72)=0,"Plaka araç listesinde yok",IF(A72="","Tarih girilmedi",IF(AND(E72<>"",G72<>"",G72<E72),"Dönüş km çıkıştan küçük",IF(OR(E72="",N72=0),"",IF(E72<N72,"Çıkış km önceki dönüşten küçük",IF(E72>N72,"Önceki dönüşten "&TEXT(E72-N72,"0")&" km fazla","")))))))
L73: =IF(OR(E73="",G73=""),"",IF(G73<E73,"",G73-E73)) | M73: =IF(OR(D73="",F73=""),"",IF(F73>=D73,F73-D73,F73-D73+1)*24) | N73: =IF(B73="","",SUMPRODUCT(MAX(($B$2:$B$72=B73)*($G$2:$G$72)))) | O73: =IF(B73="","",IF(COUNTIF('Araçlar'!$A$2:$A$101,B73)=0,"Plaka araç listesinde yok",IF(A73="","Tarih girilmedi",IF(AND(E73<>"",G73<>"",G73<E73),"Dönüş km çıkıştan küçük",IF(OR(E73="",N73=0),"",IF(E73<N73,"Çıkış km önceki dönüşten küçük",IF(E73>N73,"Önceki dönüşten "&TEXT(E73-N73,"0")&" km fazla","")))))))
L74: =IF(OR(E74="",G74=""),"",IF(G74<E74,"",G74-E74)) | M74: =IF(OR(D74="",F74=""),"",IF(F74>=D74,F74-D74,F74-D74+1)*24) | N74: =IF(B74="","",SUMPRODUCT(MAX(($B$2:$B$73=B74)*($G$2:$G$73)))) | O74: =IF(B74="","",IF(COUNTIF('Araçlar'!$A$2:$A$101,B74)=0,"Plaka araç listesinde yok",IF(A74="","Tarih girilmedi",IF(AND(E74<>"",G74<>"",G74<E74),"Dönüş km çıkıştan küçük",IF(OR(E74="",N74=0),"",IF(E74<N74,"Çıkış km önceki dönüşten küçük",IF(E74>N74,"Önceki dönüşten "&TEXT(E74-N74,"0")&" km fazla","")))))))
L75: =IF(OR(E75="",G75=""),"",IF(G75<E75,"",G75-E75)) | M75: =IF(OR(D75="",F75=""),"",IF(F75>=D75,F75-D75,F75-D75+1)*24) | N75: =IF(B75="","",SUMPRODUCT(MAX(($B$2:$B$74=B75)*($G$2:$G$74)))) | O75: =IF(B75="","",IF(COUNTIF('Araçlar'!$A$2:$A$101,B75)=0,"Plaka araç listesinde yok",IF(A75="","Tarih girilmedi",IF(AND(E75<>"",G75<>"",G75<E75),"Dönüş km çıkıştan küçük",IF(OR(E75="",N75=0),"",IF(E75<N75,"Çıkış km önceki dönüşten küçük",IF(E75>N75,"Önceki dönüşten "&TEXT(E75-N75,"0")&" km fazla","")))))))
L76: =IF(OR(E76="",G76=""),"",IF(G76<E76,"",G76-E76)) | M76: =IF(OR(D76="",F76=""),"",IF(F76>=D76,F76-D76,F76-D76+1)*24) | N76: =IF(B76="","",SUMPRODUCT(MAX(($B$2:$B$75=B76)*($G$2:$G$75)))) | O76: =IF(B76="","",IF(COUNTIF('Araçlar'!$A$2:$A$101,B76)=0,"Plaka araç listesinde yok",IF(A76="","Tarih girilmedi",IF(AND(E76<>"",G76<>"",G76<E76),"Dönüş km çıkıştan küçük",IF(OR(E76="",N76=0),"",IF(E76<N76,"Çıkış km önceki dönüşten küçük",IF(E76>N76,"Önceki dönüşten "&TEXT(E76-N76,"0")&" km fazla","")))))))
L77: =IF(OR(E77="",G77=""),"",IF(G77<E77,"",G77-E77)) | M77: =IF(OR(D77="",F77=""),"",IF(F77>=D77,F77-D77,F77-D77+1)*24) | N77: =IF(B77="","",SUMPRODUCT(MAX(($B$2:$B$76=B77)*($G$2:$G$76)))) | O77: =IF(B77="","",IF(COUNTIF('Araçlar'!$A$2:$A$101,B77)=0,"Plaka araç listesinde yok",IF(A77="","Tarih girilmedi",IF(AND(E77<>"",G77<>"",G77<E77),"Dönüş km çıkıştan küçük",IF(OR(E77="",N77=0),"",IF(E77<N77,"Çıkış km önceki dönüşten küçük",IF(E77>N77,"Önceki dönüşten "&TEXT(E77-N77,"0")&" km fazla","")))))))
L78: =IF(OR(E78="",G78=""),"",IF(G78<E78,"",G78-E78)) | M78: =IF(OR(D78="",F78=""),"",IF(F78>=D78,F78-D78,F78-D78+1)*24) | N78: =IF(B78="","",SUMPRODUCT(MAX(($B$2:$B$77=B78)*($G$2:$G$77)))) | O78: =IF(B78="","",IF(COUNTIF('Araçlar'!$A$2:$A$101,B78)=0,"Plaka araç listesinde yok",IF(A78="","Tarih girilmedi",IF(AND(E78<>"",G78<>"",G78<E78),"Dönüş km çıkıştan küçük",IF(OR(E78="",N78=0),"",IF(E78<N78,"Çıkış km önceki dönüşten küçük",IF(E78>N78,"Önceki dönüşten "&TEXT(E78-N78,"0")&" km fazla","")))))))
L79: =IF(OR(E79="",G79=""),"",IF(G79<E79,"",G79-E79)) | M79: =IF(OR(D79="",F79=""),"",IF(F79>=D79,F79-D79,F79-D79+1)*24) | N79: =IF(B79="","",SUMPRODUCT(MAX(($B$2:$B$78=B79)*($G$2:$G$78)))) | O79: =IF(B79="","",IF(COUNTIF('Araçlar'!$A$2:$A$101,B79)=0,"Plaka araç listesinde yok",IF(A79="","Tarih girilmedi",IF(AND(E79<>"",G79<>"",G79<E79),"Dönüş km çıkıştan küçük",IF(OR(E79="",N79=0),"",IF(E79<N79,"Çıkış km önceki dönüşten küçük",IF(E79>N79,"Önceki dönüşten "&TEXT(E79-N79,"0")&" km fazla","")))))))
L80: =IF(OR(E80="",G80=""),"",IF(G80<E80,"",G80-E80)) | M80: =IF(OR(D80="",F80=""),"",IF(F80>=D80,F80-D80,F80-D80+1)*24) | N80: =IF(B80="","",SUMPRODUCT(MAX(($B$2:$B$79=B80)*($G$2:$G$79)))) | O80: =IF(B80="","",IF(COUNTIF('Araçlar'!$A$2:$A$101,B80)=0,"Plaka araç listesinde yok",IF(A80="","Tarih girilmedi",IF(AND(E80<>"",G80<>"",G80<E80),"Dönüş km çıkıştan küçük",IF(OR(E80="",N80=0),"",IF(E80<N80,"Çıkış km önceki dönüşten küçük",IF(E80>N80,"Önceki dönüşten "&TEXT(E80-N80,"0")&" km fazla","")))))))
L81: =IF(OR(E81="",G81=""),"",IF(G81<E81,"",G81-E81)) | M81: =IF(OR(D81="",F81=""),"",IF(F81>=D81,F81-D81,F81-D81+1)*24) | N81: =IF(B81="","",SUMPRODUCT(MAX(($B$2:$B$80=B81)*($G$2:$G$80)))) | O81: =IF(B81="","",IF(COUNTIF('Araçlar'!$A$2:$A$101,B81)=0,"Plaka araç listesinde yok",IF(A81="","Tarih girilmedi",IF(AND(E81<>"",G81<>"",G81<E81),"Dönüş km çıkıştan küçük",IF(OR(E81="",N81=0),"",IF(E81<N81,"Çıkış km önceki dönüşten küçük",IF(E81>N81,"Önceki dönüşten "&TEXT(E81-N81,"0")&" km fazla","")))))))
L82: =IF(OR(E82="",G82=""),"",IF(G82<E82,"",G82-E82)) | M82: =IF(OR(D82="",F82=""),"",IF(F82>=D82,F82-D82,F82-D82+1)*24) | N82: =IF(B82="","",SUMPRODUCT(MAX(($B$2:$B$81=B82)*($G$2:$G$81)))) | O82: =IF(B82="","",IF(COUNTIF('Araçlar'!$A$2:$A$101,B82)=0,"Plaka araç listesinde yok",IF(A82="","Tarih girilmedi",IF(AND(E82<>"",G82<>"",G82<E82),"Dönüş km çıkıştan küçük",IF(OR(E82="",N82=0),"",IF(E82<N82,"Çıkış km önceki dönüşten küçük",IF(E82>N82,"Önceki dönüşten "&TEXT(E82-N82,"0")&" km fazla","")))))))
L83: =IF(OR(E83="",G83=""),"",IF(G83<E83,"",G83-E83)) | M83: =IF(OR(D83="",F83=""),"",IF(F83>=D83,F83-D83,F83-D83+1)*24) | N83: =IF(B83="","",SUMPRODUCT(MAX(($B$2:$B$82=B83)*($G$2:$G$82)))) | O83: =IF(B83="","",IF(COUNTIF('Araçlar'!$A$2:$A$101,B83)=0,"Plaka araç listesinde yok",IF(A83="","Tarih girilmedi",IF(AND(E83<>"",G83<>"",G83<E83),"Dönüş km çıkıştan küçük",IF(OR(E83="",N83=0),"",IF(E83<N83,"Çıkış km önceki dönüşten küçük",IF(E83>N83,"Önceki dönüşten "&TEXT(E83-N83,"0")&" km fazla","")))))))
L84: =IF(OR(E84="",G84=""),"",IF(G84<E84,"",G84-E84)) | M84: =IF(OR(D84="",F84=""),"",IF(F84>=D84,F84-D84,F84-D84+1)*24) | N84: =IF(B84="","",SUMPRODUCT(MAX(($B$2:$B$83=B84)*($G$2:$G$83)))) | O84: =IF(B84="","",IF(COUNTIF('Araçlar'!$A$2:$A$101,B84)=0,"Plaka araç listesinde yok",IF(A84="","Tarih girilmedi",IF(AND(E84<>"",G84<>"",G84<E84),"Dönüş km çıkıştan küçük",IF(OR(E84="",N84=0),"",IF(E84<N84,"Çıkış km önceki dönüşten küçük",IF(E84>N84,"Önceki dönüşten "&TEXT(E84-N84,"0")&" km fazla","")))))))
L85: =IF(OR(E85="",G85=""),"",IF(G85<E85,"",G85-E85)) | M85: =IF(OR(D85="",F85=""),"",IF(F85>=D85,F85-D85,F85-D85+1)*24) | N85: =IF(B85="","",SUMPRODUCT(MAX(($B$2:$B$84=B85)*($G$2:$G$84)))) | O85: =IF(B85="","",IF(COUNTIF('Araçlar'!$A$2:$A$101,B85)=0,"Plaka araç listesinde yok",IF(A85="","Tarih girilmedi",IF(AND(E85<>"",G85<>"",G85<E85),"Dönüş km çıkıştan küçük",IF(OR(E85="",N85=0),"",IF(E85<N85,"Çıkış km önceki dönüşten küçük",IF(E85>N85,"Önceki dönüşten "&TEXT(E85-N85,"0")&" km fazla","")))))))
L86: =IF(OR(E86="",G86=""),"",IF(G86<E86,"",G86-E86)) | M86: =IF(OR(D86="",F86=""),"",IF(F86>=D86,F86-D86,F86-D86+1)*24) | N86: =IF(B86="","",SUMPRODUCT(MAX(($B$2:$B$85=B86)*($G$2:$G$85)))) | O86: =IF(B86="","",IF(COUNTIF('Araçlar'!$A$2:$A$101,B86)=0,"Plaka araç listesinde yok",IF(A86="","Tarih girilmedi",IF(AND(E86<>"",G86<>"",G86<E86),"Dönüş km çıkıştan küçük",IF(OR(E86="",N86=0),"",IF(E86<N86,"Çıkış km önceki dönüşten küçük",IF(E86>N86,"Önceki dönüşten "&TEXT(E86-N86,"0")&" km fazla","")))))))
L87: =IF(OR(E87="",G87=""),"",IF(G87<E87,"",G87-E87)) | M87: =IF(OR(D87="",F87=""),"",IF(F87>=D87,F87-D87,F87-D87+1)*24) | N87: =IF(B87="","",SUMPRODUCT(MAX(($B$2:$B$86=B87)*($G$2:$G$86)))) | O87: =IF(B87="","",IF(COUNTIF('Araçlar'!$A$2:$A$101,B87)=0,"Plaka araç listesinde yok",IF(A87="","Tarih girilmedi",IF(AND(E87<>"",G87<>"",G87<E87),"Dönüş km çıkıştan küçük",IF(OR(E87="",N87=0),"",IF(E87<N87,"Çıkış km önceki dönüşten küçük",IF(E87>N87,"Önceki dönüşten "&TEXT(E87-N87,"0")&" km fazla","")))))))
L88: =IF(OR(E88="",G88=""),"",IF(G88<E88,"",G88-E88)) | M88: =IF(OR(D88="",F88=""),"",IF(F88>=D88,F88-D88,F88-D88+1)*24) | N88: =IF(B88="","",SUMPRODUCT(MAX(($B$2:$B$87=B88)*($G$2:$G$87)))) | O88: =IF(B88="","",IF(COUNTIF('Araçlar'!$A$2:$A$101,B88)=0,"Plaka araç listesinde yok",IF(A88="","Tarih girilmedi",IF(AND(E88<>"",G88<>"",G88<E88),"Dönüş km çıkıştan küçük",IF(OR(E88="",N88=0),"",IF(E88<N88,"Çıkış km önceki dönüşten küçük",IF(E88>N88,"Önceki dönüşten "&TEXT(E88-N88,"0")&" km fazla","")))))))
L89: =IF(OR(E89="",G89=""),"",IF(G89<E89,"",G89-E89)) | M89: =IF(OR(D89="",F89=""),"",IF(F89>=D89,F89-D89,F89-D89+1)*24) | N89: =IF(B89="","",SUMPRODUCT(MAX(($B$2:$B$88=B89)*($G$2:$G$88)))) | O89: =IF(B89="","",IF(COUNTIF('Araçlar'!$A$2:$A$101,B89)=0,"Plaka araç listesinde yok",IF(A89="","Tarih girilmedi",IF(AND(E89<>"",G89<>"",G89<E89),"Dönüş km çıkıştan küçük",IF(OR(E89="",N89=0),"",IF(E89<N89,"Çıkış km önceki dönüşten küçük",IF(E89>N89,"Önceki dönüşten "&TEXT(E89-N89,"0")&" km fazla","")))))))
L90: =IF(OR(E90="",G90=""),"",IF(G90<E90,"",G90-E90)) | M90: =IF(OR(D90="",F90=""),"",IF(F90>=D90,F90-D90,F90-D90+1)*24) | N90: =IF(B90="","",SUMPRODUCT(MAX(($B$2:$B$89=B90)*($G$2:$G$89)))) | O90: =IF(B90="","",IF(COUNTIF('Araçlar'!$A$2:$A$101,B90)=0,"Plaka araç listesinde yok",IF(A90="","Tarih girilmedi",IF(AND(E90<>"",G90<>"",G90<E90),"Dönüş km çıkıştan küçük",IF(OR(E90="",N90=0),"",IF(E90<N90,"Çıkış km önceki dönüşten küçük",IF(E90>N90,"Önceki dönüşten "&TEXT(E90-N90,"0")&" km fazla","")))))))
L91: =IF(OR(E91="",G91=""),"",IF(G91<E91,"",G91-E91)) | M91: =IF(OR(D91="",F91=""),"",IF(F91>=D91,F91-D91,F91-D91+1)*24) | N91: =IF(B91="","",SUMPRODUCT(MAX(($B$2:$B$90=B91)*($G$2:$G$90)))) | O91: =IF(B91="","",IF(COUNTIF('Araçlar'!$A$2:$A$101,B91)=0,"Plaka araç listesinde yok",IF(A91="","Tarih girilmedi",IF(AND(E91<>"",G91<>"",G91<E91),"Dönüş km çıkıştan küçük",IF(OR(E91="",N91=0),"",IF(E91<N91,"Çıkış km önceki dönüşten küçük",IF(E91>N91,"Önceki dönüşten "&TEXT(E91-N91,"0")&" km fazla","")))))))
L92: =IF(OR(E92="",G92=""),"",IF(G92<E92,"",G92-E92)) | M92: =IF(OR(D92="",F92=""),"",IF(F92>=D92,F92-D92,F92-D92+1)*24) | N92: =IF(B92="","",SUMPRODUCT(MAX(($B$2:$B$91=B92)*($G$2:$G$91)))) | O92: =IF(B92="","",IF(COUNTIF('Araçlar'!$A$2:$A$101,B92)=0,"Plaka araç listesinde yok",IF(A92="","Tarih girilmedi",IF(AND(E92<>"",G92<>"",G92<E92),"Dönüş km çıkıştan küçük",IF(OR(E92="",N92=0),"",IF(E92<N92,"Çıkış km önceki dönüşten küçük",IF(E92>N92,"Önceki dönüşten "&TEXT(E92-N92,"0")&" km fazla","")))))))
L93: =IF(OR(E93="",G93=""),"",IF(G93<E93,"",G93-E93)) | M93: =IF(OR(D93="",F93=""),"",IF(F93>=D93,F93-D93,F93-D93+1)*24) | N93: =IF(B93="","",SUMPRODUCT(MAX(($B$2:$B$92=B93)*($G$2:$G$92)))) | O93: =IF(B93="","",IF(COUNTIF('Araçlar'!$A$2:$A$101,B93)=0,"Plaka araç listesinde yok",IF(A93="","Tarih girilmedi",IF(AND(E93<>"",G93<>"",G93<E93),"Dönüş km çıkıştan küçük",IF(OR(E93="",N93=0),"",IF(E93<N93,"Çıkış km önceki dönüşten küçük",IF(E93>N93,"Önceki dönüşten "&TEXT(E93-N93,"0")&" km fazla","")))))))
L94: =IF(OR(E94="",G94=""),"",IF(G94<E94,"",G94-E94)) | M94: =IF(OR(D94="",F94=""),"",IF(F94>=D94,F94-D94,F94-D94+1)*24) | N94: =IF(B94="","",SUMPRODUCT(MAX(($B$2:$B$93=B94)*($G$2:$G$93)))) | O94: =IF(B94="","",IF(COUNTIF('Araçlar'!$A$2:$A$101,B94)=0,"Plaka araç listesinde yok",IF(A94="","Tarih girilmedi",IF(AND(E94<>"",G94<>"",G94<E94),"Dönüş km çıkıştan küçük",IF(OR(E94="",N94=0),"",IF(E94<N94,"Çıkış km önceki dönüşten küçük",IF(E94>N94,"Önceki dönüşten "&TEXT(E94-N94,"0")&" km fazla","")))))))
L95: =IF(OR(E95="",G95=""),"",IF(G95<E95,"",G95-E95)) | M95: =IF(OR(D95="",F95=""),"",IF(F95>=D95,F95-D95,F95-D95+1)*24) | N95: =IF(B95="","",SUMPRODUCT(MAX(($B$2:$B$94=B95)*($G$2:$G$94)))) | O95: =IF(B95="","",IF(COUNTIF('Araçlar'!$A$2:$A$101,B95)=0,"Plaka araç listesinde yok",IF(A95="","Tarih girilmedi",IF(AND(E95<>"",G95<>"",G95<E95),"Dönüş km çıkıştan küçük",IF(OR(E95="",N95=0),"",IF(E95<N95,"Çıkış km önceki dönüşten küçük",IF(E95>N95,"Önceki dönüşten "&TEXT(E95-N95,"0")&" km fazla","")))))))
L96: =IF(OR(E96="",G96=""),"",IF(G96<E96,"",G96-E96)) | M96: =IF(OR(D96="",F96=""),"",IF(F96>=D96,F96-D96,F96-D96+1)*24) | N96: =IF(B96="","",SUMPRODUCT(MAX(($B$2:$B$95=B96)*($G$2:$G$95)))) | O96: =IF(B96="","",IF(COUNTIF('Araçlar'!$A$2:$A$101,B96)=0,"Plaka araç listesinde yok",IF(A96="","Tarih girilmedi",IF(AND(E96<>"",G96<>"",G96<E96),"Dönüş km çıkıştan küçük",IF(OR(E96="",N96=0),"",IF(E96<N96,"Çıkış km önceki dönüşten küçük",IF(E96>N96,"Önceki dönüşten "&TEXT(E96-N96,"0")&" km fazla","")))))))
L97: =IF(OR(E97="",G97=""),"",IF(G97<E97,"",G97-E97)) | M97: =IF(OR(D97="",F97=""),"",IF(F97>=D97,F97-D97,F97-D97+1)*24) | N97: =IF(B97="","",SUMPRODUCT(MAX(($B$2:$B$96=B97)*($G$2:$G$96)))) | O97: =IF(B97="","",IF(COUNTIF('Araçlar'!$A$2:$A$101,B97)=0,"Plaka araç listesinde yok",IF(A97="","Tarih girilmedi",IF(AND(E97<>"",G97<>"",G97<E97),"Dönüş km çıkıştan küçük",IF(OR(E97="",N97=0),"",IF(E97<N97,"Çıkış km önceki dönüşten küçük",IF(E97>N97,"Önceki dönüşten "&TEXT(E97-N97,"0")&" km fazla","")))))))
L98: =IF(OR(E98="",G98=""),"",IF(G98<E98,"",G98-E98)) | M98: =IF(OR(D98="",F98=""),"",IF(F98>=D98,F98-D98,F98-D98+1)*24) | N98: =IF(B98="","",SUMPRODUCT(MAX(($B$2:$B$97=B98)*($G$2:$G$97)))) | O98: =IF(B98="","",IF(COUNTIF('Araçlar'!$A$2:$A$101,B98)=0,"Plaka araç listesinde yok",IF(A98="","Tarih girilmedi",IF(AND(E98<>"",G98<>"",G98<E98),"Dönüş km çıkıştan küçük",IF(OR(E98="",N98=0),"",IF(E98<N98,"Çıkış km önceki dönüşten küçük",IF(E98>N98,"Önceki dönüşten "&TEXT(E98-N98,"0")&" km fazla","")))))))
L99: =IF(OR(E99="",G99=""),"",IF(G99<E99,"",G99-E99)) | M99: =IF(OR(D99="",F99=""),"",IF(F99>=D99,F99-D99,F99-D99+1)*24) | N99: =IF(B99="","",SUMPRODUCT(MAX(($B$2:$B$98=B99)*($G$2:$G$98)))) | O99: =IF(B99="","",IF(COUNTIF('Araçlar'!$A$2:$A$101,B99)=0,"Plaka araç listesinde yok",IF(A99="","Tarih girilmedi",IF(AND(E99<>"",G99<>"",G99<E99),"Dönüş km çıkıştan küçük",IF(OR(E99="",N99=0),"",IF(E99<N99,"Çıkış km önceki dönüşten küçük",IF(E99>N99,"Önceki dönüşten "&TEXT(E99-N99,"0")&" km fazla","")))))))
L100: =IF(OR(E100="",G100=""),"",IF(G100<E100,"",G100-E100)) | M100: =IF(OR(D100="",F100=""),"",IF(F100>=D100,F100-D100,F100-D100+1)*24) | N100: =IF(B100="","",SUMPRODUCT(MAX(($B$2:$B$99=B100)*($G$2:$G$99)))) | O100: =IF(B100="","",IF(COUNTIF('Araçlar'!$A$2:$A$101,B100)=0,"Plaka araç listesinde yok",IF(A100="","Tarih girilmedi",IF(AND(E100<>"",G100<>"",G100<E100),"Dönüş km çıkıştan küçük",IF(OR(E100="",N100=0),"",IF(E100<N100,"Çıkış km önceki dönüşten küçük",IF(E100>N100,"Önceki dönüşten "&TEXT(E100-N100,"0")&" km fazla","")))))))
...

Sheet Bakım
A1: Tarih | B1: Plaka | C1: Km | D1: İşlem | E1: Yapılan iş / değişen parça | F1: Servis | G1: Tutar (TL) | H1: Sonraki bakım km | I1: Sonraki bakım tarihi | J1: Not

Sheet Özet
A1: Araç takip özeti
A2: Başlangıç tarihi
A3: Bitiş tarihi
A4: Belge ve bakım uyarısı (gün) | B4: 30
A5: Sarı hücreler sizin. Tarihleri boş bırakırsanız bütün kayıtlar sayılır; tarihi olmayan satır döneme girmez.
A7: Filo toplamı (seçili dönem)
A8: Araç sayısı | B8: =SUMPRODUCT(--(LEN('Araçlar'!$A$2:$A$101)>0))
A9: Belgesi süresi dolan araç | B9: =COUNTIF('Araçlar'!$P$2:$P$101,"Süresi doldu")
A10: Belgesi yaklaşan araç | B10: =COUNTIF('Araçlar'!$P$2:$P$101,"Yaklaşıyor")
A11: Belge tarihi girilmemiş araç | B11: =COUNTIF('Araçlar'!$P$2:$P$101,"Tarih girilmedi")
A12: Toplam km | B12: =SUMIFS('Günlük takip'!$L$2:$L$1001,'Günlük takip'!$A$2:$A$1001,">="&IF($B$2="",0,$B$2),'Günlük takip'!$A$2:$A$1001,"<="&IF($B$3="",2958465,$B$3))
A13: Yakıt (litre) | B13: =SUMIFS('Günlük takip'!$I$2:$I$1001,'Günlük takip'!$A$2:$A$1001,">="&IF($B$2="",0,$B$2),'Günlük takip'!$A$2:$A$1001,"<="&IF($B$3="",2958465,$B$3))
A14: Yakıt tutarı (TL) | B14: =SUMIFS('Günlük takip'!$J$2:$J$1001,'Günlük takip'!$A$2:$A$1001,">="&IF($B$2="",0,$B$2),'Günlük takip'!$A$2:$A$1001,"<="&IF($B$3="",2958465,$B$3))
A15: Ortalama tüketim (lt/100 km) | B15: =IF(B12>0,B13/B12*100,"")
A16: Bakım gideri (TL) | B16: =SUMIFS('Bakım'!$G$2:$G$301,'Bakım'!$A$2:$A$301,">="&IF($B$2="",0,$B$2),'Bakım'!$A$2:$A$301,"<="&IF($B$3="",2958465,$B$3))
A17: Yakıt + bakım, km başına (TL/km) | B17: =IF(B12>0,(B14+B16)/B12,"")
A18: Bakım zamanı gelen araç | B18: =COUNTIF($L$25:$L$124,"Bakım zamanı geldi")
A19: Kontrol uyarısı olan günlük satır | B19: =SUMPRODUCT(--(LEN('Günlük takip'!$O$2:$O$1001)>0))
A20: Tüketim dönem toplamından hesaplanır: depo her seferde dolmadığı için tek satırdan çıkan oran yanıltır.
A23: Araç bazında — sıra Araçlar sayfasıyla aynı
A24: Plaka | B24: Kayıt | C24: Km | D24: Yakıt (litre) | E24: Yakıt (TL) | F24: Tüketim (lt/100 km) | G24: Bakım (TL) | H24: Yakıt + bakım (TL/km) | I24: Son bilinen km | J24: Bakıma kalan km | K24: Bakıma kalan gün | L24: Bakım | M24: Belge | N24: Kontrol uyarısı
A25: =IF('Araçlar'!A2="","",'Araçlar'!A2) | B25: =IF($A25="","",COUNTIFS('Günlük takip'!$B$2:$B$1001,$A25,'Günlük takip'!$A$2:$A$1001,">="&IF($B$2="",0,$B$2),'Günlük takip'!$A$2:$A$1001,"<="&IF($B$3="",2958465,$B$3))) | C25: =IF($A25="","",SUMIFS('Günlük takip'!$L$2:$L$1001,'Günlük takip'!$B$2:$B$1001,$A25,'Günlük takip'!$A$2:$A$1001,">="&IF($B$2="",0,$B$2),'Günlük takip'!$A$2:$A$1001,"<="&IF($B$3="",2958465,$B$3))) | D25: =IF($A25="","",SUMIFS('Günlük takip'!$I$2:$I$1001,'Günlük takip'!$B$2:$B$1001,$A25,'Günlük takip'!$A$2:$A$1001,">="&IF($B$2="",0,$B$2),'Günlük takip'!$A$2:$A$1001,"<="&IF($B$3="",2958465,$B$3))) | E25: =IF($A25="","",SUMIFS('Günlük takip'!$J$2:$J$1001,'Günlük takip'!$B$2:$B$1001,$A25,'Günlük takip'!$A$2:$A$1001,">="&IF($B$2="",0,$B$2),'Günlük takip'!$A$2:$A$1001,"<="&IF($B$3="",2958465,$B$3))) | F25: =IF(OR($A25="",C25=0),"",D25/C25*100) | G25: =IF($A25="","",SUMIFS('Bakım'!$G$2:$G$301,'Bakım'!$B$2:$B$301,$A25,'Bakım'!$A$2:$A$301,">="&IF($B$2="",0,$B$2),'Bakım'!$A$2:$A$301,"<="&IF($B$3="",2958465,$B$3))) | H25: =IF(OR($A25="",C25=0),"",(E25+G25)/C25) | I25: =IF($A25="","",MAX(SUMPRODUCT(MAX(('Günlük takip'!$B$2:$B$1001=$A25)*'Günlük takip'!$G$2:$G$1001)),SUMPRODUCT(MAX(('Günlük takip'!$B$2:$B$1001=$A25)*'Günlük takip'!$E$2:$E$1001)),SUMPRODUCT(MAX(('Bakım'!$B$2:$B$301=$A25)*'Bakım'!$C$2:$C$301)))) | J25: =IF($A25="","",IF(SUMPRODUCT(MAX(('Bakım'!$B$2:$B$301=$A25)*'Bakım'!$H$2:$H$301))=0,"",SUMPRODUCT(MAX(('Bakım'!$B$2:$B$301=$A25)*'Bakım'!$H$2:$H$301))-I25)) | K25: =IF($A25="","",IF(SUMPRODUCT(MAX(('Bakım'!$B$2:$B$301=$A25)*'Bakım'!$I$2:$I$301))=0,"",SUMPRODUCT(MAX(('Bakım'!$B$2:$B$301=$A25)*'Bakım'!$I$2:$I$301))-TODAY())) | L25: =IF($A25="","",IF(OR(AND(J25<>"",J25<=0),AND(K25<>"",K25<=0)),"Bakım zamanı geldi",IF(AND(K25<>"",K25<=$B$4),"Yaklaşıyor",""))) | M25: =IF($A25="","",'Araçlar'!P2&IF(OR('Araçlar'!P2="Süresi doldu",'Araçlar'!P2="Yaklaşıyor")," · "&'Araçlar'!N2,"")) | N25: =IF($A25="","",SUMPRODUCT(('Günlük takip'!$B$2:$B$1001=$A25)*(LEN('Günlük takip'!$O$2:$O$1001)>0)))
A26: =IF('Araçlar'!A3="","",'Araçlar'!A3) | B26: =IF($A26="","",COUNTIFS('Günlük takip'!$B$2:$B$1001,$A26,'Günlük takip'!$A$2:$A$1001,">="&IF($B$2="",0,$B$2),'Günlük takip'!$A$2:$A$1001,"<="&IF($B$3="",2958465,$B$3))) | C26: =IF($A26="","",SUMIFS('Günlük takip'!$L$2:$L$1001,'Günlük takip'!$B$2:$B$1001,$A26,'Günlük takip'!$A$2:$A$1001,">="&IF($B$2="",0,$B$2),'Günlük takip'!$A$2:$A$1001,"<="&IF($B$3="",2958465,$B$3))) | D26: =IF($A26="","",SUMIFS('Günlük takip'!$I$2:$I$1001,'Günlük takip'!$B$2:$B$1001,$A26,'Günlük takip'!$A$2:$A$1001,">="&IF($B$2="",0,$B$2),'Günlük takip'!$A$2:$A$1001,"<="&IF($B$3="",2958465,$B$3))) | E26: =IF($A26="","",SUMIFS('Günlük takip'!$J$2:$J$1001,'Günlük takip'!$B$2:$B$1001,$A26,'Günlük takip'!$A$2:$A$1001,">="&IF($B$2="",0,$B$2),'Günlük takip'!$A$2:$A$1001,"<="&IF($B$3="",2958465,$B$3))) | F26: =IF(OR($A26="",C26=0),"",D26/C26*100) | G26: =IF($A26="","",SUMIFS('Bakım'!$G$2:$G$301,'Bakım'!$B$2:$B$301,$A26,'Bakım'!$A$2:$A$301,">="&IF($B$2="",0,$B$2),'Bakım'!$A$2:$A$301,"<="&IF($B$3="",2958465,$B$3))) | H26: =IF(OR($A26="",C26=0),"",(E26+G26)/C26) | I26: =IF($A26="","",MAX(SUMPRODUCT(MAX(('Günlük takip'!$B$2:$B$1001=$A26)*'Günlük takip'!$G$2:$G$1001)),SUMPRODUCT(MAX(('Günlük takip'!$B$2:$B$1001=$A26)*'Günlük takip'!$E$2:$E$1001)),SUMPRODUCT(MAX(('Bakım'!$B$2:$B$301=$A26)*'Bakım'!$C$2:$C$301)))) | J26: =IF($A26="","",IF(SUMPRODUCT(MAX(('Bakım'!$B$2:$B$301=$A26)*'Bakım'!$H$2:$H$301))=0,"",SUMPRODUCT(MAX(('Bakım'!$B$2:$B$301=$A26)*'Bakım'!$H$2:$H$301))-I26)) | K26: =IF($A26="","",IF(SUMPRODUCT(MAX(('Bakım'!$B$2:$B$301=$A26)*'Bakım'!$I$2:$I$301))=0,"",SUMPRODUCT(MAX(('Bakım'!$B$2:$B$301=$A26)*'Bakım'!$I$2:$I$301))-TODAY())) | L26: =IF($A26="","",IF(OR(AND(J26<>"",J26<=0),AND(K26<>"",K26<=0)),"Bakım zamanı geldi",IF(AND(K26<>"",K26<=$B$4),"Yaklaşıyor",""))) | M26: =IF($A26="","",'Araçlar'!P3&IF(OR('Araçlar'!P3="Süresi doldu",'Araçlar'!P3="Yaklaşıyor")," · "&'Araçlar'!N3,"")) | N26: =IF($A26="","",SUMPRODUCT(('Günlük takip'!$B$2:$B$1001=$A26)*(LEN('Günlük takip'!$O$2:$O$1001)>0)))
A27: =IF('Araçlar'!A4="","",'Araçlar'!A4) | B27: =IF($A27="","",COUNTIFS('Günlük takip'!$B$2:$B$1001,$A27,'Günlük takip'!$A$2:$A$1001,">="&IF($B$2="",0,$B$2),'Günlük takip'!$A$2:$A$1001,"<="&IF($B$3="",2958465,$B$3))) | C27: =IF($A27="","",SUMIFS('Günlük takip'!$L$2:$L$1001,'Günlük takip'!$B$2:$B$1001,$A27,'Günlük takip'!$A$2:$A$1001,">="&IF($B$2="",0,$B$2),'Günlük takip'!$A$2:$A$1001,"<="&IF($B$3="",2958465,$B$3))) | D27: =IF($A27="","",SUMIFS('Günlük takip'!$I$2:$I$1001,'Günlük takip'!$B$2:$B$1001,$A27,'Günlük takip'!$A$2:$A$1001,">="&IF($B$2="",0,$B$2),'Günlük takip'!$A$2:$A$1001,"<="&IF($B$3="",2958465,$B$3))) | E27: =IF($A27="","",SUMIFS('Günlük takip'!$J$2:$J$1001,'Günlük takip'!$B$2:$B$1001,$A27,'Günlük takip'!$A$2:$A$1001,">="&IF($B$2="",0,$B$2),'Günlük takip'!$A$2:$A$1001,"<="&IF($B$3="",2958465,$B$3))) | F27: =IF(OR($A27="",C27=0),"",D27/C27*100) | G27: =IF($A27="","",SUMIFS('Bakım'!$G$2:$G$301,'Bakım'!$B$2:$B$301,$A27,'Bakım'!$A$2:$A$301,">="&IF($B$2="",0,$B$2),'Bakım'!$A$2:$A$301,"<="&IF($B$3="",2958465,$B$3))) | H27: =IF(OR($A27="",C27=0),"",(E27+G27)/C27) | I27: =IF($A27="","",MAX(SUMPRODUCT(MAX(('Günlük takip'!$B$2:$B$1001=$A27)*'Günlük takip'!$G$2:$G$1001)),SUMPRODUCT(MAX(('Günlük takip'!$B$2:$B$1001=$A27)*'Günlük takip'!$E$2:$E$1001)),SUMPRODUCT(MAX(('Bakım'!$B$2:$B$301=$A27)*'Bakım'!$C$2:$C$301)))) | J27: =IF($A27="","",IF(SUMPRODUCT(MAX(('Bakım'!$B$2:$B$301=$A27)*'Bakım'!$H$2:$H$301))=0,"",SUMPRODUCT(MAX(('Bakım'!$B$2:$B$301=$A27)*'Bakım'!$H$2:$H$301))-I27)) | K27: =IF($A27="","",IF(SUMPRODUCT(MAX(('Bakım'!$B$2:$B$301=$A27)*'Bakım'!$I$2:$I$301))=0,"",SUMPRODUCT(MAX(('Bakım'!$B$2:$B$301=$A27)*'Bakım'!$I$2:$I$301))-TODAY())) | L27: =IF($A27="","",IF(OR(AND(J27<>"",J27<=0),AND(K27<>"",K27<=0)),"Bakım zamanı geldi",IF(AND(K27<>"",K27<=$B$4),"Yaklaşıyor",""))) | M27: =IF($A27="","",'Araçlar'!P4&IF(OR('Araçlar'!P4="Süresi doldu",'Araçlar'!P4="Yaklaşıyor")," · "&'Araçlar'!N4,"")) | N27: =IF($A27="","",SUMPRODUCT(('Günlük takip'!$B$2:$B$1001=$A27)*(LEN('Günlük takip'!$O$2:$O$1001)>0)))
A28: =IF('Araçlar'!A5="","",'Araçlar'!A5) | B28: =IF($A28="","",COUNTIFS('Günlük takip'!$B$2:$B$1001,$A28,'Günlük takip'!$A$2:$A$1001,">="&IF($B$2="",0,$B$2),'Günlük takip'!$A$2:$A$1001,"<="&IF($B$3="",2958465,$B$3))) | C28: =IF($A28="","",SUMIFS('Günlük takip'!$L$2:$L$1001,'Günlük takip'!$B$2:$B$1001,$A28,'Günlük takip'!$A$2:$A$1001,">="&IF($B$2="",0,$B$2),'Günlük takip'!$A$2:$A$1001,"<="&IF($B$3="",2958465,$B$3))) | D28: =IF($A28="","",SUMIFS('Günlük takip'!$I$2:$I$1001,'Günlük takip'!$B$2:$B$1001,$A28,'Günlük takip'!$A$2:$A$1001,">="&IF($B$2="",0,$B$2),'Günlük takip'!$A$2:$A$1001,"<="&IF($B$3="",2958465,$B$3))) | E28: =IF($A28="","",SUMIFS('Günlük takip'!$J$2:$J$1001,'Günlük takip'!$B$2:$B$1001,$A28,'Günlük takip'!$A$2:$A$1001,">="&IF($B$2="",0,$B$2),'Günlük takip'!$A$2:$A$1001,"<="&IF($B$3="",2958465,$B$3))) | F28: =IF(OR($A28="",C28=0),"",D28/C28*100) | G28: =IF($A28="","",SUMIFS('Bakım'!$G$2:$G$301,'Bakım'!$B$2:$B$301,$A28,'Bakım'!$A$2:$A$301,">="&IF($B$2="",0,$B$2),'Bakım'!$A$2:$A$301,"<="&IF($B$3="",2958465,$B$3))) | H28: =IF(OR($A28="",C28=0),"",(E28+G28)/C28) | I28: =IF($A28="","",MAX(SUMPRODUCT(MAX(('Günlük takip'!$B$2:$B$1001=$A28)*'Günlük takip'!$G$2:$G$1001)),SUMPRODUCT(MAX(('Günlük takip'!$B$2:$B$1001=$A28)*'Günlük takip'!$E$2:$E$1001)),SUMPRODUCT(MAX(('Bakım'!$B$2:$B$301=$A28)*'Bakım'!$C$2:$C$301)))) | J28: =IF($A28="","",IF(SUMPRODUCT(MAX(('Bakım'!$B$2:$B$301=$A28)*'Bakım'!$H$2:$H$301))=0,"",SUMPRODUCT(MAX(('Bakım'!$B$2:$B$301=$A28)*'Bakım'!$H$2:$H$301))-I28)) | K28: =IF($A28="","",IF(SUMPRODUCT(MAX(('Bakım'!$B$2:$B$301=$A28)*'Bakım'!$I$2:$I$301))=0,"",SUMPRODUCT(MAX(('Bakım'!$B$2:$B$301=$A28)*'Bakım'!$I$2:$I$301))-TODAY())) | L28: =IF($A28="","",IF(OR(AND(J28<>"",J28<=0),AND(K28<>"",K28<=0)),"Bakım zamanı geldi",IF(AND(K28<>"",K28<=$B$4),"Yaklaşıyor",""))) | M28: =IF($A28="","",'Araçlar'!P5&IF(OR('Araçlar'!P5="Süresi doldu",'Araçlar'!P5="Yaklaşıyor")," · "&'Araçlar'!N5,"")) | N28: =IF($A28="","",SUMPRODUCT(('Günlük takip'!$B$2:$B$1001=$A28)*(LEN('Günlük takip'!$O$2:$O$1001)>0)))
A29: =IF('Araçlar'!A6="","",'Araçlar'!A6) | B29: =IF($A29="","",COUNTIFS('Günlük takip'!$B$2:$B$1001,$A29,'Günlük takip'!$A$2:$A$1001,">="&IF($B$2="",0,$B$2),'Günlük takip'!$A$2:$A$1001,"<="&IF($B$3="",2958465,$B$3))) | C29: =IF($A29="","",SUMIFS('Günlük takip'!$L$2:$L$1001,'Günlük takip'!$B$2:$B$1001,$A29,'Günlük takip'!$A$2:$A$1001,">="&IF($B$2="",0,$B$2),'Günlük takip'!$A$2:$A$1001,"<="&IF($B$3="",2958465,$B$3))) | D29: =IF($A29="","",SUMIFS('Günlük takip'!$I$2:$I$1001,'Günlük takip'!$B$2:$B$1001,$A29,'Günlük takip'!$A$2:$A$1001,">="&IF($B$2="",0,$B$2),'Günlük takip'!$A$2:$A$1001,"<="&IF($B$3="",2958465,$B$3))) | E29: =IF($A29="","",SUMIFS('Günlük takip'!$J$2:$J$1001,'Günlük takip'!$B$2:$B$1001,$A29,'Günlük takip'!$A$2:$A$1001,">="&IF($B$2="",0,$B$2),'Günlük takip'!$A$2:$A$1001,"<="&IF($B$3="",2958465,$B$3))) | F29: =IF(OR($A29="",C29=0),"",D29/C29*100) | G29: =IF($A29="","",SUMIFS('Bakım'!$G$2:$G$301,'Bakım'!$B$2:$B$301,$A29,'Bakım'!$A$2:$A$301,">="&IF($B$2="",0,$B$2),'Bakım'!$A$2:$A$301,"<="&IF($B$3="",2958465,$B$3))) | H29: =IF(OR($A29="",C29=0),"",(E29+G29)/C29) | I29: =IF($A29="","",MAX(SUMPRODUCT(MAX(('Günlük takip'!$B$2:$B$1001=$A29)*'Günlük takip'!$G$2:$G$1001)),SUMPRODUCT(MAX(('Günlük takip'!$B$2:$B$1001=$A29)*'Günlük takip'!$E$2:$E$1001)),SUMPRODUCT(MAX(('Bakım'!$B$2:$B$301=$A29)*'Bakım'!$C$2:$C$301)))) | J29: =IF($A29="","",IF(SUMPRODUCT(MAX(('Bakım'!$B$2:$B$301=$A29)*'Bakım'!$H$2:$H$301))=0,"",SUMPRODUCT(MAX(('Bakım'!$B$2:$B$301=$A29)*'Bakım'!$H$2:$H$301))-I29)) | K29: =IF($A29="","",IF(SUMPRODUCT(MAX(('Bakım'!$B$2:$B$301=$A29)*'Bakım'!$I$2:$I$301))=0,"",SUMPRODUCT(MAX(('Bakım'!$B$2:$B$301=$A29)*'Bakım'!$I$2:$I$301))-TODAY())) | L29: =IF($A29="","",IF(OR(AND(J29<>"",J29<=0),AND(K29<>"",K29<=0)),"Bakım zamanı geldi",IF(AND(K29<>"",K29<=$B$4),"Yaklaşıyor",""))) | M29: =IF($A29="","",'Araçlar'!P6&IF(OR('Araçlar'!P6="Süresi doldu",'Araçlar'!P6="Yaklaşıyor")," · "&'Araçlar'!N6,"")) | N29: =IF($A29="","",SUMPRODUCT(('Günlük takip'!$B$2:$B$1001=$A29)*(LEN('Günlük takip'!$O$2:$O$1001)>0)))
A30: =IF('Araçlar'!A7="","",'Araçlar'!A7) | B30: =IF($A30="","",COUNTIFS('Günlük takip'!$B$2:$B$1001,$A30,'Günlük takip'!$A$2:$A$1001,">="&IF($B$2="",0,$B$2),'Günlük takip'!$A$2:$A$1001,"<="&IF($B$3="",2958465,$B$3))) | C30: =IF($A30="","",SUMIFS('Günlük takip'!$L$2:$L$1001,'Günlük takip'!$B$2:$B$1001,$A30,'Günlük takip'!$A$2:$A$1001,">="&IF($B$2="",0,$B$2),'Günlük takip'!$A$2:$A$1001,"<="&IF($B$3="",2958465,$B$3))) | D30: =IF($A30="","",SUMIFS('Günlük takip'!$I$2:$I$1001,'Günlük takip'!$B$2:$B$1001,$A30,'Günlük takip'!$A$2:$A$1001,">="&IF($B$2="",0,$B$2),'Günlük takip'!$A$2:$A$1001,"<="&IF($B$3="",2958465,$B$3))) | E30: =IF($A30="","",SUMIFS('Günlük takip'!$J$2:$J$1001,'Günlük takip'!$B$2:$B$1001,$A30,'Günlük takip'!$A$2:$A$1001,">="&IF($B$2="",0,$B$2),'Günlük takip'!$A$2:$A$1001,"<="&IF($B$3="",2958465,$B$3))) | F30: =IF(OR($A30="",C30=0),"",D30/C30*100) | G30: =IF($A30="","",SUMIFS('Bakım'!$G$2:$G$301,'Bakım'!$B$2:$B$301,$A30,'Bakım'!$A$2:$A$301,">="&IF($B$2="",0,$B$2),'Bakım'!$A$2:$A$301,"<="&IF($B$3="",2958465,$B$3))) | H30: =IF(OR($A30="",C30=0),"",(E30+G30)/C30) | I30: =IF($A30="","",MAX(SUMPRODUCT(MAX(('Günlük takip'!$B$2:$B$1001=$A30)*'Günlük takip'!$G$2:$G$1001)),SUMPRODUCT(MAX(('Günlük takip'!$B$2:$B$1001=$A30)*'Günlük takip'!$E$2:$E$1001)),SUMPRODUCT(MAX(('Bakım'!$B$2:$B$301=$A30)*'Bakım'!$C$2:$C$301)))) | J30: =IF($A30="","",IF(SUMPRODUCT(MAX(('Bakım'!$B$2:$B$301=$A30)*'Bakım'!$H$2:$H$301))=0,"",SUMPRODUCT(MAX(('Bakım'!$B$2:$B$301=$A30)*'Bakım'!$H$2:$H$301))-I30)) | K30: =IF($A30="","",IF(SUMPRODUCT(MAX(('Bakım'!$B$2:$B$301=$A30)*'Bakım'!$I$2:$I$301))=0,"",SUMPRODUCT(MAX(('Bakım'!$B$2:$B$301=$A30)*'Bakım'!$I$2:$I$301))-TODAY())) | L30: =IF($A30="","",IF(OR(AND(J30<>"",J30<=0),AND(K30<>"",K30<=0)),"Bakım zamanı geldi",IF(AND(K30<>"",K30<=$B$4),"Yaklaşıyor",""))) | M30: =IF($A30="","",'Araçlar'!P7&IF(OR('Araçlar'!P7="Süresi doldu",'Araçlar'!P7="Yaklaşıyor")," · "&'Araçlar'!N7,"")) | N30: =IF($A30="","",SUMPRODUCT(('Günlük takip'!$B$2:$B$1001=$A30)*(LEN('Günlük takip'!$O$2:$O$1001)>0)))
A31: =IF('Araçlar'!A8="","",'Araçlar'!A8) | B31: =IF($A31="","",COUNTIFS('Günlük takip'!$B$2:$B$1001,$A31,'Günlük takip'!$A$2:$A$1001,">="&IF($B$2="",0,$B$2),'Günlük takip'!$A$2:$A$1001,"<="&IF($B$3="",2958465,$B$3))) | C31: =IF($A31="","",SUMIFS('Günlük takip'!$L$2:$L$1001,'Günlük takip'!$B$2:$B$1001,$A31,'Günlük takip'!$A$2:$A$1001,">="&IF($B$2="",0,$B$2),'Günlük takip'!$A$2:$A$1001,"<="&IF($B$3="",2958465,$B$3))) | D31: =IF($A31="","",SUMIFS('Günlük takip'!$I$2:$I$1001,'Günlük takip'!$B$2:$B$1001,$A31,'Günlük takip'!$A$2:$A$1001,">="&IF($B$2="",0,$B$2),'Günlük takip'!$A$2:$A$1001,"<="&IF($B$3="",2958465,$B$3))) | E31: =IF($A31="","",SUMIFS('Günlük takip'!$J$2:$J$1001,'Günlük takip'!$B$2:$B$1001,$A31,'Günlük takip'!$A$2:$A$1001,">="&IF($B$2="",0,$B$2),'Günlük takip'!$A$2:$A$1001,"<="&IF($B$3="",2958465,$B$3))) | F31: =IF(OR($A31="",C31=0),"",D31/C31*100) | G31: =IF($A31="","",SUMIFS('Bakım'!$G$2:$G$301,'Bakım'!$B$2:$B$301,$A31,'Bakım'!$A$2:$A$301,">="&IF($B$2="",0,$B$2),'Bakım'!$A$2:$A$301,"<="&IF($B$3="",2958465,$B$3))) | H31: =IF(OR($A31="",C31=0),"",(E31+G31)/C31) | I31: =IF($A31="","",MAX(SUMPRODUCT(MAX(('Günlük takip'!$B$2:$B$1001=$A31)*'Günlük takip'!$G$2:$G$1001)),SUMPRODUCT(MAX(('Günlük takip'!$B$2:$B$1001=$A31)*'Günlük takip'!$E$2:$E$1001)),SUMPRODUCT(MAX(('Bakım'!$B$2:$B$301=$A31)*'Bakım'!$C$2:$C$301)))) | J31: =IF($A31="","",IF(SUMPRODUCT(MAX(('Bakım'!$B$2:$B$301=$A31)*'Bakım'!$H$2:$H$301))=0,"",SUMPRODUCT(MAX(('Bakım'!$B$2:$B$301=$A31)*'Bakım'!$H$2:$H$301))-I31)) | K31: =IF($A31="","",IF(SUMPRODUCT(MAX(('Bakım'!$B$2:$B$301=$A31)*'Bakım'!$I$2:$I$301))=0,"",SUMPRODUCT(MAX(('Bakım'!$B$2:$B$301=$A31)*'Bakım'!$I$2:$I$301))-TODAY())) | L31: =IF($A31="","",IF(OR(AND(J31<>"",J31<=0),AND(K31<>"",K31<=0)),"Bakım zamanı geldi",IF(AND(K31<>"",K31<=$B$4),"Yaklaşıyor",""))) | M31: =IF($A31="","",'Araçlar'!P8&IF(OR('Araçlar'!P8="Süresi doldu",'Araçlar'!P8="Yaklaşıyor")," · "&'Araçlar'!N8,"")) | N31: =IF($A31="","",SUMPRODUCT(('Günlük takip'!$B$2:$B$1001=$A31)*(LEN('Günlük takip'!$O$2:$O$1001)>0)))
A32: =IF('Araçlar'!A9="","",'Araçlar'!A9) | B32: =IF($A32="","",COUNTIFS('Günlük takip'!$B$2:$B$1001,$A32,'Günlük takip'!$A$2:$A$1001,">="&IF($B$2="",0,$B$2),'Günlük takip'!$A$2:$A$1001,"<="&IF($B$3="",2958465,$B$3))) | C32: =IF($A32="","",SUMIFS('Günlük takip'!$L$2:$L$1001,'Günlük takip'!$B$2:$B$1001,$A32,'Günlük takip'!$A$2:$A$1001,">="&IF($B$2="",0,$B$2),'Günlük takip'!$A$2:$A$1001,"<="&IF($B$3="",2958465,$B$3))) | D32: =IF($A32="","",SUMIFS('Günlük takip'!$I$2:$I$1001,'Günlük takip'!$B$2:$B$1001,$A32,'Günlük takip'!$A$2:$A$1001,">="&IF($B$2="",0,$B$2),'Günlük takip'!$A$2:$A$1001,"<="&IF($B$3="",2958465,$B$3))) | E32: =IF($A32="","",SUMIFS('Günlük takip'!$J$2:$J$1001,'Günlük takip'!$B$2:$B$1001,$A32,'Günlük takip'!$A$2:$A$1001,">="&IF($B$2="",0,$B$2),'Günlük takip'!$A$2:$A$1001,"<="&IF($B$3="",2958465,$B$3))) | F32: =IF(OR($A32="",C32=0),"",D32/C32*100) | G32: =IF($A32="","",SUMIFS('Bakım'!$G$2:$G$301,'Bakım'!$B$2:$B$301,$A32,'Bakım'!$A$2:$A$301,">="&IF($B$2="",0,$B$2),'Bakım'!$A$2:$A$301,"<="&IF($B$3="",2958465,$B$3))) | H32: =IF(OR($A32="",C32=0),"",(E32+G32)/C32) | I32: =IF($A32="","",MAX(SUMPRODUCT(MAX(('Günlük takip'!$B$2:$B$1001=$A32)*'Günlük takip'!$G$2:$G$1001)),SUMPRODUCT(MAX(('Günlük takip'!$B$2:$B$1001=$A32)*'Günlük takip'!$E$2:$E$1001)),SUMPRODUCT(MAX(('Bakım'!$B$2:$B$301=$A32)*'Bakım'!$C$2:$C$301)))) | J32: =IF($A32="","",IF(SUMPRODUCT(MAX(('Bakım'!$B$2:$B$301=$A32)*'Bakım'!$H$2:$H$301))=0,"",SUMPRODUCT(MAX(('Bakım'!$B$2:$B$301=$A32)*'Bakım'!$H$2:$H$301))-I32)) | K32: =IF($A32="","",IF(SUMPRODUCT(MAX(('Bakım'!$B$2:$B$301=$A32)*'Bakım'!$I$2:$I$301))=0,"",SUMPRODUCT(MAX(('Bakım'!$B$2:$B$301=$A32)*'Bakım'!$I$2:$I$301))-TODAY())) | L32: =IF($A32="","",IF(OR(AND(J32<>"",J32<=0),AND(K32<>"",K32<=0)),"Bakım zamanı geldi",IF(AND(K32<>"",K32<=$B$4),"Yaklaşıyor",""))) | M32: =IF($A32="","",'Araçlar'!P9&IF(OR('Araçlar'!P9="Süresi doldu",'Araçlar'!P9="Yaklaşıyor")," · "&'Araçlar'!N9,"")) | N32: =IF($A32="","",SUMPRODUCT(('Günlük takip'!$B$2:$B$1001=$A32)*(LEN('Günlük takip'!$O$2:$O$1001)>0)))
A33: =IF('Araçlar'!A10="","",'Araçlar'!A10) | B33: =IF($A33="","",COUNTIFS('Günlük takip'!$B$2:$B$1001,$A33,'Günlük takip'!$A$2:$A$1001,">="&IF($B$2="",0,$B$2),'Günlük takip'!$A$2:$A$1001,"<="&IF($B$3="",2958465,$B$3))) | C33: =IF($A33="","",SUMIFS('Günlük takip'!$L$2:$L$1001,'Günlük takip'!$B$2:$B$1001,$A33,'Günlük takip'!$A$2:$A$1001,">="&IF($B$2="",0,$B$2),'Günlük takip'!$A$2:$A$1001,"<="&IF($B$3="",2958465,$B$3))) | D33: =IF($A33="","",SUMIFS('Günlük takip'!$I$2:$I$1001,'Günlük takip'!$B$2:$B$1001,$A33,'Günlük takip'!$A$2:$A$1001,">="&IF($B$2="",0,$B$2),'Günlük takip'!$A$2:$A$1001,"<="&IF($B$3="",2958465,$B$3))) | E33: =IF($A33="","",SUMIFS('Günlük takip'!$J$2:$J$1001,'Günlük takip'!$B$2:$B$1001,$A33,'Günlük takip'!$A$2:$A$1001,">="&IF($B$2="",0,$B$2),'Günlük takip'!$A$2:$A$1001,"<="&IF($B$3="",2958465,$B$3))) | F33: =IF(OR($A33="",C33=0),"",D33/C33*100) | G33: =IF($A33="","",SUMIFS('Bakım'!$G$2:$G$301,'Bakım'!$B$2:$B$301,$A33,'Bakım'!$A$2:$A$301,">="&IF($B$2="",0,$B$2),'Bakım'!$A$2:$A$301,"<="&IF($B$3="",2958465,$B$3))) | H33: =IF(OR($A33="",C33=0),"",(E33+G33)/C33) | I33: =IF($A33="","",MAX(SUMPRODUCT(MAX(('Günlük takip'!$B$2:$B$1001=$A33)*'Günlük takip'!$G$2:$G$1001)),SUMPRODUCT(MAX(('Günlük takip'!$B$2:$B$1001=$A33)*'Günlük takip'!$E$2:$E$1001)),SUMPRODUCT(MAX(('Bakım'!$B$2:$B$301=$A33)*'Bakım'!$C$2:$C$301)))) | J33: =IF($A33="","",IF(SUMPRODUCT(MAX(('Bakım'!$B$2:$B$301=$A33)*'Bakım'!$H$2:$H$301))=0,"",SUMPRODUCT(MAX(('Bakım'!$B$2:$B$301=$A33)*'Bakım'!$H$2:$H$301))-I33)) | K33: =IF($A33="","",IF(SUMPRODUCT(MAX(('Bakım'!$B$2:$B$301=$A33)*'Bakım'!$I$2:$I$301))=0,"",SUMPRODUCT(MAX(('Bakım'!$B$2:$B$301=$A33)*'Bakım'!$I$2:$I$301))-TODAY())) | L33: =IF($A33="","",IF(OR(AND(J33<>"",J33<=0),AND(K33<>"",K33<=0)),"Bakım zamanı geldi",IF(AND(K33<>"",K33<=$B$4),"Yaklaşıyor",""))) | M33: =IF($A33="","",'Araçlar'!P10&IF(OR('Araçlar'!P10="Süresi doldu",'Araçlar'!P10="Yaklaşıyor")," · "&'Araçlar'!N10,"")) | N33: =IF($A33="","",SUMPRODUCT(('Günlük takip'!$B$2:$B$1001=$A33)*(LEN('Günlük takip'!$O$2:$O$1001)>0)))
A34: =IF('Araçlar'!A11="","",'Araçlar'!A11) | B34: =IF($A34="","",COUNTIFS('Günlük takip'!$B$2:$B$1001,$A34,'Günlük takip'!$A$2:$A$1001,">="&IF($B$2="",0,$B$2),'Günlük takip'!$A$2:$A$1001,"<="&IF($B$3="",2958465,$B$3))) | C34: =IF($A34="","",SUMIFS('Günlük takip'!$L$2:$L$1001,'Günlük takip'!$B$2:$B$1001,$A34,'Günlük takip'!$A$2:$A$1001,">="&IF($B$2="",0,$B$2),'Günlük takip'!$A$2:$A$1001,"<="&IF($B$3="",2958465,$B$3))) | D34: =IF($A34="","",SUMIFS('Günlük takip'!$I$2:$I$1001,'Günlük takip'!$B$2:$B$1001,$A34,'Günlük takip'!$A$2:$A$1001,">="&IF($B$2="",0,$B$2),'Günlük takip'!$A$2:$A$1001,"<="&IF($B$3="",2958465,$B$3))) | E34: =IF($A34="","",SUMIFS('Günlük takip'!$J$2:$J$1001,'Günlük takip'!$B$2:$B$1001,$A34,'Günlük takip'!$A$2:$A$1001,">="&IF($B$2="",0,$B$2),'Günlük takip'!$A$2:$A$1001,"<="&IF($B$3="",2958465,$B$3))) | F34: =IF(OR($A34="",C34=0),"",D34/C34*100) | G34: =IF($A34="","",SUMIFS('Bakım'!$G$2:$G$301,'Bakım'!$B$2:$B$301,$A34,'Bakım'!$A$2:$A$301,">="&IF($B$2="",0,$B$2),'Bakım'!$A$2:$A$301,"<="&IF($B$3="",2958465,$B$3))) | H34: =IF(OR($A34="",C34=0),"",(E34+G34)/C34) | I34: =IF($A34="","",MAX(SUMPRODUCT(MAX(('Günlük takip'!$B$2:$B$1001=$A34)*'Günlük takip'!$G$2:$G$1001)),SUMPRODUCT(MAX(('Günlük takip'!$B$2:$B$1001=$A34)*'Günlük takip'!$E$2:$E$1001)),SUMPRODUCT(MAX(('Bakım'!$B$2:$B$301=$A34)*'Bakım'!$C$2:$C$301)))) | J34: =IF($A34="","",IF(SUMPRODUCT(MAX(('Bakım'!$B$2:$B$301=$A34)*'Bakım'!$H$2:$H$301))=0,"",SUMPRODUCT(MAX(('Bakım'!$B$2:$B$301=$A34)*'Bakım'!$H$2:$H$301))-I34)) | K34: =IF($A34="","",IF(SUMPRODUCT(MAX(('Bakım'!$B$2:$B$301=$A34)*'Bakım'!$I$2:$I$301))=0,"",SUMPRODUCT(MAX(('Bakım'!$B$2:$B$301=$A34)*'Bakım'!$I$2:$I$301))-TODAY())) | L34: =IF($A34="","",IF(OR(AND(J34<>"",J34<=0),AND(K34<>"",K34<=0)),"Bakım zamanı geldi",IF(AND(K34<>"",K34<=$B$4),"Yaklaşıyor",""))) | M34: =IF($A34="","",'Araçlar'!P11&IF(OR('Araçlar'!P11="Süresi doldu",'Araçlar'!P11="Yaklaşıyor")," · "&'Araçlar'!N11,"")) | N34: =IF($A34="","",SUMPRODUCT(('Günlük takip'!$B$2:$B$1001=$A34)*(LEN('Günlük takip'!$O$2:$O$1001)>0)))
A35: =IF('Araçlar'!A12="","",'Araçlar'!A12) | B35: =IF($A35="","",COUNTIFS('Günlük takip'!$B$2:$B$1001,$A35,'Günlük takip'!$A$2:$A$1001,">="&IF($B$2="",0,$B$2),'Günlük takip'!$A$2:$A$1001,"<="&IF($B$3="",2958465,$B$3))) | C35: =IF($A35="","",SUMIFS('Günlük takip'!$L$2:$L$1001,'Günlük takip'!$B$2:$B$1001,$A35,'Günlük takip'!$A$2:$A$1001,">="&IF($B$2="",0,$B$2),'Günlük takip'!$A$2:$A$1001,"<="&IF($B$3="",2958465,$B$3))) | D35: =IF($A35="","",SUMIFS('Günlük takip'!$I$2:$I$1001,'Günlük takip'!$B$2:$B$1001,$A35,'Günlük takip'!$A$2:$A$1001,">="&IF($B$2="",0,$B$2),'Günlük takip'!$A$2:$A$1001,"<="&IF($B$3="",2958465,$B$3))) | E35: =IF($A35="","",SUMIFS('Günlük takip'!$J$2:$J$1001,'Günlük takip'!$B$2:$B$1001,$A35,'Günlük takip'!$A$2:$A$1001,">="&IF($B$2="",0,$B$2),'Günlük takip'!$A$2:$A$1001,"<="&IF($B$3="",2958465,$B$3))) | F35: =IF(OR($A35="",C35=0),"",D35/C35*100) | G35: =IF($A35="","",SUMIFS('Bakım'!$G$2:$G$301,'Bakım'!$B$2:$B$301,$A35,'Bakım'!$A$2:$A$301,">="&IF($B$2="",0,$B$2),'Bakım'!$A$2:$A$301,"<="&IF($B$3="",2958465,$B$3))) | H35: =IF(OR($A35="",C35=0),"",(E35+G35)/C35) | I35: =IF($A35="","",MAX(SUMPRODUCT(MAX(('Günlük takip'!$B$2:$B$1001=$A35)*'Günlük takip'!$G$2:$G$1001)),SUMPRODUCT(MAX(('Günlük takip'!$B$2:$B$1001=$A35)*'Günlük takip'!$E$2:$E$1001)),SUMPRODUCT(MAX(('Bakım'!$B$2:$B$301=$A35)*'Bakım'!$C$2:$C$301)))) | J35: =IF($A35="","",IF(SUMPRODUCT(MAX(('Bakım'!$B$2:$B$301=$A35)*'Bakım'!$H$2:$H$301))=0,"",SUMPRODUCT(MAX(('Bakım'!$B$2:$B$301=$A35)*'Bakım'!$H$2:$H$301))-I35)) | K35: =IF($A35="","",IF(SUMPRODUCT(MAX(('Bakım'!$B$2:$B$301=$A35)*'Bakım'!$I$2:$I$301))=0,"",SUMPRODUCT(MAX(('Bakım'!$B$2:$B$301=$A35)*'Bakım'!$I$2:$I$301))-TODAY())) | L35: =IF($A35="","",IF(OR(AND(J35<>"",J35<=0),AND(K35<>"",K35<=0)),"Bakım zamanı geldi",IF(AND(K35<>"",K35<=$B$4),"Yaklaşıyor",""))) | M35: =IF($A35="","",'Araçlar'!P12&IF(OR('Araçlar'!P12="Süresi doldu",'Araçlar'!P12="Yaklaşıyor")," · "&'Araçlar'!N12,"")) | N35: =IF($A35="","",SUMPRODUCT(('Günlük takip'!$B$2:$B$1001=$A35)*(LEN('Günlük takip'!$O$2:$O$1001)>0)))
A36: =IF('Araçlar'!A13="","",'Araçlar'!A13) | B36: =IF($A36="","",COUNTIFS('Günlük takip'!$B$2:$B$1001,$A36,'Günlük takip'!$A$2:$A$1001,">="&IF($B$2="",0,$B$2),'Günlük takip'!$A$2:$A$1001,"<="&IF($B$3="",2958465,$B$3))) | C36: =IF($A36="","",SUMIFS('Günlük takip'!$L$2:$L$1001,'Günlük takip'!$B$2:$B$1001,$A36,'Günlük takip'!$A$2:$A$1001,">="&IF($B$2="",0,$B$2),'Günlük takip'!$A$2:$A$1001,"<="&IF($B$3="",2958465,$B$3))) | D36: =IF($A36="","",SUMIFS('Günlük takip'!$I$2:$I$1001,'Günlük takip'!$B$2:$B$1001,$A36,'Günlük takip'!$A$2:$A$1001,">="&IF($B$2="",0,$B$2),'Günlük takip'!$A$2:$A$1001,"<="&IF($B$3="",2958465,$B$3))) | E36: =IF($A36="","",SUMIFS('Günlük takip'!$J$2:$J$1001,'Günlük takip'!$B$2:$B$1001,$A36,'Günlük takip'!$A$2:$A$1001,">="&IF($B$2="",0,$B$2),'Günlük takip'!$A$2:$A$1001,"<="&IF($B$3="",2958465,$B$3))) | F36: =IF(OR($A36="",C36=0),"",D36/C36*100) | G36: =IF($A36="","",SUMIFS('Bakım'!$G$2:$G$301,'Bakım'!$B$2:$B$301,$A36,'Bakım'!$A$2:$A$301,">="&IF($B$2="",0,$B$2),'Bakım'!$A$2:$A$301,"<="&IF($B$3="",2958465,$B$3))) | H36: =IF(OR($A36="",C36=0),"",(E36+G36)/C36) | I36: =IF($A36="","",MAX(SUMPRODUCT(MAX(('Günlük takip'!$B$2:$B$1001=$A36)*'Günlük takip'!$G$2:$G$1001)),SUMPRODUCT(MAX(('Günlük takip'!$B$2:$B$1001=$A36)*'Günlük takip'!$E$2:$E$1001)),SUMPRODUCT(MAX(('Bakım'!$B$2:$B$301=$A36)*'Bakım'!$C$2:$C$301)))) | J36: =IF($A36="","",IF(SUMPRODUCT(MAX(('Bakım'!$B$2:$B$301=$A36)*'Bakım'!$H$2:$H$301))=0,"",SUMPRODUCT(MAX(('Bakım'!$B$2:$B$301=$A36)*'Bakım'!$H$2:$H$301))-I36)) | K36: =IF($A36="","",IF(SUMPRODUCT(MAX(('Bakım'!$B$2:$B$301=$A36)*'Bakım'!$I$2:$I$301))=0,"",SUMPRODUCT(MAX(('Bakım'!$B$2:$B$301=$A36)*'Bakım'!$I$2:$I$301))-TODAY())) | L36: =IF($A36="","",IF(OR(AND(J36<>"",J36<=0),AND(K36<>"",K36<=0)),"Bakım zamanı geldi",IF(AND(K36<>"",K36<=$B$4),"Yaklaşıyor",""))) | M36: =IF($A36="","",'Araçlar'!P13&IF(OR('Araçlar'!P13="Süresi doldu",'Araçlar'!P13="Yaklaşıyor")," · "&'Araçlar'!N13,"")) | N36: =IF($A36="","",SUMPRODUCT(('Günlük takip'!$B$2:$B$1001=$A36)*(LEN('Günlük takip'!$O$2:$O$1001)>0)))
... A124: =IF('Araçlar'!A101="","",'Araçlar'!A101) | B124: =IF($A124="","",COUNTIFS('Günlük takip'!$B$2:$B$1001,$A124,'Günlük takip'!$A$2:$A$1001,">="&IF($B$2="",0,$B$2),'Günlük takip'!$A$2:$A$1001,"<="&IF($B$3="",2958465,$B$3))) | C124: =IF($A124="","",SUMIFS('Günlük takip'!$L$2:$L$1001,'Günlük takip'!$B$2:$B$1001,$A124,'Günlük takip'!$A$2:$A$1001,">="&IF($B$2="",0,$B$2),'Günlük takip'!$A$2:$A$1001,"<="&IF($B$3="",2958465,$B$3))) | D124: =IF($A124="","",SUMIFS('Günlük takip'!$I$2:$I$1001,'Günlük takip'!$B$2:$B$1001,$A124,'Günlük takip'!$A$2:$A$1001,">="&IF($B$2="",0,$B$2),'Günlük takip'!$A$2:$A$1001,"<="&IF($B$3="",2958465,$B$3))) | E124: =IF($A124="","",SUMIFS('Günlük takip'!$J$2:$J$1001,'Günlük takip'!$B$2:$B$1001,$A124,'Günlük takip'!$A$2:$A$1001,">="&IF($B$2="",0,$B$2),'Günlük takip'!$A$2:$A$1001,"<="&IF($B$3="",2958465,$B$3))) | F124: =IF(OR($A124="",C124=0),"",D124/C124*100) | G124: =IF($A124="","",SUMIFS('Bakım'!$G$2:$G$301,'Bakım'!$B$2:$B$301,$A124,'Bakım'!$A$2:$A$301,">="&IF($B$2="",0,$B$2),'Bakım'!$A$2:$A$301,"<="&IF($B$3="",2958465,$B$3))) | H124: =IF(OR($A124="",C124=0),"",(E124+G124)/C124) | I124: =IF($A124="","",MAX(SUMPRODUCT(MAX(('Günlük takip'!$B$2:$B$1001=$A124)*'Günlük takip'!$G$2:$G$1001)),SUMPRODUCT(MAX(('Günlük takip'!$B$2:$B$1001=$A124)*'Günlük takip'!$E$2:$E$1001)),SUMPRODUCT(MAX(('Bakım'!$B$2:$B$301=$A124)*'Bakım'!$C$2:$C$301)))) | J124: =IF($A124="","",IF(SUMPRODUCT(MAX(('Bakım'!$B$2:$B$301=$A124)*'Bakım'!$H$2:$H$301))=0,"",SUMPRODUCT(MAX(('Bakım'!$B$2:$B$301=$A124)*'Bakım'!$H$2:$H$301))-I124)) | K124: =IF($A124="","",IF(SUMPRODUCT(MAX(('Bakım'!$B$2:$B$301=$A124)*'Bakım'!$I$2:$I$301))=0,"",SUMPRODUCT(MAX(('Bakım'!$B$2:$B$301=$A124)*'Bakım'!$I$2:$I$301))-TODAY())) | L124: =IF($A124="","",IF(OR(AND(J124<>"",J124<=0),AND(K124<>"",K124<=0)),"Bakım zamanı geldi",IF(AND(K124<>"",K124<=$B$4),"Yaklaşıyor",""))) | M124: =IF($A124="","",'Araçlar'!P101&IF(OR('Araçlar'!P101="Süresi doldu",'Araçlar'!P101="Yaklaşıyor")," · "&'Araçlar'!N101,"")) | N124: =IF($A124="","",SUMPRODUCT(('Günlük takip'!$B$2:$B$1001=$A124)*(LEN('Günlük takip'!$O$2:$O$1001)>0)))

Sheet Nasıl kullanılır
A1: Bu çizelge nasıl kullanılır
A3: 1. 'Araçlar' sayfasına her aracı bir kez girin: plaka, tür, mülkiyet ve belgelerin bitiş tarihleri.
A4: Plakayı her sayfada aynı yazın (boşluklar dahil); öteki sayfalar aracı plakadan tanır.
A5: 2. 'Günlük takip' sayfasına her çıkış için bir satır girin: tarih, plaka, sürücü, saatler, çıkış ve dönüş km'si, yakıt.
A6: Satırları tarih sırasıyla girin. Sahada kâğıt form kullanıyorsanız akşam buraya aktarın.
A7: 3. 'Bakım' sayfasına her bakım ya da onarımı girin; biliyorsanız sonraki bakım km'sini ve tarihini yazın.
A8: 4. 'Özet' sayfasında tarih aralığını seçin. Filo toplamı ve araç bazında tablo kendiliğinden dolar.
A10: Hangi sütun ne yapıyor?
A11: Mavi başlıklı sütunlar formüldür, üzerine yazmayın. Lacivert başlıklı sütunlar sizin verinizdir.
A12: Araçlar › Durum: belgelerin en yakın bitişi geçtiyse 'Süresi doldu', Özet'teki eşik içindeyse 'Yaklaşıyor' yazar.
A13: Eşik varsayılan olarak 30 gün; Özet sayfasındaki sarı hücreden değiştirebilirsiniz.
A14: Tarihler dosya her açıldığında bugüne göre yeniden hesaplanır.
... A38: Şablon 100 araç, 1000 günlük satır ve 300 bakım satırı için hazırlandı. Fazlası için son satırı aşağı kopyalayın.
