Workbook

Sheet Araçlar
A1: Plaka | B1: Araç türü | C1: Mülkiyet | D1: Marka / model | E1: Sorumlu sürücü | F1: Muayene bitiş | G1: Trafik sigortası bitiş | H1: Kasko bitiş | I1: Takograf muayenesi bitiş | J1: Diğer belge | K1: Diğer belge bitiş | L1: Not | M1: En yakın bitiş | N1: Hangi belge | O1: Kalan gün | P1: Durum
M2: =IF(A2="","",IF(COUNT(F2:I2,K2)=0,"",MIN(F2:I2,K2))) | N2: =IF(M2="","",IF(F2=M2,"Muayene",IF(G2=M2,"Trafik sigortası",IF(H2=M2,"Kasko",IF(I2=M2,"Takograf muayenesi",IF(J2<>"",J2,"Diğer belge")))))) | O2: =IF(M2="","",M2-TODAY()) | P2: =IF(A2="","",IF(M2="","Tarih girilmedi",IF(O2<0,"Süresi doldu",IF(O2<='Özet'!$B$4,"Yaklaşıyor","Geçerli"))))
M3: =IF(A3="","",IF(COUNT(F3:I3,K3)=0,"",MIN(F3:I3,K3))) | N3: =IF(M3="","",IF(F3=M3,"Muayene",IF(G3=M3,"Trafik sigortası",IF(H3=M3,"Kasko",IF(I3=M3,"Takograf muayenesi",IF(J3<>"",J3,"Diğer belge")))))) | O3: =IF(M3="","",M3-TODAY()) | P3: =IF(A3="","",IF(M3="","Tarih girilmedi",IF(O3<0,"Süresi doldu",IF(O3<='Özet'!$B$4,"Yaklaşıyor","Geçerli"))))
M4: =IF(A4="","",IF(COUNT(F4:I4,K4)=0,"",MIN(F4:I4,K4))) | N4: =IF(M4="","",IF(F4=M4,"Muayene",IF(G4=M4,"Trafik sigortası",IF(H4=M4,"Kasko",IF(I4=M4,"Takograf muayenesi",IF(J4<>"",J4,"Diğer belge")))))) | O4: =IF(M4="","",M4-TODAY()) | P4: =IF(A4="","",IF(M4="","Tarih girilmedi",IF(O4<0,"Süresi doldu",IF(O4<='Özet'!$B$4,"Yaklaşıyor","Geçerli"))))
M5: =IF(A5="","",IF(COUNT(F5:I5,K5)=0,"",MIN(F5:I5,K5))) | N5: =IF(M5="","",IF(F5=M5,"Muayene",IF(G5=M5,"Trafik sigortası",IF(H5=M5,"Kasko",IF(I5=M5,"Takograf muayenesi",IF(J5<>"",J5,"Diğer belge")))))) | O5: =IF(M5="","",M5-TODAY()) | P5: =IF(A5="","",IF(M5="","Tarih girilmedi",IF(O5<0,"Süresi doldu",IF(O5<='Özet'!$B$4,"Yaklaşıyor","Geçerli"))))
M6: =IF(A6="","",IF(COUNT(F6:I6,K6)=0,"",MIN(F6:I6,K6))) | N6: =IF(M6="","",IF(F6=M6,"Muayene",IF(G6=M6,"Trafik sigortası",IF(H6=M6,"Kasko",IF(I6=M6,"Takograf muayenesi",IF(J6<>"",J6,"Diğer belge")))))) | O6: =IF(M6="","",M6-TODAY()) | P6: =IF(A6="","",IF(M6="","Tarih girilmedi",IF(O6<0,"Süresi doldu",IF(O6<='Özet'!$B$4,"Yaklaşıyor","Geçerli"))))
M7: =IF(A7="","",IF(COUNT(F7:I7,K7)=0,"",MIN(F7:I7,K7))) | N7: =IF(M7="","",IF(F7=M7,"Muayene",IF(G7=M7,"Trafik sigortası",IF(H7=M7,"Kasko",IF(I7=M7,"Takograf muayenesi",IF(J7<>"",J7,"Diğer belge")))))) | O7: =IF(M7="","",M7-TODAY()) | P7: =IF(A7="","",IF(M7="","Tarih girilmedi",IF(O7<0,"Süresi doldu",IF(O7<='Özet'!$B$4,"Yaklaşıyor","Geçerli"))))
M8: =IF(A8="","",IF(COUNT(F8:I8,K8)=0,"",MIN(F8:I8,K8))) | N8: =IF(M8="","",IF(F8=M8,"Muayene",IF(G8=M8,"Trafik sigortası",IF(H8=M8,"Kasko",IF(I8=M8,"Takograf muayenesi",IF(J8<>"",J8,"Diğer belge")))))) | O8: =IF(M8="","",M8-TODAY()) | P8: =IF(A8="","",IF(M8="","Tarih girilmedi",IF(O8<0,"Süresi doldu",IF(O8<='Özet'!$B$4,"Yaklaşıyor","Geçerli"))))
M9: =IF(A9="","",IF(COUNT(F9:I9,K9)=0,"",MIN(F9:I9,K9))) | N9: =IF(M9="","",IF(F9=M9,"Muayene",IF(G9=M9,"Trafik sigortası",IF(H9=M9,"Kasko",IF(I9=M9,"Takograf muayenesi",IF(J9<>"",J9,"Diğer belge")))))) | O9: =IF(M9="","",M9-TODAY()) | P9: =IF(A9="","",IF(M9="","Tarih girilmedi",IF(O9<0,"Süresi doldu",IF(O9<='Özet'!$B$4,"Yaklaşıyor","Geçerli"))))
M10: =IF(A10="","",IF(COUNT(F10:I10,K10)=0,"",MIN(F10:I10,K10))) | N10: =IF(M10="","",IF(F10=M10,"Muayene",IF(G10=M10,"Trafik sigortası",IF(H10=M10,"Kasko",IF(I10=M10,"Takograf muayenesi",IF(J10<>"",J10,"Diğer belge")))))) | O10: =IF(M10="","",M10-TODAY()) | P10: =IF(A10="","",IF(M10="","Tarih girilmedi",IF(O10<0,"Süresi doldu",IF(O10<='Özet'!$B$4,"Yaklaşıyor","Geçerli"))))
M11: =IF(A11="","",IF(COUNT(F11:I11,K11)=0,"",MIN(F11:I11,K11))) | N11: =IF(M11="","",IF(F11=M11,"Muayene",IF(G11=M11,"Trafik sigortası",IF(H11=M11,"Kasko",IF(I11=M11,"Takograf muayenesi",IF(J11<>"",J11,"Diğer belge")))))) | O11: =IF(M11="","",M11-TODAY()) | P11: =IF(A11="","",IF(M11="","Tarih girilmedi",IF(O11<0,"Süresi doldu",IF(O11<='Özet'!$B$4,"Yaklaşıyor","Geçerli"))))
M12: =IF(A12="","",IF(COUNT(F12:I12,K12)=0,"",MIN(F12:I12,K12))) | N12: =IF(M12="","",IF(F12=M12,"Muayene",IF(G12=M12,"Trafik sigortası",IF(H12=M12,"Kasko",IF(I12=M12,"Takograf muayenesi",IF(J12<>"",J12,"Diğer belge")))))) | O12: =IF(M12="","",M12-TODAY()) | P12: =IF(A12="","",IF(M12="","Tarih girilmedi",IF(O12<0,"Süresi doldu",IF(O12<='Özet'!$B$4,"Yaklaşıyor","Geçerli"))))
M13: =IF(A13="","",IF(COUNT(F13:I13,K13)=0,"",MIN(F13:I13,K13))) | N13: =IF(M13="","",IF(F13=M13,"Muayene",IF(G13=M13,"Trafik sigortası",IF(H13=M13,"Kasko",IF(I13=M13,"Takograf muayenesi",IF(J13<>"",J13,"Diğer belge")))))) | O13: =IF(M13="","",M13-TODAY()) | P13: =IF(A13="","",IF(M13="","Tarih girilmedi",IF(O13<0,"Süresi doldu",IF(O13<='Özet'!$B$4,"Yaklaşıyor","Geçerli"))))
... M101: =IF(A101="","",IF(COUNT(F101:I101,K101)=0,"",MIN(F101:I101,K101))) | N101: =IF(M101="","",IF(F101=M101,"Muayene",IF(G101=M101,"Trafik sigortası",IF(H101=M101,"Kasko",IF(I101=M101,"Takograf muayenesi",IF(J101<>"",J101,"Diğer belge")))))) | O101: =IF(M101="","",M101-TODAY()) | P101: =IF(A101="","",IF(M101="","Tarih girilmedi",IF(O101<0,"Süresi doldu",IF(O101<='Özet'!$B$4,"Yaklaşıyor","Geçerli"))))

Sheet Günlük takip
A1: Tarih | B1: Plaka | C1: Sürücü | D1: Çıkış saati | E1: Çıkış km | F1: Dönüş saati | G1: Dönüş km | H1: Güzergâh / görev | I1: Alınan yakıt (litre) | J1: Yakıt tutarı (TL) | K1: Not | L1: Yapılan km | M1: Süre (saat) | N1: Önceki dönüş km | O1: Kontrol
L2: =IF(OR(E2="",G2=""),"",IF(G2<E2,"",G2-E2)) | M2: =IF(OR(D2="",F2=""),"",IF(F2>=D2,F2-D2,F2-D2+1)*24) | N2: =IF(B2="","",0) | O2: =IF(B2="","",IF(COUNTIF('Araçlar'!$A$2:$A$101,B2)=0,"Plaka araç listesinde yok",IF(A2="","Tarih girilmedi",IF(AND(E2<>"",G2<>"",G2<E2),"Dönüş km çıkıştan küçük",IF(OR(E2="",N2=0),"",IF(E2<N2,"Çıkış km önceki dönüşten küçük",IF(E2>N2,"Önceki dönüşten "&TEXT(E2-N2,"0")&" km fazla","")))))))
L3: =IF(OR(E3="",G3=""),"",IF(G3<E3,"",G3-E3)) | M3: =IF(OR(D3="",F3=""),"",IF(F3>=D3,F3-D3,F3-D3+1)*24) | N3: =IF(B3="","",SUMPRODUCT(MAX(($B$2:$B$2=B3)*($G$2:$G$2)))) | O3: =IF(B3="","",IF(COUNTIF('Araçlar'!$A$2:$A$101,B3)=0,"Plaka araç listesinde yok",IF(A3="","Tarih girilmedi",IF(AND(E3<>"",G3<>"",G3<E3),"Dönüş km çıkıştan küçük",IF(OR(E3="",N3=0),"",IF(E3<N3,"Çıkış km önceki dönüşten küçük",IF(E3>N3,"Önceki dönüşten "&TEXT(E3-N3,"0")&" km fazla","")))))))
L4: =IF(OR(E4="",G4=""),"",IF(G4<E4,"",G4-E4)) | M4: =IF(OR(D4="",F4=""),"",IF(F4>=D4,F4-D4,F4-D4+1)*24) | N4: =IF(B4="","",SUMPRODUCT(MAX(($B$2:$B$3=B4)*($G$2:$G$3)))) | O4: =IF(B4="","",IF(COUNTIF('Araçlar'!$A$2:$A$101,B4)=0,"Plaka araç listesinde yok",IF(A4="","Tarih girilmedi",IF(AND(E4<>"",G4<>"",G4<E4),"Dönüş km çıkıştan küçük",IF(OR(E4="",N4=0),"",IF(E4<N4,"Çıkış km önceki dönüşten küçük",IF(E4>N4,"Önceki dönüşten "&TEXT(E4-N4,"0")&" km fazla","")))))))
L5: =IF(OR(E5="",G5=""),"",IF(G5<E5,"",G5-E5)) | M5: =IF(OR(D5="",F5=""),"",IF(F5>=D5,F5-D5,F5-D5+1)*24) | N5: =IF(B5="","",SUMPRODUCT(MAX(($B$2:$B$4=B5)*($G$2:$G$4)))) | O5: =IF(B5="","",IF(COUNTIF('Araçlar'!$A$2:$A$101,B5)=0,"Plaka araç listesinde yok",IF(A5="","Tarih girilmedi",IF(AND(E5<>"",G5<>"",G5<E5),"Dönüş km çıkıştan küçük",IF(OR(E5="",N5=0),"",IF(E5<N5,"Çıkış km önceki dönüşten küçük",IF(E5>N5,"Önceki dönüşten "&TEXT(E5-N5,"0")&" km fazla","")))))))
L6: =IF(OR(E6="",G6=""),"",IF(G6<E6,"",G6-E6)) | M6: =IF(OR(D6="",F6=""),"",IF(F6>=D6,F6-D6,F6-D6+1)*24) | N6: =IF(B6="","",SUMPRODUCT(MAX(($B$2:$B$5=B6)*($G$2:$G$5)))) | O6: =IF(B6="","",IF(COUNTIF('Araçlar'!$A$2:$A$101,B6)=0,"Plaka araç listesinde yok",IF(A6="","Tarih girilmedi",IF(AND(E6<>"",G6<>"",G6<E6),"Dönüş km çıkıştan küçük",IF(OR(E6="",N6=0),"",IF(E6<N6,"Çıkış km önceki dönüşten küçük",IF(E6>N6,"Önceki dönüşten "&TEXT(E6-N6,"0")&" km fazla","")))))))
L7: =IF(OR(E7="",G7=""),"",IF(G7<E7,"",G7-E7)) | M7: =IF(OR(D7="",F7=""),"",IF(F7>=D7,F7-D7,F7-D7+1)*24) | N7: =IF(B7="","",SUMPRODUCT(MAX(($B$2:$B$6=B7)*($G$2:$G$6)))) | O7: =IF(B7="","",IF(COUNTIF('Araçlar'!$A$2:$A$101,B7)=0,"Plaka araç listesinde yok",IF(A7="","Tarih girilmedi",IF(AND(E7<>"",G7<>"",G7<E7),"Dönüş km çıkıştan küçük",IF(OR(E7="",N7=0),"",IF(E7<N7,"Çıkış km önceki dönüşten küçük",IF(E7>N7,"Önceki dönüşten "&TEXT(E7-N7,"0")&" km fazla","")))))))
L8: =IF(OR(E8="",G8=""),"",IF(G8<E8,"",G8-E8)) | M8: =IF(OR(D8="",F8=""),"",IF(F8>=D8,F8-D8,F8-D8+1)*24) | N8: =IF(B8="","",SUMPRODUCT(MAX(($B$2:$B$7=B8)*($G$2:$G$7)))) | O8: =IF(B8="","",IF(COUNTIF('Araçlar'!$A$2:$A$101,B8)=0,"Plaka araç listesinde yok",IF(A8="","Tarih girilmedi",IF(AND(E8<>"",G8<>"",G8<E8),"Dönüş km çıkıştan küçük",IF(OR(E8="",N8=0),"",IF(E8<N8,"Çıkış km önceki dönüşten küçük",IF(E8>N8,"Önceki dönüşten "&TEXT(E8-N8,"0")&" km fazla","")))))))
L9: =IF(OR(E9="",G9=""),"",IF(G9<E9,"",G9-E9)) | M9: =IF(OR(D9="",F9=""),"",IF(F9>=D9,F9-D9,F9-D9+1)*24) | N9: =IF(B9="","",SUMPRODUCT(MAX(($B$2:$B$8=B9)*($G$2:$G$8)))) | O9: =IF(B9="","",IF(COUNTIF('Araçlar'!$A$2:$A$101,B9)=0,"Plaka araç listesinde yok",IF(A9="","Tarih girilmedi",IF(AND(E9<>"",G9<>"",G9<E9),"Dönüş km çıkıştan küçük",IF(OR(E9="",N9=0),"",IF(E9<N9,"Çıkış km önceki dönüşten küçük",IF(E9>N9,"Önceki dönüşten "&TEXT(E9-N9,"0")&" km fazla","")))))))
L10: =IF(OR(E10="",G10=""),"",IF(G10<E10,"",G10-E10)) | M10: =IF(OR(D10="",F10=""),"",IF(F10>=D10,F10-D10,F10-D10+1)*24) | N10: =IF(B10="","",SUMPRODUCT(MAX(($B$2:$B$9=B10)*($G$2:$G$9)))) | O10: =IF(B10="","",IF(COUNTIF('Araçlar'!$A$2:$A$101,B10)=0,"Plaka araç listesinde yok",IF(A10="","Tarih girilmedi",IF(AND(E10<>"",G10<>"",G10<E10),"Dönüş km çıkıştan küçük",IF(OR(E10="",N10=0),"",IF(E10<N10,"Çıkış km önceki dönüşten küçük",IF(E10>N10,"Önceki dönüşten "&TEXT(E10-N10,"0")&" km fazla","")))))))
L11: =IF(OR(E11="",G11=""),"",IF(G11<E11,"",G11-E11)) | M11: =IF(OR(D11="",F11=""),"",IF(F11>=D11,F11-D11,F11-D11+1)*24) | N11: =IF(B11="","",SUMPRODUCT(MAX(($B$2:$B$10=B11)*($G$2:$G$10)))) | O11: =IF(B11="","",IF(COUNTIF('Araçlar'!$A$2:$A$101,B11)=0,"Plaka araç listesinde yok",IF(A11="","Tarih girilmedi",IF(AND(E11<>"",G11<>"",G11<E11),"Dönüş km çıkıştan küçük",IF(OR(E11="",N11=0),"",IF(E11<N11,"Çıkış km önceki dönüşten küçük",IF(E11>N11,"Önceki dönüşten "&TEXT(E11-N11,"0")&" km fazla","")))))))
L12: =IF(OR(E12="",G12=""),"",IF(G12<E12,"",G12-E12)) | M12: =IF(OR(D12="",F12=""),"",IF(F12>=D12,F12-D12,F12-D12+1)*24) | N12: =IF(B12="","",SUMPRODUCT(MAX(($B$2:$B$11=B12)*($G$2:$G$11)))) | O12: =IF(B12="","",IF(COUNTIF('Araçlar'!$A$2:$A$101,B12)=0,"Plaka araç listesinde yok",IF(A12="","Tarih girilmedi",IF(AND(E12<>"",G12<>"",G12<E12),"Dönüş km çıkıştan küçük",IF(OR(E12="",N12=0),"",IF(E12<N12,"Çıkış km önceki dönüşten küçük",IF(E12>N12,"Önceki dönüşten "&TEXT(E12-N12,"0")&" km fazla","")))))))
L13: =IF(OR(E13="",G13=""),"",IF(G13<E13,"",G13-E13)) | M13: =IF(OR(D13="",F13=""),"",IF(F13>=D13,F13-D13,F13-D13+1)*24) | N13: =IF(B13="","",SUMPRODUCT(MAX(($B$2:$B$12=B13)*($G$2:$G$12)))) | O13: =IF(B13="","",IF(COUNTIF('Araçlar'!$A$2:$A$101,B13)=0,"Plaka araç listesinde yok",IF(A13="","Tarih girilmedi",IF(AND(E13<>"",G13<>"",G13<E13),"Dönüş km çıkıştan küçük",IF(OR(E13="",N13=0),"",IF(E13<N13,"Çıkış km önceki dönüşten küçük",IF(E13>N13,"Önceki dönüşten "&TEXT(E13-N13,"0")&" km fazla","")))))))
L14: =IF(OR(E14="",G14=""),"",IF(G14<E14,"",G14-E14)) | M14: =IF(OR(D14="",F14=""),"",IF(F14>=D14,F14-D14,F14-D14+1)*24) | N14: =IF(B14="","",SUMPRODUCT(MAX(($B$2:$B$13=B14)*($G$2:$G$13)))) | O14: =IF(B14="","",IF(COUNTIF('Araçlar'!$A$2:$A$101,B14)=0,"Plaka araç listesinde yok",IF(A14="","Tarih girilmedi",IF(AND(E14<>"",G14<>"",G14<E14),"Dönüş km çıkıştan küçük",IF(OR(E14="",N14=0),"",IF(E14<N14,"Çıkış km önceki dönüşten küçük",IF(E14>N14,"Önceki dönüşten "&TEXT(E14-N14,"0")&" km fazla","")))))))
L15: =IF(OR(E15="",G15=""),"",IF(G15<E15,"",G15-E15)) | M15: =IF(OR(D15="",F15=""),"",IF(F15>=D15,F15-D15,F15-D15+1)*24) | N15: =IF(B15="","",SUMPRODUCT(MAX(($B$2:$B$14=B15)*($G$2:$G$14)))) | O15: =IF(B15="","",IF(COUNTIF('Araçlar'!$A$2:$A$101,B15)=0,"Plaka araç listesinde yok",IF(A15="","Tarih girilmedi",IF(AND(E15<>"",G15<>"",G15<E15),"Dönüş km çıkıştan küçük",IF(OR(E15="",N15=0),"",IF(E15<N15,"Çıkış km önceki dönüşten küçük",IF(E15>N15,"Önceki dönüşten "&TEXT(E15-N15,"0")&" km fazla","")))))))
L16: =IF(OR(E16="",G16=""),"",IF(G16<E16,"",G16-E16)) | M16: =IF(OR(D16="",F16=""),"",IF(F16>=D16,F16-D16,F16-D16+1)*24) | N16: =IF(B16="","",SUMPRODUCT(MAX(($B$2:$B$15=B16)*($G$2:$G$15)))) | O16: =IF(B16="","",IF(COUNTIF('Araçlar'!$A$2:$A$101,B16)=0,"Plaka araç listesinde yok",IF(A16="","Tarih girilmedi",IF(AND(E16<>"",G16<>"",G16<E16),"Dönüş km çıkıştan küçük",IF(OR(E16="",N16=0),"",IF(E16<N16,"Çıkış km önceki dönüşten küçük",IF(E16>N16,"Önceki dönüşten "&TEXT(E16-N16,"0")&" km fazla","")))))))
L17: =IF(OR(E17="",G17=""),"",IF(G17<E17,"",G17-E17)) | M17: =IF(OR(D17="",F17=""),"",IF(F17>=D17,F17-D17,F17-D17+1)*24) | N17: =IF(B17="","",SUMPRODUCT(MAX(($B$2:$B$16=B17)*($G$2:$G$16)))) | O17: =IF(B17="","",IF(COUNTIF('Araçlar'!$A$2:$A$101,B17)=0,"Plaka araç listesinde yok",IF(A17="","Tarih girilmedi",IF(AND(E17<>"",G17<>"",G17<E17),"Dönüş km çıkıştan küçük",IF(OR(E17="",N17=0),"",IF(E17<N17,"Çıkış km önceki dönüşten küçük",IF(E17>N17,"Önceki dönüşten "&TEXT(E17-N17,"0")&" km fazla","")))))))
L18: =IF(OR(E18="",G18=""),"",IF(G18<E18,"",G18-E18)) | M18: =IF(OR(D18="",F18=""),"",IF(F18>=D18,F18-D18,F18-D18+1)*24) | N18: =IF(B18="","",SUMPRODUCT(MAX(($B$2:$B$17=B18)*($G$2:$G$17)))) | O18: =IF(B18="","",IF(COUNTIF('Araçlar'!$A$2:$A$101,B18)=0,"Plaka araç listesinde yok",IF(A18="","Tarih girilmedi",IF(AND(E18<>"",G18<>"",G18<E18),"Dönüş km çıkıştan küçük",IF(OR(E18="",N18=0),"",IF(E18<N18,"Çıkış km önceki dönüşten küçük",IF(E18>N18,"Önceki dönüşten "&TEXT(E18-N18,"0")&" km fazla","")))))))
L19: =IF(OR(E19="",G19=""),"",IF(G19<E19,"",G19-E19)) | M19: =IF(OR(D19="",F19=""),"",IF(F19>=D19,F19-D19,F19-D19+1)*24) | N19: =IF(B19="","",SUMPRODUCT(MAX(($B$2:$B$18=B19)*($G$2:$G$18)))) | O19: =IF(B19="","",IF(COUNTIF('Araçlar'!$A$2:$A$101,B19)=0,"Plaka araç listesinde yok",IF(A19="","Tarih girilmedi",IF(AND(E19<>"",G19<>"",G19<E19),"Dönüş km çıkıştan küçük",IF(OR(E19="",N19=0),"",IF(E19<N19,"Çıkış km önceki dönüşten küçük",IF(E19>N19,"Önceki dönüşten "&TEXT(E19-N19,"0")&" km fazla","")))))))
L20: =IF(OR(E20="",G20=""),"",IF(G20<E20,"",G20-E20)) | M20: =IF(OR(D20="",F20=""),"",IF(F20>=D20,F20-D20,F20-D20+1)*24) | N20: =IF(B20="","",SUMPRODUCT(MAX(($B$2:$B$19=B20)*($G$2:$G$19)))) | O20: =IF(B20="","",IF(COUNTIF('Araçlar'!$A$2:$A$101,B20)=0,"Plaka araç listesinde yok",IF(A20="","Tarih girilmedi",IF(AND(E20<>"",G20<>"",G20<E20),"Dönüş km çıkıştan küçük",IF(OR(E20="",N20=0),"",IF(E20<N20,"Çıkış km önceki dönüşten küçük",IF(E20>N20,"Önceki dönüşten "&TEXT(E20-N20,"0")&" km fazla","")))))))
L21: =IF(OR(E21="",G21=""),"",IF(G21<E21,"",G21-E21)) | M21: =IF(OR(D21="",F21=""),"",IF(F21>=D21,F21-D21,F21-D21+1)*24) | N21: =IF(B21="","",SUMPRODUCT(MAX(($B$2:$B$20=B21)*($G$2:$G$20)))) | O21: =IF(B21="","",IF(COUNTIF('Araçlar'!$A$2:$A$101,B21)=0,"Plaka araç listesinde yok",IF(A21="","Tarih girilmedi",IF(AND(E21<>"",G21<>"",G21<E21),"Dönüş km çıkıştan küçük",IF(OR(E21="",N21=0),"",IF(E21<N21,"Çıkış km önceki dönüşten küçük",IF(E21>N21,"Önceki dönüşten "&TEXT(E21-N21,"0")&" km fazla","")))))))
L22: =IF(OR(E22="",G22=""),"",IF(G22<E22,"",G22-E22)) | M22: =IF(OR(D22="",F22=""),"",IF(F22>=D22,F22-D22,F22-D22+1)*24) | N22: =IF(B22="","",SUMPRODUCT(MAX(($B$2:$B$21=B22)*($G$2:$G$21)))) | O22: =IF(B22="","",IF(COUNTIF('Araçlar'!$A$2:$A$101,B22)=0,"Plaka araç listesinde yok",IF(A22="","Tarih girilmedi",IF(AND(E22<>"",G22<>"",G22<E22),"Dönüş km çıkıştan küçük",IF(OR(E22="",N22=0),"",IF(E22<N22,"Çıkış km önceki dönüşten küçük",IF(E22>N22,"Önceki dönüşten "&TEXT(E22-N22,"0")&" km fazla","")))))))
L23: =IF(OR(E23="",G23=""),"",IF(G23<E23,"",G23-E23)) | M23: =IF(OR(D23="",F23=""),"",IF(F23>=D23,F23-D23,F23-D23+1)*24) | N23: =IF(B23="","",SUMPRODUCT(MAX(($B$2:$B$22=B23)*($G$2:$G$22)))) | O23: =IF(B23="","",IF(COUNTIF('Araçlar'!$A$2:$A$101,B23)=0,"Plaka araç listesinde yok",IF(A23="","Tarih girilmedi",IF(AND(E23<>"",G23<>"",G23<E23),"Dönüş km çıkıştan küçük",IF(OR(E23="",N23=0),"",IF(E23<N23,"Çıkış km önceki dönüşten küçük",IF(E23>N23,"Önceki dönüşten "&TEXT(E23-N23,"0")&" km fazla","")))))))
L24: =IF(OR(E24="",G24=""),"",IF(G24<E24,"",G24-E24)) | M24: =IF(OR(D24="",F24=""),"",IF(F24>=D24,F24-D24,F24-D24+1)*24) | N24: =IF(B24="","",SUMPRODUCT(MAX(($B$2:$B$23=B24)*($G$2:$G$23)))) | O24: =IF(B24="","",IF(COUNTIF('Araçlar'!$A$2:$A$101,B24)=0,"Plaka araç listesinde yok",IF(A24="","Tarih girilmedi",IF(AND(E24<>"",G24<>"",G24<E24),"Dönüş km çıkıştan küçük",IF(OR(E24="",N24=0),"",IF(E24<N24,"Çıkış km önceki dönüşten küçük",IF(E24>N24,"Önceki dönüşten "&TEXT(E24-N24,"0")&" km fazla","")))))))
L25: =IF(OR(E25="",G25=""),"",IF(G25<E25,"",G25-E25)) | M25: =IF(OR(D25="",F25=""),"",IF(F25>=D25,F25-D25,F25-D25+1)*24) | N25: =IF(B25="","",SUMPRODUCT(MAX(($B$2:$B$24=B25)*($G$2:$G$24)))) | O25: =IF(B25="","",IF(COUNTIF('Araçlar'!$A$2:$A$101,B25)=0,"Plaka araç listesinde yok",IF(A25="","Tarih girilmedi",IF(AND(E25<>"",G25<>"",G25<E25),"Dönüş km çıkıştan küçük",IF(OR(E25="",N25=0),"",IF(E25<N25,"Çıkış km önceki dönüşten küçük",IF(E25>N25,"Önceki dönüşten "&TEXT(E25-N25,"0")&" km fazla","")))))))
L26: =IF(OR(E26="",G26=""),"",IF(G26<E26,"",G26-E26)) | M26: =IF(OR(D26="",F26=""),"",IF(F26>=D26,F26-D26,F26-D26+1)*24) | N26: =IF(B26="","",SUMPRODUCT(MAX(($B$2:$B$25=B26)*($G$2:$G$25)))) | O26: =IF(B26="","",IF(COUNTIF('Araçlar'!$A$2:$A$101,B26)=0,"Plaka araç listesinde yok",IF(A26="","Tarih girilmedi",IF(AND(E26<>"",G26<>"",G26<E26),"Dönüş km çıkıştan küçük",IF(OR(E26="",N26=0),"",IF(E26<N26,"Çıkış km önceki dönüşten küçük",IF(E26>N26,"Önceki dönüşten "&TEXT(E26-N26,"0")&" km fazla","")))))))
L27: =IF(OR(E27="",G27=""),"",IF(G27<E27,"",G27-E27)) | M27: =IF(OR(D27="",F27=""),"",IF(F27>=D27,F27-D27,F27-D27+1)*24) | N27: =IF(B27="","",SUMPRODUCT(MAX(($B$2:$B$26=B27)*($G$2:$G$26)))) | O27: =IF(B27="","",IF(COUNTIF('Araçlar'!$A$2:$A$101,B27)=0,"Plaka araç listesinde yok",IF(A27="","Tarih girilmedi",IF(AND(E27<>"",G27<>"",G27<E27),"Dönüş km çıkıştan küçük",IF(OR(E27="",N27=0),"",IF(E27<N27,"Çıkış km önceki dönüşten küçük",IF(E27>N27,"Önceki dönüşten "&TEXT(E27-N27,"0")&" km fazla","")))))))
L28: =IF(OR(E28="",G28=""),"",IF(G28<E28,"",G28-E28)) | M28: =IF(OR(D28="",F28=""),"",IF(F28>=D28,F28-D28,F28-D28+1)*24) | N28: =IF(B28="","",SUMPRODUCT(MAX(($B$2:$B$27=B28)*($G$2:$G$27)))) | O28: =IF(B28="","",IF(COUNTIF('Araçlar'!$A$2:$A$101,B28)=0,"Plaka araç listesinde yok",IF(A28="","Tarih girilmedi",IF(AND(E28<>"",G28<>"",G28<E28),"Dönüş km çıkıştan küçük",IF(OR(E28="",N28=0),"",IF(E28<N28,"Çıkış km önceki dönüşten küçük",IF(E28>N28,"Önceki dönüşten "&TEXT(E28-N28,"0")&" km fazla","")))))))
L29: =IF(OR(E29="",G29=""),"",IF(G29<E29,"",G29-E29)) | M29: =IF(OR(D29="",F29=""),"",IF(F29>=D29,F29-D29,F29-D29+1)*24) | N29: =IF(B29="","",SUMPRODUCT(MAX(($B$2:$B$28=B29)*($G$2:$G$28)))) | O29: =IF(B29="","",IF(COUNTIF('Araçlar'!$A$2:$A$101,B29)=0,"Plaka araç listesinde yok",IF(A29="","Tarih girilmedi",IF(AND(E29<>"",G29<>"",G29<E29),"Dönüş km çıkıştan küçük",IF(OR(E29="",N29=0),"",IF(E29<N29,"Çıkış km önceki dönüşten küçük",IF(E29>N29,"Önceki dönüşten "&TEXT(E29-N29,"0")&" km fazla","")))))))
L30: =IF(OR(E30="",G30=""),"",IF(G30<E30,"",G30-E30)) | M30: =IF(OR(D30="",F30=""),"",IF(F30>=D30,F30-D30,F30-D30+1)*24) | N30: =IF(B30="","",SUMPRODUCT(MAX(($B$2:$B$29=B30)*($G$2:$G$29)))) | O30: =IF(B30="","",IF(COUNTIF('Araçlar'!$A$2:$A$101,B30)=0,"Plaka araç listesinde yok",IF(A30="","Tarih girilmedi",IF(AND(E30<>"",G30<>"",G30<E30),"Dönüş km çıkıştan küçük",IF(OR(E30="",N30=0),"",IF(E30<N30,"Çıkış km önceki dönüşten küçük",IF(E30>N30,"Önceki dönüşten "&TEXT(E30-N30,"0")&" km fazla","")))))))
L31: =IF(OR(E31="",G31=""),"",IF(G31<E31,"",G31-E31)) | M31: =IF(OR(D31="",F31=""),"",IF(F31>=D31,F31-D31,F31-D31+1)*24) | N31: =IF(B31="","",SUMPRODUCT(MAX(($B$2:$B$30=B31)*($G$2:$G$30)))) | O31: =IF(B31="","",IF(COUNTIF('Araçlar'!$A$2:$A$101,B31)=0,"Plaka araç listesinde yok",IF(A31="","Tarih girilmedi",IF(AND(E31<>"",G31<>"",G31<E31),"Dönüş km çıkıştan küçük",IF(OR(E31="",N31=0),"",IF(E31<N31,"Çıkış km önceki dönüşten küçük",IF(E31>N31,"Önceki dönüşten "&TEXT(E31-N31,"0")&" km fazla","")))))))
L32: =IF(OR(E32="",G32=""),"",IF(G32<E32,"",G32-E32)) | M32: =IF(OR(D32="",F32=""),"",IF(F32>=D32,F32-D32,F32-D32+1)*24) | N32: =IF(B32="","",SUMPRODUCT(MAX(($B$2:$B$31=B32)*($G$2:$G$31)))) | O32: =IF(B32="","",IF(COUNTIF('Araçlar'!$A$2:$A$101,B32)=0,"Plaka araç listesinde yok",IF(A32="","Tarih girilmedi",IF(AND(E32<>"",G32<>"",G32<E32),"Dönüş km çıkıştan küçük",IF(OR(E32="",N32=0),"",IF(E32<N32,"Çıkış km önceki dönüşten küçük",IF(E32>N32,"Önceki dönüşten "&TEXT(E32-N32,"0")&" km fazla","")))))))
L33: =IF(OR(E33="",G33=""),"",IF(G33<E33,"",G33-E33)) | M33: =IF(OR(D33="",F33=""),"",IF(F33>=D33,F33-D33,F33-D33+1)*24) | N33: =IF(B33="","",SUMPRODUCT(MAX(($B$2:$B$32=B33)*($G$2:$G$32)))) | O33: =IF(B33="","",IF(COUNTIF('Araçlar'!$A$2:$A$101,B33)=0,"Plaka araç listesinde yok",IF(A33="","Tarih girilmedi",IF(AND(E33<>"",G33<>"",G33<E33),"Dönüş km çıkıştan küçük",IF(OR(E33="",N33=0),"",IF(E33<N33,"Çıkış km önceki dönüşten küçük",IF(E33>N33,"Önceki dönüşten "&TEXT(E33-N33,"0")&" km fazla","")))))))
L34: =IF(OR(E34="",G34=""),"",IF(G34<E34,"",G34-E34)) | M34: =IF(OR(D34="",F34=""),"",IF(F34>=D34,F34-D34,F34-D34+1)*24) | N34: =IF(B34="","",SUMPRODUCT(MAX(($B$2:$B$33=B34)*($G$2:$G$33)))) | O34: =IF(B34="","",IF(COUNTIF('Araçlar'!$A$2:$A$101,B34)=0,"Plaka araç listesinde yok",IF(A34="","Tarih girilmedi",IF(AND(E34<>"",G34<>"",G34<E34),"Dönüş km çıkıştan küçük",IF(OR(E34="",N34=0),"",IF(E34<N34,"Çıkış km önceki dönüşten küçük",IF(E34>N34,"Önceki dönüşten "&TEXT(E34-N34,"0")&" km fazla","")))))))
L35: =IF(OR(E35="",G35=""),"",IF(G35<E35,"",G35-E35)) | M35: =IF(OR(D35="",F35=""),"",IF(F35>=D35,F35-D35,F35-D35+1)*24) | N35: =IF(B35="","",SUMPRODUCT(MAX(($B$2:$B$34=B35)*($G$2:$G$34)))) | O35: =IF(B35="","",IF(COUNTIF('Araçlar'!$A$2:$A$101,B35)=0,"Plaka araç listesinde yok",IF(A35="","Tarih girilmedi",IF(AND(E35<>"",G35<>"",G35<E35),"Dönüş km çıkıştan küçük",IF(OR(E35="",N35=0),"",IF(E35<N35,"Çıkış km önceki dönüşten küçük",IF(E35>N35,"Önceki dönüşten "&TEXT(E35-N35,"0")&" km fazla","")))))))
L36: =IF(OR(E36="",G36=""),"",IF(G36<E36,"",G36-E36)) | M36: =IF(OR(D36="",F36=""),"",IF(F36>=D36,F36-D36,F36-D36+1)*24) | N36: =IF(B36="","",SUMPRODUCT(MAX(($B$2:$B$35=B36)*($G$2:$G$35)))) | O36: =IF(B36="","",IF(COUNTIF('Araçlar'!$A$2:$A$101,B36)=0,"Plaka araç listesinde yok",IF(A36="","Tarih girilmedi",IF(AND(E36<>"",G36<>"",G36<E36),"Dönüş km çıkıştan küçük",IF(OR(E36="",N36=0),"",IF(E36<N36,"Çıkış km önceki dönüşten küçük",IF(E36>N36,"Önceki dönüşten "&TEXT(E36-N36,"0")&" km fazla","")))))))
L37: =IF(OR(E37="",G37=""),"",IF(G37<E37,"",G37-E37)) | M37: =IF(OR(D37="",F37=""),"",IF(F37>=D37,F37-D37,F37-D37+1)*24) | N37: =IF(B37="","",SUMPRODUCT(MAX(($B$2:$B$36=B37)*($G$2:$G$36)))) | O37: =IF(B37="","",IF(COUNTIF('Araçlar'!$A$2:$A$101,B37)=0,"Plaka araç listesinde yok",IF(A37="","Tarih girilmedi",IF(AND(E37<>"",G37<>"",G37<E37),"Dönüş km çıkıştan küçük",IF(OR(E37="",N37=0),"",IF(E37<N37,"Çıkış km önceki dönüşten küçük",IF(E37>N37,"Önceki dönüşten "&TEXT(E37-N37,"0")&" km fazla","")))))))
L38: =IF(OR(E38="",G38=""),"",IF(G38<E38,"",G38-E38)) | M38: =IF(OR(D38="",F38=""),"",IF(F38>=D38,F38-D38,F38-D38+1)*24) | N38: =IF(B38="","",SUMPRODUCT(MAX(($B$2:$B$37=B38)*($G$2:$G$37)))) | O38: =IF(B38="","",IF(COUNTIF('Araçlar'!$A$2:$A$101,B38)=0,"Plaka araç listesinde yok",IF(A38="","Tarih girilmedi",IF(AND(E38<>"",G38<>"",G38<E38),"Dönüş km çıkıştan küçük",IF(OR(E38="",N38=0),"",IF(E38<N38,"Çıkış km önceki dönüşten küçük",IF(E38>N38,"Önceki dönüşten "&TEXT(E38-N38,"0")&" km fazla","")))))))
L39: =IF(OR(E39="",G39=""),"",IF(G39<E39,"",G39-E39)) | M39: =IF(OR(D39="",F39=""),"",IF(F39>=D39,F39-D39,F39-D39+1)*24) | N39: =IF(B39="","",SUMPRODUCT(MAX(($B$2:$B$38=B39)*($G$2:$G$38)))) | O39: =IF(B39="","",IF(COUNTIF('Araçlar'!$A$2:$A$101,B39)=0,"Plaka araç listesinde yok",IF(A39="","Tarih girilmedi",IF(AND(E39<>"",G39<>"",G39<E39),"Dönüş km çıkıştan küçük",IF(OR(E39="",N39=0),"",IF(E39<N39,"Çıkış km önceki dönüşten küçük",IF(E39>N39,"Önceki dönüşten "&TEXT(E39-N39,"0")&" km fazla","")))))))
L40: =IF(OR(E40="",G40=""),"",IF(G40<E40,"",G40-E40)) | M40: =IF(OR(D40="",F40=""),"",IF(F40>=D40,F40-D40,F40-D40+1)*24) | N40: =IF(B40="","",SUMPRODUCT(MAX(($B$2:$B$39=B40)*($G$2:$G$39)))) | O40: =IF(B40="","",IF(COUNTIF('Araçlar'!$A$2:$A$101,B40)=0,"Plaka araç listesinde yok",IF(A40="","Tarih girilmedi",IF(AND(E40<>"",G40<>"",G40<E40),"Dönüş km çıkıştan küçük",IF(OR(E40="",N40=0),"",IF(E40<N40,"Çıkış km önceki dönüşten küçük",IF(E40>N40,"Önceki dönüşten "&TEXT(E40-N40,"0")&" km fazla","")))))))
...

Sheet Bakım
A1: Tarih | B1: Plaka | C1: Km | D1: İşlem | E1: Yapılan iş / değişen parça | F1: Servis | G1: Tutar (TL) | H1: Sonraki bakım km | I1: Sonraki bakım tarihi | J1: Not

Sheet Özet
A1: Araç takip özeti
A2: Başlangıç tarihi
A3: Bitiş tarihi
A4: Belge ve bakım uyarısı (gün) | B4: 30
A5: Sarı hücreler sizin. Tarihleri boş bırakırsanız bütün kayıtlar sayılır; tarihi olmayan satır döneme girmez.
A7: Filo toplamı (seçili dönem)
A8: Araç sayısı | B8: =SUMPRODUCT(--(LEN('Araçlar'!$A$2:$A$101)>0))
A9: Belgesi süresi dolan araç | B9: =COUNTIF('Araçlar'!$P$2:$P$101,"Süresi doldu")
A10: Belgesi yaklaşan araç | B10: =COUNTIF('Araçlar'!$P$2:$P$101,"Yaklaşıyor")
A11: Belge tarihi girilmemiş araç | B11: =COUNTIF('Araçlar'!$P$2:$P$101,"Tarih girilmedi")
A12: Toplam km | B12: =SUMIFS('Günlük takip'!$L$2:$L$1001,'Günlük takip'!$A$2:$A$1001,">="&IF($B$2="",0,$B$2),'Günlük takip'!$A$2:$A$1001,"<="&IF($B$3="",2958465,$B$3))
A13: Yakıt (litre) | B13: =SUMIFS('Günlük takip'!$I$2:$I$1001,'Günlük takip'!$A$2:$A$1001,">="&IF($B$2="",0,$B$2),'Günlük takip'!$A$2:$A$1001,"<="&IF($B$3="",2958465,$B$3))
A14: Yakıt tutarı (TL) | B14: =SUMIFS('Günlük takip'!$J$2:$J$1001,'Günlük takip'!$A$2:$A$1001,">="&IF($B$2="",0,$B$2),'Günlük takip'!$A$2:$A$1001,"<="&IF($B$3="",2958465,$B$3))
A15: Ortalama tüketim (lt/100 km) | B15: =IF(B12>0,B13/B12*100,"")
A16: Bakım gideri (TL) | B16: =SUMIFS('Bakım'!$G$2:$G$301,'Bakım'!$A$2:$A$301,">="&IF($B$2="",0,$B$2),'Bakım'!$A$2:$A$301,"<="&IF($B$3="",2958465,$B$3))
A17: Yakıt + bakım, km başına (TL/km) | B17: =IF(B12>0,(B14+B16)/B12,"")
A18: Bakım zamanı gelen araç | B18: =COUNTIF($L$25:$L$124,"Bakım zamanı geldi")
A19: Kontrol uyarısı olan günlük satır | B19: =SUMPRODUCT(--(LEN('Günlük takip'!$O$2:$O$1001)>0))
A20: Tüketim dönem toplamından hesaplanır: depo her seferde dolmadığı için tek satırdan çıkan oran yanıltır.
A23: Araç bazında — sıra Araçlar sayfasıyla aynı
A24: Plaka | B24: Kayıt | C24: Km | D24: Yakıt (litre) | E24: Yakıt (TL) | F24: Tüketim (lt/100 km) | G24: Bakım (TL) | H24: Yakıt + bakım (TL/km) | I24: Son bilinen km | J24: Bakıma kalan km | K24: Bakıma kalan gün | L24: Bakım | M24: Belge | N24: Kontrol uyarısı
A25: =IF('Araçlar'!A2="","",'Araçlar'!A2) | B25: =IF($A25="","",COUNTIFS('Günlük takip'!$B$2:$B$1001,$A25,'Günlük takip'!$A$2:$A$1001,">="&IF($B$2="",0,$B$2),'Günlük takip'!$A$2:$A$1001,"<="&IF($B$3="",2958465,$B$3))) | C25: =IF($A25="","",SUMIFS('Günlük takip'!$L$2:$L$1001,'Günlük takip'!$B$2:$B$1001,$A25,'Günlük takip'!$A$2:$A$1001,">="&IF($B$2="",0,$B$2),'Günlük takip'!$A$2:$A$1001,"<="&IF($B$3="",2958465,$B$3))) | D25: =IF($A25="","",SUMIFS('Günlük takip'!$I$2:$I$1001,'Günlük takip'!$B$2:$B$1001,$A25,'Günlük takip'!$A$2:$A$1001,">="&IF($B$2="",0,$B$2),'Günlük takip'!$A$2:$A$1001,"<="&IF($B$3="",2958465,$B$3))) | E25: =IF($A25="","",SUMIFS('Günlük takip'!$J$2:$J$1001,'Günlük takip'!$B$2:$B$1001,$A25,'Günlük takip'!$A$2:$A$1001,">="&IF($B$2="",0,$B$2),'Günlük takip'!$A$2:$A$1001,"<="&IF($B$3="",2958465,$B$3))) | F25: =IF(OR($A25="",C25=0),"",D25/C25*100) | G25: =IF($A25="","",SUMIFS('Bakım'!$G$2:$G$301,'Bakım'!$B$2:$B$301,$A25,'Bakım'!$A$2:$A$301,">="&IF($B$2="",0,$B$2),'Bakım'!$A$2:$A$301,"<="&IF($B$3="",2958465,$B$3))) | H25: =IF(OR($A25="",C25=0),"",(E25+G25)/C25) | I25: =IF($A25="","",MAX(SUMPRODUCT(MAX(('Günlük takip'!$B$2:$B$1001=$A25)*'Günlük takip'!$G$2:$G$1001)),SUMPRODUCT(MAX(('Günlük takip'!$B$2:$B$1001=$A25)*'Günlük takip'!$E$2:$E$1001)),SUMPRODUCT(MAX(('Bakım'!$B$2:$B$301=$A25)*'Bakım'!$C$2:$C$301)))) | J25: =IF($A25="","",IF(SUMPRODUCT(MAX(('Bakım'!$B$2:$B$301=$A25)*'Bakım'!$H$2:$H$301))=0,"",SUMPRODUCT(MAX(('Bakım'!$B$2:$B$301=$A25)*'Bakım'!$H$2:$H$301))-I25)) | K25: =IF($A25="","",IF(SUMPRODUCT(MAX(('Bakım'!$B$2:$B$301=$A25)*'Bakım'!$I$2:$I$301))=0,"",SUMPRODUCT(MAX(('Bakım'!$B$2:$B$301=$A25)*'Bakım'!$I$2:$I$301))-TODAY())) | L25: =IF($A25="","",IF(OR(AND(J25<>"",J25<=0),AND(K25<>"",K25<=0)),"Bakım zamanı geldi",IF(AND(K25<>"",K25<=$B$4),"Yaklaşıyor",""))) | M25: =IF($A25="","",'Araçlar'!P2&IF(OR('Araçlar'!P2="Süresi doldu",'Araçlar'!P2="Yaklaşıyor")," · "&'Araçlar'!N2,"")) | N25: =IF($A25="","",SUMPRODUCT(('Günlük takip'!$B$2:$B$1001=$A25)*(LEN('Günlük takip'!$O$2:$O$1001)>0)))
A26: =IF('Araçlar'!A3="","",'Araçlar'!A3) | B26: =IF($A26="","",COUNTIFS('Günlük takip'!$B$2:$B$1001,$A26,'Günlük takip'!$A$2:$A$1001,">="&IF($B$2="",0,$B$2),'Günlük takip'!$A$2:$A$1001,"<="&IF($B$3="",2958465,$B$3))) | C26: =IF($A26="","",SUMIFS('Günlük takip'!$L$2:$L$1001,'Günlük takip'!$B$2:$B$1001,$A26,'Günlük takip'!$A$2:$A$1001,">="&IF($B$2="",0,$B$2),'Günlük takip'!$A$2:$A$1001,"<="&IF($B$3="",2958465,$B$3))) | D26: =IF($A26="","",SUMIFS('Günlük takip'!$I$2:$I$1001,'Günlük takip'!$B$2:$B$1001,$A26,'Günlük takip'!$A$2:$A$1001,">="&IF($B$2="",0,$B$2),'Günlük takip'!$A$2:$A$1001,"<="&IF($B$3="",2958465,$B$3))) | E26: =IF($A26="","",SUMIFS('Günlük takip'!$J$2:$J$1001,'Günlük takip'!$B$2:$B$1001,$A26,'Günlük takip'!$A$2:$A$1001,">="&IF($B$2="",0,$B$2),'Günlük takip'!$A$2:$A$1001,"<="&IF($B$3="",2958465,$B$3))) | F26: =IF(OR($A26="",C26=0),"",D26/C26*100) | G26: =IF($A26="","",SUMIFS('Bakım'!$G$2:$G$301,'Bakım'!$B$2:$B$301,$A26,'Bakım'!$A$2:$A$301,">="&IF($B$2="",0,$B$2),'Bakım'!$A$2:$A$301,"<="&IF($B$3="",2958465,$B$3))) | H26: =IF(OR($A26="",C26=0),"",(E26+G26)/C26) | I26: =IF($A26="","",MAX(SUMPRODUCT(MAX(('Günlük takip'!$B$2:$B$1001=$A26)*'Günlük takip'!$G$2:$G$1001)),SUMPRODUCT(MAX(('Günlük takip'!$B$2:$B$1001=$A26)*'Günlük takip'!$E$2:$E$1001)),SUMPRODUCT(MAX(('Bakım'!$B$2:$B$301=$A26)*'Bakım'!$C$2:$C$301)))) | J26: =IF($A26="","",IF(SUMPRODUCT(MAX(('Bakım'!$B$2:$B$301=$A26)*'Bakım'!$H$2:$H$301))=0,"",SUMPRODUCT(MAX(('Bakım'!$B$2:$B$301=$A26)*'Bakım'!$H$2:$H$301))-I26)) | K26: =IF($A26="","",IF(SUMPRODUCT(MAX(('Bakım'!$B$2:$B$301=$A26)*'Bakım'!$I$2:$I$301))=0,"",SUMPRODUCT(MAX(('Bakım'!$B$2:$B$301=$A26)*'Bakım'!$I$2:$I$301))-TODAY())) | L26: =IF($A26="","",IF(OR(AND(J26<>"",J26<=0),AND(K26<>"",K26<=0)),"Bakım zamanı geldi",IF(AND(K26<>"",K26<=$B$4),"Yaklaşıyor",""))) | M26: =IF($A26="","",'Araçlar'!P3&IF(OR('Araçlar'!P3="Süresi doldu",'Araçlar'!P3="Yaklaşıyor")," · "&'Araçlar'!N3,"")) | N26: =IF($A26="","",SUMPRODUCT(('Günlük takip'!$B$2:$B$1001=$A26)*(LEN('Günlük takip'!$O$2:$O$1001)>0)))
A27: =IF('Araçlar'!A4="","",'Araçlar'!A4) | B27: =IF($A27="","",COUNTIFS('Günlük takip'!$B$2:$B$1001,$A27,'Günlük takip'!$A$2:$A$1001,">="&IF($B$2="",0,$B$2),'Günlük takip'!$A$2:$A$1001,"<="&IF($B$3="",2958465,$B$3))) | C27: =IF($A27="","",SUMIFS('Günlük takip'!$L$2:$L$1001,'Günlük takip'!$B$2:$B$1001,$A27,'Günlük takip'!$A$2:$A$1001,">="&IF($B$2="",0,$B$2),'Günlük takip'!$A$2:$A$1001,"<="&IF($B$3="",2958465,$B$3))) | D27: =IF($A27="","",SUMIFS('Günlük takip'!$I$2:$I$1001,'Günlük takip'!$B$2:$B$1001,$A27,'Günlük takip'!$A$2:$A$1001,">="&IF($B$2="",0,$B$2),'Günlük takip'!$A$2:$A$1001,"<="&IF($B$3="",2958465,$B$3))) | E27: =IF($A27="","",SUMIFS('Günlük takip'!$J$2:$J$1001,'Günlük takip'!$B$2:$B$1001,$A27,'Günlük takip'!$A$2:$A$1001,">="&IF($B$2="",0,$B$2),'Günlük takip'!$A$2:$A$1001,"<="&IF($B$3="",2958465,$B$3))) | F27: =IF(OR($A27="",C27=0),"",D27/C27*100) | G27: =IF($A27="","",SUMIFS('Bakım'!$G$2:$G$301,'Bakım'!$B$2:$B$301,$A27,'Bakım'!$A$2:$A$301,">="&IF($B$2="",0,$B$2),'Bakım'!$A$2:$A$301,"<="&IF($B$3="",2958465,$B$3))) | H27: =IF(OR($A27="",C27=0),"",(E27+G27)/C27) | I27: =IF($A27="","",MAX(SUMPRODUCT(MAX(('Günlük takip'!$B$2:$B$1001=$A27)*'Günlük takip'!$G$2:$G$1001)),SUMPRODUCT(MAX(('Günlük takip'!$B$2:$B$1001=$A27)*'Günlük takip'!$E$2:$E$1001)),SUMPRODUCT(MAX(('Bakım'!$B$2:$B$301=$A27)*'Bakım'!$C$2:$C$301)))) | J27: =IF($A27="","",IF(SUMPRODUCT(MAX(('Bakım'!$B$2:$B$301=$A27)*'Bakım'!$H$2:$H$301))=0,"",SUMPRODUCT(MAX(('Bakım'!$B$2:$B$301=$A27)*'Bakım'!$H$2:$H$301))-I27)) | K27: =IF($A27="","",IF(SUMPRODUCT(MAX(('Bakım'!$B$2:$B$301=$A27)*'Bakım'!$I$2:$I$301))=0,"",SUMPRODUCT(MAX(('Bakım'!$B$2:$B$301=$A27)*'Bakım'!$I$2:$I$301))-TODAY())) | L27: =IF($A27="","",IF(OR(AND(J27<>"",J27<=0),AND(K27<>"",K27<=0)),"Bakım zamanı geldi",IF(AND(K27<>"",K27<=$B$4),"Yaklaşıyor",""))) | M27: =IF($A27="","",'Araçlar'!P4&IF(OR('Araçlar'!P4="Süresi doldu",'Araçlar'!P4="Yaklaşıyor")," · "&'Araçlar'!N4,"")) | N27: =IF($A27="","",SUMPRODUCT(('Günlük takip'!$B$2:$B$1001=$A27)*(LEN('Günlük takip'!$O$2:$O$1001)>0)))
A28: =IF('Araçlar'!A5="","",'Araçlar'!A5) | B28: =IF($A28="","",COUNTIFS('Günlük takip'!$B$2:$B$1001,$A28,'Günlük takip'!$A$2:$A$1001,">="&IF($B$2="",0,$B$2),'Günlük takip'!$A$2:$A$1001,"<="&IF($B$3="",2958465,$B$3))) | C28: =IF($A28="","",SUMIFS('Günlük takip'!$L$2:$L$1001,'Günlük takip'!$B$2:$B$1001,$A28,'Günlük takip'!$A$2:$A$1001,">="&IF($B$2="",0,$B$2),'Günlük takip'!$A$2:$A$1001,"<="&IF($B$3="",2958465,$B$3))) | D28: =IF($A28="","",SUMIFS('Günlük takip'!$I$2:$I$1001,'Günlük takip'!$B$2:$B$1001,$A28,'Günlük takip'!$A$2:$A$1001,">="&IF($B$2="",0,$B$2),'Günlük takip'!$A$2:$A$1001,"<="&IF($B$3="",2958465,$B$3))) | E28: =IF($A28="","",SUMIFS('Günlük takip'!$J$2:$J$1001,'Günlük takip'!$B$2:$B$1001,$A28,'Günlük takip'!$A$2:$A$1001,">="&IF($B$2="",0,$B$2),'Günlük takip'!$A$2:$A$1001,"<="&IF($B$3="",2958465,$B$3))) | F28: =IF(OR($A28="",C28=0),"",D28/C28*100) | G28: =IF($A28="","",SUMIFS('Bakım'!$G$2:$G$301,'Bakım'!$B$2:$B$301,$A28,'Bakım'!$A$2:$A$301,">="&IF($B$2="",0,$B$2),'Bakım'!$A$2:$A$301,"<="&IF($B$3="",2958465,$B$3))) | H28: =IF(OR($A28="",C28=0),"",(E28+G28)/C28) | I28: =IF($A28="","",MAX(SUMPRODUCT(MAX(('Günlük takip'!$B$2:$B$1001=$A28)*'Günlük takip'!$G$2:$G$1001)),SUMPRODUCT(MAX(('Günlük takip'!$B$2:$B$1001=$A28)*'Günlük takip'!$E$2:$E$1001)),SUMPRODUCT(MAX(('Bakım'!$B$2:$B$301=$A28)*'Bakım'!$C$2:$C$301)))) | J28: =IF($A28="","",IF(SUMPRODUCT(MAX(('Bakım'!$B$2:$B$301=$A28)*'Bakım'!$H$2:$H$301))=0,"",SUMPRODUCT(MAX(('Bakım'!$B$2:$B$301=$A28)*'Bakım'!$H$2:$H$301))-I28)) | K28: =IF($A28="","",IF(SUMPRODUCT(MAX(('Bakım'!$B$2:$B$301=$A28)*'Bakım'!$I$2:$I$301))=0,"",SUMPRODUCT(MAX(('Bakım'!$B$2:$B$301=$A28)*'Bakım'!$I$2:$I$301))-TODAY())) | L28: =IF($A28="","",IF(OR(AND(J28<>"",J28<=0),AND(K28<>"",K28<=0)),"Bakım zamanı geldi",IF(AND(K28<>"",K28<=$B$4),"Yaklaşıyor",""))) | M28: =IF($A28="","",'Araçlar'!P5&IF(OR('Araçlar'!P5="Süresi doldu",'Araçlar'!P5="Yaklaşıyor")," · "&'Araçlar'!N5,"")) | N28: =IF($A28="","",SUMPRODUCT(('Günlük takip'!$B$2:$B$1001=$A28)*(LEN('Günlük takip'!$O$2:$O$1001)>0)))
A29: =IF('Araçlar'!A6="","",'Araçlar'!A6) | B29: =IF($A29="","",COUNTIFS('Günlük takip'!$B$2:$B$1001,$A29,'Günlük takip'!$A$2:$A$1001,">="&IF($B$2="",0,$B$2),'Günlük takip'!$A$2:$A$1001,"<="&IF($B$3="",2958465,$B$3))) | C29: =IF($A29="","",SUMIFS('Günlük takip'!$L$2:$L$1001,'Günlük takip'!$B$2:$B$1001,$A29,'Günlük takip'!$A$2:$A$1001,">="&IF($B$2="",0,$B$2),'Günlük takip'!$A$2:$A$1001,"<="&IF($B$3="",2958465,$B$3))) | D29: =IF($A29="","",SUMIFS('Günlük takip'!$I$2:$I$1001,'Günlük takip'!$B$2:$B$1001,$A29,'Günlük takip'!$A$2:$A$1001,">="&IF($B$2="",0,$B$2),'Günlük takip'!$A$2:$A$1001,"<="&IF($B$3="",2958465,$B$3))) | E29: =IF($A29="","",SUMIFS('Günlük takip'!$J$2:$J$1001,'Günlük takip'!$B$2:$B$1001,$A29,'Günlük takip'!$A$2:$A$1001,">="&IF($B$2="",0,$B$2),'Günlük takip'!$A$2:$A$1001,"<="&IF($B$3="",2958465,$B$3))) | F29: =IF(OR($A29="",C29=0),"",D29/C29*100) | G29: =IF($A29="","",SUMIFS('Bakım'!$G$2:$G$301,'Bakım'!$B$2:$B$301,$A29,'Bakım'!$A$2:$A$301,">="&IF($B$2="",0,$B$2),'Bakım'!$A$2:$A$301,"<="&IF($B$3="",2958465,$B$3))) | H29: =IF(OR($A29="",C29=0),"",(E29+G29)/C29) | I29: =IF($A29="","",MAX(SUMPRODUCT(MAX(('Günlük takip'!$B$2:$B$1001=$A29)*'Günlük takip'!$G$2:$G$1001)),SUMPRODUCT(MAX(('Günlük takip'!$B$2:$B$1001=$A29)*'Günlük takip'!$E$2:$E$1001)),SUMPRODUCT(MAX(('Bakım'!$B$2:$B$301=$A29)*'Bakım'!$C$2:$C$301)))) | J29: =IF($A29="","",IF(SUMPRODUCT(MAX(('Bakım'!$B$2:$B$301=$A29)*'Bakım'!$H$2:$H$301))=0,"",SUMPRODUCT(MAX(('Bakım'!$B$2:$B$301=$A29)*'Bakım'!$H$2:$H$301))-I29)) | K29: =IF($A29="","",IF(SUMPRODUCT(MAX(('Bakım'!$B$2:$B$301=$A29)*'Bakım'!$I$2:$I$301))=0,"",SUMPRODUCT(MAX(('Bakım'!$B$2:$B$301=$A29)*'Bakım'!$I$2:$I$301))-TODAY())) | L29: =IF($A29="","",IF(OR(AND(J29<>"",J29<=0),AND(K29<>"",K29<=0)),"Bakım zamanı geldi",IF(AND(K29<>"",K29<=$B$4),"Yaklaşıyor",""))) | M29: =IF($A29="","",'Araçlar'!P6&IF(OR('Araçlar'!P6="Süresi doldu",'Araçlar'!P6="Yaklaşıyor")," · "&'Araçlar'!N6,"")) | N29: =IF($A29="","",SUMPRODUCT(('Günlük takip'!$B$2:$B$1001=$A29)*(LEN('Günlük takip'!$O$2:$O$1001)>0)))
A30: =IF('Araçlar'!A7="","",'Araçlar'!A7) | B30: =IF($A30="","",COUNTIFS('Günlük takip'!$B$2:$B$1001,$A30,'Günlük takip'!$A$2:$A$1001,">="&IF($B$2="",0,$B$2),'Günlük takip'!$A$2:$A$1001,"<="&IF($B$3="",2958465,$B$3))) | C30: =IF($A30="","",SUMIFS('Günlük takip'!$L$2:$L$1001,'Günlük takip'!$B$2:$B$1001,$A30,'Günlük takip'!$A$2:$A$1001,">="&IF($B$2="",0,$B$2),'Günlük takip'!$A$2:$A$1001,"<="&IF($B$3="",2958465,$B$3))) | D30: =IF($A30="","",SUMIFS('Günlük takip'!$I$2:$I$1001,'Günlük takip'!$B$2:$B$1001,$A30,'Günlük takip'!$A$2:$A$1001,">="&IF($B$2="",0,$B$2),'Günlük takip'!$A$2:$A$1001,"<="&IF($B$3="",2958465,$B$3))) | E30: =IF($A30="","",SUMIFS('Günlük takip'!$J$2:$J$1001,'Günlük takip'!$B$2:$B$1001,$A30,'Günlük takip'!$A$2:$A$1001,">="&IF($B$2="",0,$B$2),'Günlük takip'!$A$2:$A$1001,"<="&IF($B$3="",2958465,$B$3))) | F30: =IF(OR($A30="",C30=0),"",D30/C30*100) | G30: =IF($A30="","",SUMIFS('Bakım'!$G$2:$G$301,'Bakım'!$B$2:$B$301,$A30,'Bakım'!$A$2:$A$301,">="&IF($B$2="",0,$B$2),'Bakım'!$A$2:$A$301,"<="&IF($B$3="",2958465,$B$3))) | H30: =IF(OR($A30="",C30=0),"",(E30+G30)/C30) | I30: =IF($A30="","",MAX(SUMPRODUCT(MAX(('Günlük takip'!$B$2:$B$1001=$A30)*'Günlük takip'!$G$2:$G$1001)),SUMPRODUCT(MAX(('Günlük takip'!$B$2:$B$1001=$A30)*'Günlük takip'!$E$2:$E$1001)),SUMPRODUCT(MAX(('Bakım'!$B$2:$B$301=$A30)*'Bakım'!$C$2:$C$301)))) | J30: =IF($A30="","",IF(SUMPRODUCT(MAX(('Bakım'!$B$2:$B$301=$A30)*'Bakım'!$H$2:$H$301))=0,"",SUMPRODUCT(MAX(('Bakım'!$B$2:$B$301=$A30)*'Bakım'!$H$2:$H$301))-I30)) | K30: =IF($A30="","",IF(SUMPRODUCT(MAX(('Bakım'!$B$2:$B$301=$A30)*'Bakım'!$I$2:$I$301))=0,"",SUMPRODUCT(MAX(('Bakım'!$B$2:$B$301=$A30)*'Bakım'!$I$2:$I$301))-TODAY())) | L30: =IF($A30="","",IF(OR(AND(J30<>"",J30<=0),AND(K30<>"",K30<=0)),"Bakım zamanı geldi",IF(AND(K30<>"",K30<=$B$4),"Yaklaşıyor",""))) | M30: =IF($A30="","",'Araçlar'!P7&IF(OR('Araçlar'!P7="Süresi doldu",'Araçlar'!P7="Yaklaşıyor")," · "&'Araçlar'!N7,"")) | N30: =IF($A30="","",SUMPRODUCT(('Günlük takip'!$B$2:$B$1001=$A30)*(LEN('Günlük takip'!$O$2:$O$1001)>0)))
A31: =IF('Araçlar'!A8="","",'Araçlar'!A8) | B31: =IF($A31="","",COUNTIFS('Günlük takip'!$B$2:$B$1001,$A31,'Günlük takip'!$A$2:$A$1001,">="&IF($B$2="",0,$B$2),'Günlük takip'!$A$2:$A$1001,"<="&IF($B$3="",2958465,$B$3))) | C31: =IF($A31="","",SUMIFS('Günlük takip'!$L$2:$L$1001,'Günlük takip'!$B$2:$B$1001,$A31,'Günlük takip'!$A$2:$A$1001,">="&IF($B$2="",0,$B$2),'Günlük takip'!$A$2:$A$1001,"<="&IF($B$3="",2958465,$B$3))) | D31: =IF($A31="","",SUMIFS('Günlük takip'!$I$2:$I$1001,'Günlük takip'!$B$2:$B$1001,$A31,'Günlük takip'!$A$2:$A$1001,">="&IF($B$2="",0,$B$2),'Günlük takip'!$A$2:$A$1001,"<="&IF($B$3="",2958465,$B$3))) | E31: =IF($A31="","",SUMIFS('Günlük takip'!$J$2:$J$1001,'Günlük takip'!$B$2:$B$1001,$A31,'Günlük takip'!$A$2:$A$1001,">="&IF($B$2="",0,$B$2),'Günlük takip'!$A$2:$A$1001,"<="&IF($B$3="",2958465,$B$3))) | F31: =IF(OR($A31="",C31=0),"",D31/C31*100) | G31: =IF($A31="","",SUMIFS('Bakım'!$G$2:$G$301,'Bakım'!$B$2:$B$301,$A31,'Bakım'!$A$2:$A$301,">="&IF($B$2="",0,$B$2),'Bakım'!$A$2:$A$301,"<="&IF($B$3="",2958465,$B$3))) | H31: =IF(OR($A31="",C31=0),"",(E31+G31)/C31) | I31: =IF($A31="","",MAX(SUMPRODUCT(MAX(('Günlük takip'!$B$2:$B$1001=$A31)*'Günlük takip'!$G$2:$G$1001)),SUMPRODUCT(MAX(('Günlük takip'!$B$2:$B$1001=$A31)*'Günlük takip'!$E$2:$E$1001)),SUMPRODUCT(MAX(('Bakım'!$B$2:$B$301=$A31)*'Bakım'!$C$2:$C$301)))) | J31: =IF($A31="","",IF(SUMPRODUCT(MAX(('Bakım'!$B$2:$B$301=$A31)*'Bakım'!$H$2:$H$301))=0,"",SUMPRODUCT(MAX(('Bakım'!$B$2:$B$301=$A31)*'Bakım'!$H$2:$H$301))-I31)) | K31: =IF($A31="","",IF(SUMPRODUCT(MAX(('Bakım'!$B$2:$B$301=$A31)*'Bakım'!$I$2:$I$301))=0,"",SUMPRODUCT(MAX(('Bakım'!$B$2:$B$301=$A31)*'Bakım'!$I$2:$I$301))-TODAY())) | L31: =IF($A31="","",IF(OR(AND(J31<>"",J31<=0),AND(K31<>"",K31<=0)),"Bakım zamanı geldi",IF(AND(K31<>"",K31<=$B$4),"Yaklaşıyor",""))) | M31: =IF($A31="","",'Araçlar'!P8&IF(OR('Araçlar'!P8="Süresi doldu",'Araçlar'!P8="Yaklaşıyor")," · "&'Araçlar'!N8,"")) | N31: =IF($A31="","",SUMPRODUCT(('Günlük takip'!$B$2:$B$1001=$A31)*(LEN('Günlük takip'!$O$2:$O$1001)>0)))
A32: =IF('Araçlar'!A9="","",'Araçlar'!A9) | B32: =IF($A32="","",COUNTIFS('Günlük takip'!$B$2:$B$1001,$A32,'Günlük takip'!$A$2:$A$1001,">="&IF($B$2="",0,$B$2),'Günlük takip'!$A$2:$A$1001,"<="&IF($B$3="",2958465,$B$3))) | C32: =IF($A32="","",SUMIFS('Günlük takip'!$L$2:$L$1001,'Günlük takip'!$B$2:$B$1001,$A32,'Günlük takip'!$A$2:$A$1001,">="&IF($B$2="",0,$B$2),'Günlük takip'!$A$2:$A$1001,"<="&IF($B$3="",2958465,$B$3))) | D32: =IF($A32="","",SUMIFS('Günlük takip'!$I$2:$I$1001,'Günlük takip'!$B$2:$B$1001,$A32,'Günlük takip'!$A$2:$A$1001,">="&IF($B$2="",0,$B$2),'Günlük takip'!$A$2:$A$1001,"<="&IF($B$3="",2958465,$B$3))) | E32: =IF($A32="","",SUMIFS('Günlük takip'!$J$2:$J$1001,'Günlük takip'!$B$2:$B$1001,$A32,'Günlük takip'!$A$2:$A$1001,">="&IF($B$2="",0,$B$2),'Günlük takip'!$A$2:$A$1001,"<="&IF($B$3="",2958465,$B$3))) | F32: =IF(OR($A32="",C32=0),"",D32/C32*100) | G32: =IF($A32="","",SUMIFS('Bakım'!$G$2:$G$301,'Bakım'!$B$2:$B$301,$A32,'Bakım'!$A$2:$A$301,">="&IF($B$2="",0,$B$2),'Bakım'!$A$2:$A$301,"<="&IF($B$3="",2958465,$B$3))) | H32: =IF(OR($A32="",C32=0),"",(E32+G32)/C32) | I32: =IF($A32="","",MAX(SUMPRODUCT(MAX(('Günlük takip'!$B$2:$B$1001=$A32)*'Günlük takip'!$G$2:$G$1001)),SUMPRODUCT(MAX(('Günlük takip'!$B$2:$B$1001=$A32)*'Günlük takip'!$E$2:$E$1001)),SUMPRODUCT(MAX(('Bakım'!$B$2:$B$301=$A32)*'Bakım'!$C$2:$C$301)))) | J32: =IF($A32="","",IF(SUMPRODUCT(MAX(('Bakım'!$B$2:$B$301=$A32)*'Bakım'!$H$2:$H$301))=0,"",SUMPRODUCT(MAX(('Bakım'!$B$2:$B$301=$A32)*'Bakım'!$H$2:$H$301))-I32)) | K32: =IF($A32="","",IF(SUMPRODUCT(MAX(('Bakım'!$B$2:$B$301=$A32)*'Bakım'!$I$2:$I$301))=0,"",SUMPRODUCT(MAX(('Bakım'!$B$2:$B$301=$A32)*'Bakım'!$I$2:$I$301))-TODAY())) | L32: =IF($A32="","",IF(OR(AND(J32<>"",J32<=0),AND(K32<>"",K32<=0)),"Bakım zamanı geldi",IF(AND(K32<>"",K32<=$B$4),"Yaklaşıyor",""))) | M32: =IF($A32="","",'Araçlar'!P9&IF(OR('Araçlar'!P9="Süresi doldu",'Araçlar'!P9="Yaklaşıyor")," · "&'Araçlar'!N9,"")) | N32: =IF($A32="","",SUMPRODUCT(('Günlük takip'!$B$2:$B$1001=$A32)*(LEN('Günlük takip'!$O$2:$O$1001)>0)))
A33: =IF('Araçlar'!A10="","",'Araçlar'!A10) | B33: =IF($A33="","",COUNTIFS('Günlük takip'!$B$2:$B$1001,$A33,'Günlük takip'!$A$2:$A$1001,">="&IF($B$2="",0,$B$2),'Günlük takip'!$A$2:$A$1001,"<="&IF($B$3="",2958465,$B$3))) | C33: =IF($A33="","",SUMIFS('Günlük takip'!$L$2:$L$1001,'Günlük takip'!$B$2:$B$1001,$A33,'Günlük takip'!$A$2:$A$1001,">="&IF($B$2="",0,$B$2),'Günlük takip'!$A$2:$A$1001,"<="&IF($B$3="",2958465,$B$3))) | D33: =IF($A33="","",SUMIFS('Günlük takip'!$I$2:$I$1001,'Günlük takip'!$B$2:$B$1001,$A33,'Günlük takip'!$A$2:$A$1001,">="&IF($B$2="",0,$B$2),'Günlük takip'!$A$2:$A$1001,"<="&IF($B$3="",2958465,$B$3))) | E33: =IF($A33="","",SUMIFS('Günlük takip'!$J$2:$J$1001,'Günlük takip'!$B$2:$B$1001,$A33,'Günlük takip'!$A$2:$A$1001,">="&IF($B$2="",0,$B$2),'Günlük takip'!$A$2:$A$1001,"<="&IF($B$3="",2958465,$B$3))) | F33: =IF(OR($A33="",C33=0),"",D33/C33*100) | G33: =IF($A33="","",SUMIFS('Bakım'!$G$2:$G$301,'Bakım'!$B$2:$B$301,$A33,'Bakım'!$A$2:$A$301,">="&IF($B$2="",0,$B$2),'Bakım'!$A$2:$A$301,"<="&IF($B$3="",2958465,$B$3))) | H33: =IF(OR($A33="",C33=0),"",(E33+G33)/C33) | I33: =IF($A33="","",MAX(SUMPRODUCT(MAX(('Günlük takip'!$B$2:$B$1001=$A33)*'Günlük takip'!$G$2:$G$1001)),SUMPRODUCT(MAX(('Günlük takip'!$B$2:$B$1001=$A33)*'Günlük takip'!$E$2:$E$1001)),SUMPRODUCT(MAX(('Bakım'!$B$2:$B$301=$A33)*'Bakım'!$C$2:$C$301)))) | J33: =IF($A33="","",IF(SUMPRODUCT(MAX(('Bakım'!$B$2:$B$301=$A33)*'Bakım'!$H$2:$H$301))=0,"",SUMPRODUCT(MAX(('Bakım'!$B$2:$B$301=$A33)*'Bakım'!$H$2:$H$301))-I33)) | K33: =IF($A33="","",IF(SUMPRODUCT(MAX(('Bakım'!$B$2:$B$301=$A33)*'Bakım'!$I$2:$I$301))=0,"",SUMPRODUCT(MAX(('Bakım'!$B$2:$B$301=$A33)*'Bakım'!$I$2:$I$301))-TODAY())) | L33: =IF($A33="","",IF(OR(AND(J33<>"",J33<=0),AND(K33<>"",K33<=0)),"Bakım zamanı geldi",IF(AND(K33<>"",K33<=$B$4),"Yaklaşıyor",""))) | M33: =IF($A33="","",'Araçlar'!P10&IF(OR('Araçlar'!P10="Süresi doldu",'Araçlar'!P10="Yaklaşıyor")," · "&'Araçlar'!N10,"")) | N33: =IF($A33="","",SUMPRODUCT(('Günlük takip'!$B$2:$B$1001=$A33)*(LEN('Günlük takip'!$O$2:$O$1001)>0)))
A34: =IF('Araçlar'!A11="","",'Araçlar'!A11) | B34: =IF($A34="","",COUNTIFS('Günlük takip'!$B$2:$B$1001,$A34,'Günlük takip'!$A$2:$A$1001,">="&IF($B$2="",0,$B$2),'Günlük takip'!$A$2:$A$1001,"<="&IF($B$3="",2958465,$B$3))) | C34: =IF($A34="","",SUMIFS('Günlük takip'!$L$2:$L$1001,'Günlük takip'!$B$2:$B$1001,$A34,'Günlük takip'!$A$2:$A$1001,">="&IF($B$2="",0,$B$2),'Günlük takip'!$A$2:$A$1001,"<="&IF($B$3="",2958465,$B$3))) | D34: =IF($A34="","",SUMIFS('Günlük takip'!$I$2:$I$1001,'Günlük takip'!$B$2:$B$1001,$A34,'Günlük takip'!$A$2:$A$1001,">="&IF($B$2="",0,$B$2),'Günlük takip'!$A$2:$A$1001,"<="&IF($B$3="",2958465,$B$3))) | E34: =IF($A34="","",SUMIFS('Günlük takip'!$J$2:$J$1001,'Günlük takip'!$B$2:$B$1001,$A34,'Günlük takip'!$A$2:$A$1001,">="&IF($B$2="",0,$B$2),'Günlük takip'!$A$2:$A$1001,"<="&IF($B$3="",2958465,$B$3))) | F34: =IF(OR($A34="",C34=0),"",D34/C34*100) | G34: =IF($A34="","",SUMIFS('Bakım'!$G$2:$G$301,'Bakım'!$B$2:$B$301,$A34,'Bakım'!$A$2:$A$301,">="&IF($B$2="",0,$B$2),'Bakım'!$A$2:$A$301,"<="&IF($B$3="",2958465,$B$3))) | H34: =IF(OR($A34="",C34=0),"",(E34+G34)/C34) | I34: =IF($A34="","",MAX(SUMPRODUCT(MAX(('Günlük takip'!$B$2:$B$1001=$A34)*'Günlük takip'!$G$2:$G$1001)),SUMPRODUCT(MAX(('Günlük takip'!$B$2:$B$1001=$A34)*'Günlük takip'!$E$2:$E$1001)),SUMPRODUCT(MAX(('Bakım'!$B$2:$B$301=$A34)*'Bakım'!$C$2:$C$301)))) | J34: =IF($A34="","",IF(SUMPRODUCT(MAX(('Bakım'!$B$2:$B$301=$A34)*'Bakım'!$H$2:$H$301))=0,"",SUMPRODUCT(MAX(('Bakım'!$B$2:$B$301=$A34)*'Bakım'!$H$2:$H$301))-I34)) | K34: =IF($A34="","",IF(SUMPRODUCT(MAX(('Bakım'!$B$2:$B$301=$A34)*'Bakım'!$I$2:$I$301))=0,"",SUMPRODUCT(MAX(('Bakım'!$B$2:$B$301=$A34)*'Bakım'!$I$2:$I$301))-TODAY())) | L34: =IF($A34="","",IF(OR(AND(J34<>"",J34<=0),AND(K34<>"",K34<=0)),"Bakım zamanı geldi",IF(AND(K34<>"",K34<=$B$4),"Yaklaşıyor",""))) | M34: =IF($A34="","",'Araçlar'!P11&IF(OR('Araçlar'!P11="Süresi doldu",'Araçlar'!P11="Yaklaşıyor")," · "&'Araçlar'!N11,"")) | N34: =IF($A34="","",SUMPRODUCT(('Günlük takip'!$B$2:$B$1001=$A34)*(LEN('Günlük takip'!$O$2:$O$1001)>0)))
A35: =IF('Araçlar'!A12="","",'Araçlar'!A12) | B35: =IF($A35="","",COUNTIFS('Günlük takip'!$B$2:$B$1001,$A35,'Günlük takip'!$A$2:$A$1001,">="&IF($B$2="",0,$B$2),'Günlük takip'!$A$2:$A$1001,"<="&IF($B$3="",2958465,$B$3))) | C35: =IF($A35="","",SUMIFS('Günlük takip'!$L$2:$L$1001,'Günlük takip'!$B$2:$B$1001,$A35,'Günlük takip'!$A$2:$A$1001,">="&IF($B$2="",0,$B$2),'Günlük takip'!$A$2:$A$1001,"<="&IF($B$3="",2958465,$B$3))) | D35: =IF($A35="","",SUMIFS('Günlük takip'!$I$2:$I$1001,'Günlük takip'!$B$2:$B$1001,$A35,'Günlük takip'!$A$2:$A$1001,">="&IF($B$2="",0,$B$2),'Günlük takip'!$A$2:$A$1001,"<="&IF($B$3="",2958465,$B$3))) | E35: =IF($A35="","",SUMIFS('Günlük takip'!$J$2:$J$1001,'Günlük takip'!$B$2:$B$1001,$A35,'Günlük takip'!$A$2:$A$1001,">="&IF($B$2="",0,$B$2),'Günlük takip'!$A$2:$A$1001,"<="&IF($B$3="",2958465,$B$3))) | F35: =IF(OR($A35="",C35=0),"",D35/C35*100) | G35: =IF($A35="","",SUMIFS('Bakım'!$G$2:$G$301,'Bakım'!$B$2:$B$301,$A35,'Bakım'!$A$2:$A$301,">="&IF($B$2="",0,$B$2),'Bakım'!$A$2:$A$301,"<="&IF($B$3="",2958465,$B$3))) | H35: =IF(OR($A35="",C35=0),"",(E35+G35)/C35) | I35: =IF($A35="","",MAX(SUMPRODUCT(MAX(('Günlük takip'!$B$2:$B$1001=$A35)*'Günlük takip'!$G$2:$G$1001)),SUMPRODUCT(MAX(('Günlük takip'!$B$2:$B$1001=$A35)*'Günlük takip'!$E$2:$E$1001)),SUMPRODUCT(MAX(('Bakım'!$B$2:$B$301=$A35)*'Bakım'!$C$2:$C$301)))) | J35: =IF($A35="","",IF(SUMPRODUCT(MAX(('Bakım'!$B$2:$B$301=$A35)*'Bakım'!$H$2:$H$301))=0,"",SUMPRODUCT(MAX(('Bakım'!$B$2:$B$301=$A35)*'Bakım'!$H$2:$H$301))-I35)) | K35: =IF($A35="","",IF(SUMPRODUCT(MAX(('Bakım'!$B$2:$B$301=$A35)*'Bakım'!$I$2:$I$301))=0,"",SUMPRODUCT(MAX(('Bakım'!$B$2:$B$301=$A35)*'Bakım'!$I$2:$I$301))-TODAY())) | L35: =IF($A35="","",IF(OR(AND(J35<>"",J35<=0),AND(K35<>"",K35<=0)),"Bakım zamanı geldi",IF(AND(K35<>"",K35<=$B$4),"Yaklaşıyor",""))) | M35: =IF($A35="","",'Araçlar'!P12&IF(OR('Araçlar'!P12="Süresi doldu",'Araçlar'!P12="Yaklaşıyor")," · "&'Araçlar'!N12,"")) | N35: =IF($A35="","",SUMPRODUCT(('Günlük takip'!$B$2:$B$1001=$A35)*(LEN('Günlük takip'!$O$2:$O$1001)>0)))
A36: =IF('Araçlar'!A13="","",'Araçlar'!A13) | B36: =IF($A36="","",COUNTIFS('Günlük takip'!$B$2:$B$1001,$A36,'Günlük takip'!$A$2:$A$1001,">="&IF($B$2="",0,$B$2),'Günlük takip'!$A$2:$A$1001,"<="&IF($B$3="",2958465,$B$3))) | C36: =IF($A36="","",SUMIFS('Günlük takip'!$L$2:$L$1001,'Günlük takip'!$B$2:$B$1001,$A36,'Günlük takip'!$A$2:$A$1001,">="&IF($B$2="",0,$B$2),'Günlük takip'!$A$2:$A$1001,"<="&IF($B$3="",2958465,$B$3))) | D36: =IF($A36="","",SUMIFS('Günlük takip'!$I$2:$I$1001,'Günlük takip'!$B$2:$B$1001,$A36,'Günlük takip'!$A$2:$A$1001,">="&IF($B$2="",0,$B$2),'Günlük takip'!$A$2:$A$1001,"<="&IF($B$3="",2958465,$B$3))) | E36: =IF($A36="","",SUMIFS('Günlük takip'!$J$2:$J$1001,'Günlük takip'!$B$2:$B$1001,$A36,'Günlük takip'!$A$2:$A$1001,">="&IF($B$2="",0,$B$2),'Günlük takip'!$A$2:$A$1001,"<="&IF($B$3="",2958465,$B$3))) | F36: =IF(OR($A36="",C36=0),"",D36/C36*100) | G36: =IF($A36="","",SUMIFS('Bakım'!$G$2:$G$301,'Bakım'!$B$2:$B$301,$A36,'Bakım'!$A$2:$A$301,">="&IF($B$2="",0,$B$2),'Bakım'!$A$2:$A$301,"<="&IF($B$3="",2958465,$B$3))) | H36: =IF(OR($A36="",C36=0),"",(E36+G36)/C36) | I36: =IF($A36="","",MAX(SUMPRODUCT(MAX(('Günlük takip'!$B$2:$B$1001=$A36)*'Günlük takip'!$G$2:$G$1001)),SUMPRODUCT(MAX(('Günlük takip'!$B$2:$B$1001=$A36)*'Günlük takip'!$E$2:$E$1001)),SUMPRODUCT(MAX(('Bakım'!$B$2:$B$301=$A36)*'Bakım'!$C$2:$C$301)))) | J36: =IF($A36="","",IF(SUMPRODUCT(MAX(('Bakım'!$B$2:$B$301=$A36)*'Bakım'!$H$2:$H$301))=0,"",SUMPRODUCT(MAX(('Bakım'!$B$2:$B$301=$A36)*'Bakım'!$H$2:$H$301))-I36)) | K36: =IF($A36="","",IF(SUMPRODUCT(MAX(('Bakım'!$B$2:$B$301=$A36)*'Bakım'!$I$2:$I$301))=0,"",SUMPRODUCT(MAX(('Bakım'!$B$2:$B$301=$A36)*'Bakım'!$I$2:$I$301))-TODAY())) | L36: =IF($A36="","",IF(OR(AND(J36<>"",J36<=0),AND(K36<>"",K36<=0)),"Bakım zamanı geldi",IF(AND(K36<>"",K36<=$B$4),"Yaklaşıyor",""))) | M36: =IF($A36="","",'Araçlar'!P13&IF(OR('Araçlar'!P13="Süresi doldu",'Araçlar'!P13="Yaklaşıyor")," · "&'Araçlar'!N13,"")) | N36: =IF($A36="","",SUMPRODUCT(('Günlük takip'!$B$2:$B$1001=$A36)*(LEN('Günlük takip'!$O$2:$O$1001)>0)))
... A124: =IF('Araçlar'!A101="","",'Araçlar'!A101) | B124: =IF($A124="","",COUNTIFS('Günlük takip'!$B$2:$B$1001,$A124,'Günlük takip'!$A$2:$A$1001,">="&IF($B$2="",0,$B$2),'Günlük takip'!$A$2:$A$1001,"<="&IF($B$3="",2958465,$B$3))) | C124: =IF($A124="","",SUMIFS('Günlük takip'!$L$2:$L$1001,'Günlük takip'!$B$2:$B$1001,$A124,'Günlük takip'!$A$2:$A$1001,">="&IF($B$2="",0,$B$2),'Günlük takip'!$A$2:$A$1001,"<="&IF($B$3="",2958465,$B$3))) | D124: =IF($A124="","",SUMIFS('Günlük takip'!$I$2:$I$1001,'Günlük takip'!$B$2:$B$1001,$A124,'Günlük takip'!$A$2:$A$1001,">="&IF($B$2="",0,$B$2),'Günlük takip'!$A$2:$A$1001,"<="&IF($B$3="",2958465,$B$3))) | E124: =IF($A124="","",SUMIFS('Günlük takip'!$J$2:$J$1001,'Günlük takip'!$B$2:$B$1001,$A124,'Günlük takip'!$A$2:$A$1001,">="&IF($B$2="",0,$B$2),'Günlük takip'!$A$2:$A$1001,"<="&IF($B$3="",2958465,$B$3))) | F124: =IF(OR($A124="",C124=0),"",D124/C124*100) | G124: =IF($A124="","",SUMIFS('Bakım'!$G$2:$G$301,'Bakım'!$B$2:$B$301,$A124,'Bakım'!$A$2:$A$301,">="&IF($B$2="",0,$B$2),'Bakım'!$A$2:$A$301,"<="&IF($B$3="",2958465,$B$3))) | H124: =IF(OR($A124="",C124=0),"",(E124+G124)/C124) | I124: =IF($A124="","",MAX(SUMPRODUCT(MAX(('Günlük takip'!$B$2:$B$1001=$A124)*'Günlük takip'!$G$2:$G$1001)),SUMPRODUCT(MAX(('Günlük takip'!$B$2:$B$1001=$A124)*'Günlük takip'!$E$2:$E$1001)),SUMPRODUCT(MAX(('Bakım'!$B$2:$B$301=$A124)*'Bakım'!$C$2:$C$301)))) | J124: =IF($A124="","",IF(SUMPRODUCT(MAX(('Bakım'!$B$2:$B$301=$A124)*'Bakım'!$H$2:$H$301))=0,"",SUMPRODUCT(MAX(('Bakım'!$B$2:$B$301=$A124)*'Bakım'!$H$2:$H$301))-I124)) | K124: =IF($A124="","",IF(SUMPRODUCT(MAX(('Bakım'!$B$2:$B$301=$A124)*'Bakım'!$I$2:$I$301))=0,"",SUMPRODUCT(MAX(('Bakım'!$B$2:$B$301=$A124)*'Bakım'!$I$2:$I$301))-TODAY())) | L124: =IF($A124="","",IF(OR(AND(J124<>"",J124<=0),AND(K124<>"",K124<=0)),"Bakım zamanı geldi",IF(AND(K124<>"",K124<=$B$4),"Yaklaşıyor",""))) | M124: =IF($A124="","",'Araçlar'!P101&IF(OR('Araçlar'!P101="Süresi doldu",'Araçlar'!P101="Yaklaşıyor")," · "&'Araçlar'!N101,"")) | N124: =IF($A124="","",SUMPRODUCT(('Günlük takip'!$B$2:$B$1001=$A124)*(LEN('Günlük takip'!$O$2:$O$1001)>0)))

Sheet Nasıl kullanılır
A1: Bu çizelge nasıl kullanılır
A3: 1. 'Araçlar' sayfasına her aracı bir kez girin: plaka, tür, mülkiyet ve belgelerin bitiş tarihleri.
A4: Plakayı her sayfada aynı yazın (boşluklar dahil); öteki sayfalar aracı plakadan tanır.
A5: 2. 'Günlük takip' sayfasına her çıkış için bir satır girin: tarih, plaka, sürücü, saatler, çıkış ve dönüş km'si, yakıt.
A6: Satırları tarih sırasıyla girin. Sahada kâğıt form kullanıyorsanız akşam buraya aktarın.
A7: 3. 'Bakım' sayfasına her bakım ya da onarımı girin; biliyorsanız sonraki bakım km'sini ve tarihini yazın.
A8: 4. 'Özet' sayfasında tarih aralığını seçin. Filo toplamı ve araç bazında tablo kendiliğinden dolar.
A10: Hangi sütun ne yapıyor?
A11: Mavi başlıklı sütunlar formüldür, üzerine yazmayın. Lacivert başlıklı sütunlar sizin verinizdir.
A12: Araçlar › Durum: belgelerin en yakın bitişi geçtiyse 'Süresi doldu', Özet'teki eşik içindeyse 'Yaklaşıyor' yazar.
A13: Eşik varsayılan olarak 30 gün; Özet sayfasındaki sarı hücreden değiştirebilirsiniz.
A14: Tarihler dosya her açıldığında bugüne göre yeniden hesaplanır.
... A38: Şablon 100 araç, 1000 günlük satır ve 300 bakım satırı için hazırlandı. Fazlası için son satırı aşağı kopyalayın.
