Workbook

Sheet Teklifler
A1: Teklif no | B1: Teklif tarihi | C1: Müşteri | D1: Nereden | E1: Nereye | F1: Yük | G1: Navlun (KDV hariç) | H1: Para birimi | I1: Geçerlilik tarihi | J1: Karar | K1: Karar tarihi | L1: Ret nedeni | M1: Sonraki takip tarihi | N1: Not | O1: Durum | P1: Yanıt süresi (gün) | Q1: Takip
O2: =IF(AND(A2="",C2=""),"",IF(J2="Onaylandı","Onaylandı",IF(J2="Reddedildi","Reddedildi",IF(AND(I2<>"",TODAY()>I2),"Süresi doldu","Açık")))) | P2: =IF(AND(O2<>"",B2<>"",K2<>"",K2>=B2),K2-B2,"") | Q2: =IF(AND(O2="Açık",M2<>"",TODAY()>M2),"Takip gecikti","")
O3: =IF(AND(A3="",C3=""),"",IF(J3="Onaylandı","Onaylandı",IF(J3="Reddedildi","Reddedildi",IF(AND(I3<>"",TODAY()>I3),"Süresi doldu","Açık")))) | P3: =IF(AND(O3<>"",B3<>"",K3<>"",K3>=B3),K3-B3,"") | Q3: =IF(AND(O3="Açık",M3<>"",TODAY()>M3),"Takip gecikti","")
O4: =IF(AND(A4="",C4=""),"",IF(J4="Onaylandı","Onaylandı",IF(J4="Reddedildi","Reddedildi",IF(AND(I4<>"",TODAY()>I4),"Süresi doldu","Açık")))) | P4: =IF(AND(O4<>"",B4<>"",K4<>"",K4>=B4),K4-B4,"") | Q4: =IF(AND(O4="Açık",M4<>"",TODAY()>M4),"Takip gecikti","")
O5: =IF(AND(A5="",C5=""),"",IF(J5="Onaylandı","Onaylandı",IF(J5="Reddedildi","Reddedildi",IF(AND(I5<>"",TODAY()>I5),"Süresi doldu","Açık")))) | P5: =IF(AND(O5<>"",B5<>"",K5<>"",K5>=B5),K5-B5,"") | Q5: =IF(AND(O5="Açık",M5<>"",TODAY()>M5),"Takip gecikti","")
O6: =IF(AND(A6="",C6=""),"",IF(J6="Onaylandı","Onaylandı",IF(J6="Reddedildi","Reddedildi",IF(AND(I6<>"",TODAY()>I6),"Süresi doldu","Açık")))) | P6: =IF(AND(O6<>"",B6<>"",K6<>"",K6>=B6),K6-B6,"") | Q6: =IF(AND(O6="Açık",M6<>"",TODAY()>M6),"Takip gecikti","")
O7: =IF(AND(A7="",C7=""),"",IF(J7="Onaylandı","Onaylandı",IF(J7="Reddedildi","Reddedildi",IF(AND(I7<>"",TODAY()>I7),"Süresi doldu","Açık")))) | P7: =IF(AND(O7<>"",B7<>"",K7<>"",K7>=B7),K7-B7,"") | Q7: =IF(AND(O7="Açık",M7<>"",TODAY()>M7),"Takip gecikti","")
O8: =IF(AND(A8="",C8=""),"",IF(J8="Onaylandı","Onaylandı",IF(J8="Reddedildi","Reddedildi",IF(AND(I8<>"",TODAY()>I8),"Süresi doldu","Açık")))) | P8: =IF(AND(O8<>"",B8<>"",K8<>"",K8>=B8),K8-B8,"") | Q8: =IF(AND(O8="Açık",M8<>"",TODAY()>M8),"Takip gecikti","")
O9: =IF(AND(A9="",C9=""),"",IF(J9="Onaylandı","Onaylandı",IF(J9="Reddedildi","Reddedildi",IF(AND(I9<>"",TODAY()>I9),"Süresi doldu","Açık")))) | P9: =IF(AND(O9<>"",B9<>"",K9<>"",K9>=B9),K9-B9,"") | Q9: =IF(AND(O9="Açık",M9<>"",TODAY()>M9),"Takip gecikti","")
O10: =IF(AND(A10="",C10=""),"",IF(J10="Onaylandı","Onaylandı",IF(J10="Reddedildi","Reddedildi",IF(AND(I10<>"",TODAY()>I10),"Süresi doldu","Açık")))) | P10: =IF(AND(O10<>"",B10<>"",K10<>"",K10>=B10),K10-B10,"") | Q10: =IF(AND(O10="Açık",M10<>"",TODAY()>M10),"Takip gecikti","")
O11: =IF(AND(A11="",C11=""),"",IF(J11="Onaylandı","Onaylandı",IF(J11="Reddedildi","Reddedildi",IF(AND(I11<>"",TODAY()>I11),"Süresi doldu","Açık")))) | P11: =IF(AND(O11<>"",B11<>"",K11<>"",K11>=B11),K11-B11,"") | Q11: =IF(AND(O11="Açık",M11<>"",TODAY()>M11),"Takip gecikti","")
O12: =IF(AND(A12="",C12=""),"",IF(J12="Onaylandı","Onaylandı",IF(J12="Reddedildi","Reddedildi",IF(AND(I12<>"",TODAY()>I12),"Süresi doldu","Açık")))) | P12: =IF(AND(O12<>"",B12<>"",K12<>"",K12>=B12),K12-B12,"") | Q12: =IF(AND(O12="Açık",M12<>"",TODAY()>M12),"Takip gecikti","")
O13: =IF(AND(A13="",C13=""),"",IF(J13="Onaylandı","Onaylandı",IF(J13="Reddedildi","Reddedildi",IF(AND(I13<>"",TODAY()>I13),"Süresi doldu","Açık")))) | P13: =IF(AND(O13<>"",B13<>"",K13<>"",K13>=B13),K13-B13,"") | Q13: =IF(AND(O13="Açık",M13<>"",TODAY()>M13),"Takip gecikti","")
... O201: =IF(AND(A201="",C201=""),"",IF(J201="Onaylandı","Onaylandı",IF(J201="Reddedildi","Reddedildi",IF(AND(I201<>"",TODAY()>I201),"Süresi doldu","Açık")))) | P201: =IF(AND(O201<>"",B201<>"",K201<>"",K201>=B201),K201-B201,"") | Q201: =IF(AND(O201="Açık",M201<>"",TODAY()>M201),"Takip gecikti","")

Sheet Özet
A1: Toplam teklif | B1: =B2+B3+B4+B5
A2: Açık | B2: =COUNTIF('Teklifler'!$O$2:$O$201,"Açık")
A3: Süresi dolan | B3: =COUNTIF('Teklifler'!$O$2:$O$201,"Süresi doldu")
A4: Onaylanan | B4: =COUNTIF('Teklifler'!$O$2:$O$201,"Onaylandı")
A5: Reddedilen | B5: =COUNTIF('Teklifler'!$O$2:$O$201,"Reddedildi")
A6: Onay oranı (açık teklifler hariç) | B6: =IFERROR(B4/(B4+B5+B3),"")
A7: Takibi geciken | B7: =COUNTIF('Teklifler'!$Q$2:$Q$201,"Takip gecikti")
A8: Ortalama yanıt süresi (gün) | B8: =IFERROR(AVERAGE('Teklifler'!$P$2:$P$201),"")
A9: Süresi dolan teklif reddedilmiş sayılır. Süresi henüz dolmamış açık teklifler onay oranına girmez.
A11: Navlun toplamı (para birimine göre, KDV hariç)
A12: Para birimi | B12: Onaylandı | C12: Açık | D12: Süresi doldu | E12: Reddedildi
A13: TL | B13: =SUMIFS('Teklifler'!$G$2:$G$201,'Teklifler'!$O$2:$O$201,"Onaylandı",'Teklifler'!$H$2:$H$201,$A13) | C13: =SUMIFS('Teklifler'!$G$2:$G$201,'Teklifler'!$O$2:$O$201,"Açık",'Teklifler'!$H$2:$H$201,$A13) | D13: =SUMIFS('Teklifler'!$G$2:$G$201,'Teklifler'!$O$2:$O$201,"Süresi doldu",'Teklifler'!$H$2:$H$201,$A13) | E13: =SUMIFS('Teklifler'!$G$2:$G$201,'Teklifler'!$O$2:$O$201,"Reddedildi",'Teklifler'!$H$2:$H$201,$A13)
A14: EUR | B14: =SUMIFS('Teklifler'!$G$2:$G$201,'Teklifler'!$O$2:$O$201,"Onaylandı",'Teklifler'!$H$2:$H$201,$A14) | C14: =SUMIFS('Teklifler'!$G$2:$G$201,'Teklifler'!$O$2:$O$201,"Açık",'Teklifler'!$H$2:$H$201,$A14) | D14: =SUMIFS('Teklifler'!$G$2:$G$201,'Teklifler'!$O$2:$O$201,"Süresi doldu",'Teklifler'!$H$2:$H$201,$A14) | E14: =SUMIFS('Teklifler'!$G$2:$G$201,'Teklifler'!$O$2:$O$201,"Reddedildi",'Teklifler'!$H$2:$H$201,$A14)
A15: USD | B15: =SUMIFS('Teklifler'!$G$2:$G$201,'Teklifler'!$O$2:$O$201,"Onaylandı",'Teklifler'!$H$2:$H$201,$A15) | C15: =SUMIFS('Teklifler'!$G$2:$G$201,'Teklifler'!$O$2:$O$201,"Açık",'Teklifler'!$H$2:$H$201,$A15) | D15: =SUMIFS('Teklifler'!$G$2:$G$201,'Teklifler'!$O$2:$O$201,"Süresi doldu",'Teklifler'!$H$2:$H$201,$A15) | E15: =SUMIFS('Teklifler'!$G$2:$G$201,'Teklifler'!$O$2:$O$201,"Reddedildi",'Teklifler'!$H$2:$H$201,$A15)
A16: Tutarı olup para birimi seçilmemiş teklif | B16: =SUMPRODUCT(('Teklifler'!$G$2:$G$201<>"")*('Teklifler'!$H$2:$H$201=""))
A18: Kaybedilen tekliflerin nedeni
A19: Neden | B19: Adet
A20: Fiyat yüksek | B20: =COUNTIFS('Teklifler'!$O$2:$O$201,"Reddedildi",'Teklifler'!$L$2:$L$201,$A20)
A21: Tarih uymadı | B21: =COUNTIFS('Teklifler'!$O$2:$O$201,"Reddedildi",'Teklifler'!$L$2:$L$201,$A21)
A22: İptal oldu | B22: =COUNTIFS('Teklifler'!$O$2:$O$201,"Reddedildi",'Teklifler'!$L$2:$L$201,$A22)
A23: Müşteri vazgeçti | B23: =COUNTIFS('Teklifler'!$O$2:$O$201,"Reddedildi",'Teklifler'!$L$2:$L$201,$A23)
A24: Diğer | B24: =COUNTIFS('Teklifler'!$O$2:$O$201,"Reddedildi",'Teklifler'!$L$2:$L$201,$A24)
A25: Neden girilmemiş | B25: =B5-SUM(B20:B24)
A26: Süresi doldu (karar gelmedi) | B26: =B3
A28: Müşteri bazında — adı 'Teklifler' sayfasındaki gibi yazın
A29: Müşteri | B29: Teklif | C29: Onaylandı | D29: Onay oranı
B30: =IF($A30="","",COUNTIF('Teklifler'!$C$2:$C$201,$A30)) | C30: =IF($A30="","",COUNTIFS('Teklifler'!$C$2:$C$201,$A30,'Teklifler'!$O$2:$O$201,"Onaylandı")) | D30: =IF($A30="","",IFERROR(C30/(C30+COUNTIFS('Teklifler'!$C$2:$C$201,$A30,'Teklifler'!$O$2:$O$201,"Reddedildi")+COUNTIFS('Teklifler'!$C$2:$C$201,$A30,'Teklifler'!$O$2:$O$201,"Süresi doldu")),""))
B31: =IF($A31="","",COUNTIF('Teklifler'!$C$2:$C$201,$A31)) | C31: =IF($A31="","",COUNTIFS('Teklifler'!$C$2:$C$201,$A31,'Teklifler'!$O$2:$O$201,"Onaylandı")) | D31: =IF($A31="","",IFERROR(C31/(C31+COUNTIFS('Teklifler'!$C$2:$C$201,$A31,'Teklifler'!$O$2:$O$201,"Reddedildi")+COUNTIFS('Teklifler'!$C$2:$C$201,$A31,'Teklifler'!$O$2:$O$201,"Süresi doldu")),""))
B32: =IF($A32="","",COUNTIF('Teklifler'!$C$2:$C$201,$A32)) | C32: =IF($A32="","",COUNTIFS('Teklifler'!$C$2:$C$201,$A32,'Teklifler'!$O$2:$O$201,"Onaylandı")) | D32: =IF($A32="","",IFERROR(C32/(C32+COUNTIFS('Teklifler'!$C$2:$C$201,$A32,'Teklifler'!$O$2:$O$201,"Reddedildi")+COUNTIFS('Teklifler'!$C$2:$C$201,$A32,'Teklifler'!$O$2:$O$201,"Süresi doldu")),""))
B33: =IF($A33="","",COUNTIF('Teklifler'!$C$2:$C$201,$A33)) | C33: =IF($A33="","",COUNTIFS('Teklifler'!$C$2:$C$201,$A33,'Teklifler'!$O$2:$O$201,"Onaylandı")) | D33: =IF($A33="","",IFERROR(C33/(C33+COUNTIFS('Teklifler'!$C$2:$C$201,$A33,'Teklifler'!$O$2:$O$201,"Reddedildi")+COUNTIFS('Teklifler'!$C$2:$C$201,$A33,'Teklifler'!$O$2:$O$201,"Süresi doldu")),""))
B34: =IF($A34="","",COUNTIF('Teklifler'!$C$2:$C$201,$A34)) | C34: =IF($A34="","",COUNTIFS('Teklifler'!$C$2:$C$201,$A34,'Teklifler'!$O$2:$O$201,"Onaylandı")) | D34: =IF($A34="","",IFERROR(C34/(C34+COUNTIFS('Teklifler'!$C$2:$C$201,$A34,'Teklifler'!$O$2:$O$201,"Reddedildi")+COUNTIFS('Teklifler'!$C$2:$C$201,$A34,'Teklifler'!$O$2:$O$201,"Süresi doldu")),""))
B35: =IF($A35="","",COUNTIF('Teklifler'!$C$2:$C$201,$A35)) | C35: =IF($A35="","",COUNTIFS('Teklifler'!$C$2:$C$201,$A35,'Teklifler'!$O$2:$O$201,"Onaylandı")) | D35: =IF($A35="","",IFERROR(C35/(C35+COUNTIFS('Teklifler'!$C$2:$C$201,$A35,'Teklifler'!$O$2:$O$201,"Reddedildi")+COUNTIFS('Teklifler'!$C$2:$C$201,$A35,'Teklifler'!$O$2:$O$201,"Süresi doldu")),""))
B36: =IF($A36="","",COUNTIF('Teklifler'!$C$2:$C$201,$A36)) | C36: =IF($A36="","",COUNTIFS('Teklifler'!$C$2:$C$201,$A36,'Teklifler'!$O$2:$O$201,"Onaylandı")) | D36: =IF($A36="","",IFERROR(C36/(C36+COUNTIFS('Teklifler'!$C$2:$C$201,$A36,'Teklifler'!$O$2:$O$201,"Reddedildi")+COUNTIFS('Teklifler'!$C$2:$C$201,$A36,'Teklifler'!$O$2:$O$201,"Süresi doldu")),""))
B37: =IF($A37="","",COUNTIF('Teklifler'!$C$2:$C$201,$A37)) | C37: =IF($A37="","",COUNTIFS('Teklifler'!$C$2:$C$201,$A37,'Teklifler'!$O$2:$O$201,"Onaylandı")) | D37: =IF($A37="","",IFERROR(C37/(C37+COUNTIFS('Teklifler'!$C$2:$C$201,$A37,'Teklifler'!$O$2:$O$201,"Reddedildi")+COUNTIFS('Teklifler'!$C$2:$C$201,$A37,'Teklifler'!$O$2:$O$201,"Süresi doldu")),""))
B38: =IF($A38="","",COUNTIF('Teklifler'!$C$2:$C$201,$A38)) | C38: =IF($A38="","",COUNTIFS('Teklifler'!$C$2:$C$201,$A38,'Teklifler'!$O$2:$O$201,"Onaylandı")) | D38: =IF($A38="","",IFERROR(C38/(C38+COUNTIFS('Teklifler'!$C$2:$C$201,$A38,'Teklifler'!$O$2:$O$201,"Reddedildi")+COUNTIFS('Teklifler'!$C$2:$C$201,$A38,'Teklifler'!$O$2:$O$201,"Süresi doldu")),""))
B39: =IF($A39="","",COUNTIF('Teklifler'!$C$2:$C$201,$A39)) | C39: =IF($A39="","",COUNTIFS('Teklifler'!$C$2:$C$201,$A39,'Teklifler'!$O$2:$O$201,"Onaylandı")) | D39: =IF($A39="","",IFERROR(C39/(C39+COUNTIFS('Teklifler'!$C$2:$C$201,$A39,'Teklifler'!$O$2:$O$201,"Reddedildi")+COUNTIFS('Teklifler'!$C$2:$C$201,$A39,'Teklifler'!$O$2:$O$201,"Süresi doldu")),""))
B40: =IF($A40="","",COUNTIF('Teklifler'!$C$2:$C$201,$A40)) | C40: =IF($A40="","",COUNTIFS('Teklifler'!$C$2:$C$201,$A40,'Teklifler'!$O$2:$O$201,"Onaylandı")) | D40: =IF($A40="","",IFERROR(C40/(C40+COUNTIFS('Teklifler'!$C$2:$C$201,$A40,'Teklifler'!$O$2:$O$201,"Reddedildi")+COUNTIFS('Teklifler'!$C$2:$C$201,$A40,'Teklifler'!$O$2:$O$201,"Süresi doldu")),""))
B41: =IF($A41="","",COUNTIF('Teklifler'!$C$2:$C$201,$A41)) | C41: =IF($A41="","",COUNTIFS('Teklifler'!$C$2:$C$201,$A41,'Teklifler'!$O$2:$O$201,"Onaylandı")) | D41: =IF($A41="","",IFERROR(C41/(C41+COUNTIFS('Teklifler'!$C$2:$C$201,$A41,'Teklifler'!$O$2:$O$201,"Reddedildi")+COUNTIFS('Teklifler'!$C$2:$C$201,$A41,'Teklifler'!$O$2:$O$201,"Süresi doldu")),""))
... B44: =IF($A44="","",COUNTIF('Teklifler'!$C$2:$C$201,$A44)) | C44: =IF($A44="","",COUNTIFS('Teklifler'!$C$2:$C$201,$A44,'Teklifler'!$O$2:$O$201,"Onaylandı")) | D44: =IF($A44="","",IFERROR(C44/(C44+COUNTIFS('Teklifler'!$C$2:$C$201,$A44,'Teklifler'!$O$2:$O$201,"Reddedildi")+COUNTIFS('Teklifler'!$C$2:$C$201,$A44,'Teklifler'!$O$2:$O$201,"Süresi doldu")),""))

Sheet Nasıl kullanılır
A1: Bu şablon nasıl kullanılır
A3: 1. 'Teklifler' sayfasına verdiğiniz her teklif için bir satır girin: numara, tarih, müşteri, güzergâh, navlun.
A4: Teklif no ya da Müşteri'den biri dolu olan satır teklif sayılır; numara tutmuyorsanız yalnız müşteriyi yazmanız yeter.
A5: 2. Karar çıkınca 'Karar' sütunundan Onaylandı ya da Reddedildi seçin ve karar tarihini yazın. Reddedildiyse nedenini seçin.
A6: 3. Mavi başlıklı sütunlar formüldür, üzerine yazmayın: Durum · Yanıt süresi (gün) · Takip.
A7: 4. 'Özet' sayfası açık, onaylanan, reddedilen ve süresi dolan teklifleri, onay oranını ve para birimine göre navlun toplamını kendiliğinden verir.
A9: Durum nasıl belirleniyor?
A10: Karar sütunu doluysa durum karardır. Karar boşsa ve Geçerlilik tarihi bugünden önceyse durum 'Süresi doldu', değilse 'Açık' olur.
A11: Dosya her açıldığında bugünün tarihine göre yeniden hesaplanır. Geçerlilik tarihi boşsa teklif 'Açık' kalır.
A13: Onay oranı nasıl hesaplanıyor?
A14: Onay oranı = Onaylanan ÷ (Onaylanan + Reddedilen + Süresi dolan). Süresi dolan teklif, karar gelmeden kapanmış sayılır.
A15: Süresi henüz dolmamış 'Açık' teklifler paydaya girmez: karar vermemiş bir müşteri başarısızlık sayılmaz.
... A28: Şablon 200 satır için hazırlandı. Daha fazlası için son satırı aşağı kopyalayın.
